From mboxrd@z Thu Jan  1 00:00:00 1970
Return-Path: <test-report-bounces@dpdk.org>
Received: from mails.dpdk.org (mails.dpdk.org [217.70.189.124])
	by inbox.dpdk.org (Postfix) with ESMTP id 0B611440E3
	for <public@inbox.dpdk.org>; Wed, 29 May 2024 19:29:30 +0200 (CEST)
Received: from mails.dpdk.org (localhost [127.0.0.1])
	by mails.dpdk.org (Postfix) with ESMTP id 0515B4026F;
	Wed, 29 May 2024 19:29:30 +0200 (CEST)
Received: from mail-yw1-f226.google.com (mail-yw1-f226.google.com
 [209.85.128.226])
 by mails.dpdk.org (Postfix) with ESMTP id 6AE824026F
 for <test-report@dpdk.org>; Wed, 29 May 2024 19:28:55 +0200 (CEST)
Received: by mail-yw1-f226.google.com with SMTP id
 00721157ae682-62c5fd61d2bso10633057b3.3
 for <test-report@dpdk.org>; Wed, 29 May 2024 10:28:55 -0700 (PDT)
DKIM-Signature: v=1; a=rsa-sha256; c=relaxed/relaxed;
 d=iol.unh.edu; s=unh-iol; t=1717003735; x=1717608535; darn=dpdk.org;
 h=references:in-reply-to:cc:to:from:subject:message-id:date:from:to
 :cc:subject:date:message-id:reply-to;
 bh=9Vd/UpfPTY/UToqiX5EhXa8usmK0IL2a2arba57N5Ks=;
 b=XXs89Q5c2hPhEPH+Go+DLUr05zEXZAB57uaAJhLIP3WvMMiT/BuPZahzuJU+pMVnjU
 N6zW5E5k2R/ddBIKx2YVBRfq/FbnSAHSZtVl2WNNu+Ot3a8B5D4DC4pZp4qJyjTByFtA
 +eYS0Til9IuNKq4WSOzmJ5a6bILhfcde3042s=
X-Google-DKIM-Signature: v=1; a=rsa-sha256; c=relaxed/relaxed;
 d=1e100.net; s=20230601; t=1717003735; x=1717608535;
 h=references:in-reply-to:cc:to:from:subject:message-id:date
 :x-gm-message-state:from:to:cc:subject:date:message-id:reply-to;
 bh=9Vd/UpfPTY/UToqiX5EhXa8usmK0IL2a2arba57N5Ks=;
 b=XWi1ARnQc8fForYYSlA1NYBVjpEVN5+YNr544olWCteIKqYqhrtAe5Ghbwctlu2TaU
 /EfG+foENNCTZbCm8z5ODgSQhRwuVAWB1I65LX6UGqYingKsh8Try6aI76WWEJAFX0Um
 GOiV18Pt7pYeykGblH1fz6k1X8ocI717vhCuy+23sUbNNmMqNNPxAAgL9+YF82Qd3RJ1
 jOniuHrcZDN3DYN1cL6FbWAUbBcvPpQPn3p/r8S1rt37Y9n6gac1gLMOo51k7zUhCT5D
 vC89DYWlPDPqrl/wzWOYiUXmg0wz7eHSoRSsdDTg7DCQdW6FYPeHmDsdhQX6cAtoUUkw
 xNVw==
X-Gm-Message-State: AOJu0Yx5R/y+WkVK2arSrGw3Cxc0MjSZ8DqpE7JhOEft8+GfjAdemMwR
 iwb9+zQPotVw8mO9bxnO4qbfpLyDdmrxTt8hEAwQFDg3ZNj2foe46ixselrjMwVFbNWBg/4Hmrf
 P+pd3uEU0yoGFB0GHkXSZ7h/4iXA/qz2+Tm4dUd35T+xx0CaCWFMderco
X-Google-Smtp-Source: AGHT+IHdU6j1TVkCZxiltw7/E4ZouY01VtGaWe04xJCkHrwL6pbtORKfokz4GUrDodqKMJMjAMJQGCT9cg5u
X-Received: by 2002:a05:690c:fcb:b0:61a:cc3c:ae69 with SMTP id
 00721157ae682-62a08da023dmr196061667b3.18.1717003734439; 
 Wed, 29 May 2024 10:28:54 -0700 (PDT)
Received: from postal.iol.unh.edu (postal.iol.unh.edu.
 [2606:4100:3880:1234::84]) by smtp-relay.gmail.com with ESMTPS id
 00721157ae682-62a0a4db8f2sm9836697b3.54.2024.05.29.10.28.54
 (version=TLS1_2 cipher=ECDHE-ECDSA-AES128-GCM-SHA256 bits=128/128);
 Wed, 29 May 2024 10:28:54 -0700 (PDT)
X-Relaying-Domain: iol.unh.edu
Date: Wed, 29 May 2024 10:28:54 -0700 (PDT)
Message-ID: <665765d6.050a0220.3d9ab.d8daSMTPIN_ADDED_MISSING@mx.google.com>
Received: from [172.17.0.4] (unknown [172.18.0.217])
 by postal.iol.unh.edu (Postfix) with ESMTP id CB2E1605C373;
 Wed, 29 May 2024 13:28:52 -0400 (EDT)
Subject: |SUCCESS| pw140391 [PATCH] maintainers: update for networking mlx5 d
From: dpdklab@iol.unh.edu
To: Test Report <test-report@dpdk.org>
Cc: dpdk-test-reports@iol.unh.edu
In-Reply-To: <20240529112038.12904-1-dsosnowski@nvidia.com>
References: <20240529112038.12904-1-dsosnowski@nvidia.com>
Content-Type: text/plain
X-BeenThere: test-report@dpdk.org
X-Mailman-Version: 2.1.29
Precedence: list
List-Id: automatic DPDK test reports <test-report.dpdk.org>
List-Unsubscribe: <https://mails.dpdk.org/options/test-report>,
 <mailto:test-report-request@dpdk.org?subject=unsubscribe>
List-Archive: <http://mails.dpdk.org/archives/test-report/>
List-Post: <mailto:test-report@dpdk.org>
List-Help: <mailto:test-report-request@dpdk.org?subject=help>
List-Subscribe: <https://mails.dpdk.org/listinfo/test-report>,
 <mailto:test-report-request@dpdk.org?subject=subscribe>
Errors-To: test-report-bounces@dpdk.org

Test-Label: iol-compile-amd64-testing
Test-Status: SUCCESS
http://dpdk.org/patch/140391

_Testing PASS_

Submitter: Dariusz Sosnowski <dsosnowski@nvidia.com>
Date: Wednesday, May 29 2024 11:20:38 
DPDK git baseline: Repo:dpdk
  Branch: master
  CommitID:76cef1af8bdaeaf67a5c4ca5df3f221df994dc46

140391 --> testing pass

Test environment and result as below:

+---------------------+--------------------+------------------+----------------------+-------------------+
|     Environment     | dpdk_meson_compile | dpdk_compile_ovs | dpdk_mingw64_compile | dpdk_msvc_compile |
+=====================+====================+==================+======================+===================+
| FreeBSD 13.3        | PASS               | SKIPPED          | SKIPPED              | SKIPPED           |
+---------------------+--------------------+------------------+----------------------+-------------------+
| CentOS Stream 8     | PASS               | PASS             | SKIPPED              | SKIPPED           |
+---------------------+--------------------+------------------+----------------------+-------------------+
| Windows Server 2019 | PASS               | SKIPPED          | PASS                 | SKIPPED           |
+---------------------+--------------------+------------------+----------------------+-------------------+
| Windows Server 2022 | PASS               | SKIPPED          | PASS                 | PASS              |
+---------------------+--------------------+------------------+----------------------+-------------------+
| Debian Bullseye     | PASS               | PASS             | SKIPPED              | SKIPPED           |
+---------------------+--------------------+------------------+----------------------+-------------------+
| CentOS Stream 9     | PASS               | PASS             | SKIPPED              | SKIPPED           |
+---------------------+--------------------+------------------+----------------------+-------------------+
| Fedora 39           | PASS               | PASS             | SKIPPED              | SKIPPED           |
+---------------------+--------------------+------------------+----------------------+-------------------+
| Ubuntu 22.04        | PASS               | PASS             | SKIPPED              | SKIPPED           |
+---------------------+--------------------+------------------+----------------------+-------------------+
| FreeBSD 14.0        | PASS               | SKIPPED          | SKIPPED              | SKIPPED           |
+---------------------+--------------------+------------------+----------------------+-------------------+
| Alpine              | PASS               | SKIPPED          | SKIPPED              | SKIPPED           |
+---------------------+--------------------+------------------+----------------------+-------------------+
| Fedora 38           | PASS               | PASS             | SKIPPED              | SKIPPED           |
+---------------------+--------------------+------------------+----------------------+-------------------+
| Ubuntu 24.04        | PASS               | PASS             | SKIPPED              | SKIPPED           |
+---------------------+--------------------+------------------+----------------------+-------------------+
| RHEL8               | PASS               | PASS             | SKIPPED              | SKIPPED           |
+---------------------+--------------------+------------------+----------------------+-------------------+
| Fedora 37           | PASS               | PASS             | SKIPPED              | SKIPPED           |
+---------------------+--------------------+------------------+----------------------+-------------------+
| Ubuntu 20.04        | PASS               | PASS             | SKIPPED              | SKIPPED           |
+---------------------+--------------------+------------------+----------------------+-------------------+
| Debian 12           | PASS               | PASS             | SKIPPED              | SKIPPED           |
+---------------------+--------------------+------------------+----------------------+-------------------+


FreeBSD 13.3
	Kernel: 13.3-RELEASE-p1
	Compiler: clang 17.0.6

CentOS Stream 8
	Kernel: 5.4.0-167-generic
	Compiler: gcc 8.5.0 20210514

Windows Server 2019
	Kernel: 10.0.17763
	Compiler: clang 14.0 and gcc 8.1.0 (MinGW)

Windows Server 2022
	Kernel: 10.0.20348.2031
	Compiler: clang 15.0.7, gcc 8.1.0 (MinGW), and MSVC VS 17.9

Debian Bullseye
	Kernel: 5.4.0-167-generic
	Compiler: gcc 10.2.1-6

CentOS Stream 9
	Kernel: 5.4.0-167-generic
	Compiler: gcc 11.4.1 20230605

Fedora 39
	Kernel: Depends on container host
	Compiler: gcc 13.2.1

Ubuntu 22.04
	Kernel: 5.4.0-167-generic
	Compiler: gcc 11.4.0

FreeBSD 14.0
	Kernel: 14.0
	Compiler: clang 16.0.6

Alpine
	Kernel: 5.4.0-167-generic
	Compiler: gcc (Alpine 13.2.1_git20231014) 13.2.1 20231014

Fedora 38
	Kernel: Depends on container host
	Compiler: gcc 13.2.1

Ubuntu 24.04
	Kernel: 5.4.0-167-generic
	Compiler: gcc 13.2.0

RHEL8
	Kernel: 5.4.0-167-generic
	Compiler: gcc 8.5.0 20210514 (Red Hat 8.5.0-20)

Fedora 37
	Kernel: Depends on container host system
	Compiler: gcc 12.3.1

Ubuntu 20.04
	Kernel: 5.4.0-167-generic
	Compiler: gcc 9.4.0-1ubuntu1~20.04.1

Debian 12
	Kernel: Container Host Kernel
	Compiler: gcc 10.2.1

To view detailed results, visit:
https://lab.dpdk.org/results/dashboard/patchsets/30037/

UNH-IOL DPDK Community Lab

To manage your email subscriptions, visit: 
https://lab.dpdk.org/results/dashboard/preferences/subscriptions/