From mboxrd@z Thu Jan  1 00:00:00 1970
Return-Path: <test-report-bounces@dpdk.org>
Received: from mails.dpdk.org (mails.dpdk.org [217.70.189.124])
	by inbox.dpdk.org (Postfix) with ESMTP id 33F30440F9
	for <public@inbox.dpdk.org>; Wed, 29 May 2024 19:39:28 +0200 (CEST)
Received: from mails.dpdk.org (localhost [127.0.0.1])
	by mails.dpdk.org (Postfix) with ESMTP id 2A5F240273;
	Wed, 29 May 2024 19:39:28 +0200 (CEST)
Received: from mail-il1-f226.google.com (mail-il1-f226.google.com
 [209.85.166.226])
 by mails.dpdk.org (Postfix) with ESMTP id 2318E4026F
 for <test-report@dpdk.org>; Wed, 29 May 2024 19:39:27 +0200 (CEST)
Received: by mail-il1-f226.google.com with SMTP id
 e9e14a558f8ab-37342d1d9edso9474125ab.3
 for <test-report@dpdk.org>; Wed, 29 May 2024 10:39:27 -0700 (PDT)
DKIM-Signature: v=1; a=rsa-sha256; c=relaxed/relaxed;
 d=iol.unh.edu; s=unh-iol; t=1717004366; x=1717609166; darn=dpdk.org;
 h=references:in-reply-to:cc:to:from:subject:message-id:date:from:to
 :cc:subject:date:message-id:reply-to;
 bh=uF0t0C890HeoROB2DiBSOuxRFUxhdogF6iLTt1ng0fA=;
 b=UzrGBA8rvVdEI6mGEWA+31sr+QaDg9SxctzIkpxZVcDsJqiXWRYatnTdNqjlmsquQ2
 qzrAPYFQq7ZoONKCzSAhhpKY+oD56tvZiCqGe/lsbVZOzq/vmRC6aGbFYdXlKH63156A
 pOs1qwNPNeX313TEjxl0DbWSyZtelDTGPAAr0=
X-Google-DKIM-Signature: v=1; a=rsa-sha256; c=relaxed/relaxed;
 d=1e100.net; s=20230601; t=1717004366; x=1717609166;
 h=references:in-reply-to:cc:to:from:subject:message-id:date
 :x-gm-message-state:from:to:cc:subject:date:message-id:reply-to;
 bh=uF0t0C890HeoROB2DiBSOuxRFUxhdogF6iLTt1ng0fA=;
 b=ja0Ahu0UMc7GDCueuAJuWxdSLo9l+0DQmap6NFJV91Zesfm4tl0GEOtNnfwyDZ84uD
 NxZ7obRQOfPXgz/k0cqZKhFWmik3xckVjdjAKbeygcEdCxwTb/I1Qp0+vnj/igKRJ6dB
 r0LCjBm69Nbj04npC8D16b15DxotlU8iJO1ADMZ2lj9gurpQL6gWPTAwD/ig6SszFE2x
 o4413jcmX5PyDFLNYlfum+vtmjDqzAdRhGs7V520YWfBHUzWqGYqnyJUvS2naDYsJDTT
 MEHZfBmCLCfEWR+EIlSAkLsHDdJPVcW+2Y1GUuo+v1ooNOohplzgkQT6yWSiViseBK25
 rowQ==
X-Gm-Message-State: AOJu0YxFP4DARWyuCx+N/0Q3wM3NlFogr34PBZ+trMmVEQ7/w3ckPQO3
 2rsLt3brJoeW/9Lco52QxQQjMKfFSUO7MdW7X731pU6s6Dcf2PkTIbjaELbJuu16ezpscrEk7+c
 fqpyZOld1rfRGpUGTgkELsQPbHgXoVqSVsEwrilOw
X-Google-Smtp-Source: AGHT+IHxDrwYnO8mMVblHxJcDAVe4GM2mbx7WRTZQvsyzWBwKVlCvFTIN6CRWtvl40DZdPAlbgUy5IbtcUeK
X-Received: by 2002:a05:6e02:15c7:b0:371:ea98:cc69 with SMTP id
 e9e14a558f8ab-3737b39c9eamr183997025ab.26.1717004366472; 
 Wed, 29 May 2024 10:39:26 -0700 (PDT)
Received: from postal.iol.unh.edu (postal.iol.unh.edu. [132.177.123.84])
 by smtp-relay.gmail.com with ESMTPS id
 8926c6da1cb9f-4b03e847644sm1275746173.21.2024.05.29.10.39.26
 (version=TLS1_2 cipher=ECDHE-ECDSA-AES128-GCM-SHA256 bits=128/128);
 Wed, 29 May 2024 10:39:26 -0700 (PDT)
X-Relaying-Domain: iol.unh.edu
Date: Wed, 29 May 2024 10:39:26 -0700 (PDT)
Message-ID: <6657684e.050a0220.778b3.754dSMTPIN_ADDED_MISSING@mx.google.com>
Received: from [172.17.0.4] (unknown [172.18.0.217])
 by postal.iol.unh.edu (Postfix) with ESMTP id ADC16605C373;
 Wed, 29 May 2024 13:39:25 -0400 (EDT)
Subject: |SUCCESS| pw140391 [PATCH] maintainers: update for networking mlx5 d
From: dpdklab@iol.unh.edu
To: Test Report <test-report@dpdk.org>
Cc: dpdk-test-reports@iol.unh.edu
In-Reply-To: <20240529112038.12904-1-dsosnowski@nvidia.com>
References: <20240529112038.12904-1-dsosnowski@nvidia.com>
Content-Type: text/plain
X-BeenThere: test-report@dpdk.org
X-Mailman-Version: 2.1.29
Precedence: list
List-Id: automatic DPDK test reports <test-report.dpdk.org>
List-Unsubscribe: <https://mails.dpdk.org/options/test-report>,
 <mailto:test-report-request@dpdk.org?subject=unsubscribe>
List-Archive: <http://mails.dpdk.org/archives/test-report/>
List-Post: <mailto:test-report@dpdk.org>
List-Help: <mailto:test-report-request@dpdk.org?subject=help>
List-Subscribe: <https://mails.dpdk.org/listinfo/test-report>,
 <mailto:test-report-request@dpdk.org?subject=subscribe>
Errors-To: test-report-bounces@dpdk.org

Test-Label: iol-unit-arm64-testing
Test-Status: SUCCESS
http://dpdk.org/patch/140391

_Testing PASS_

Submitter: Dariusz Sosnowski <dsosnowski@nvidia.com>
Date: Wednesday, May 29 2024 11:20:38 
DPDK git baseline: Repo:dpdk
  Branch: master
  CommitID:76cef1af8bdaeaf67a5c4ca5df3f221df994dc46

140391 --> testing pass

Test environment and result as below:

+--------------------------+----------------+------------------------------+---------------------------+
|       Environment        | dpdk_unit_test | cryptodev_sw_snow3g_autotest | cryptodev_sw_zuc_autotest |
+==========================+================+==============================+===========================+
| Debian 12 (arm)          | PASS           | PASS                         | PASS                      |
+--------------------------+----------------+------------------------------+---------------------------+
| Fedora 37 (ARM)          | PASS           | SKIPPED                      | SKIPPED                   |
+--------------------------+----------------+------------------------------+---------------------------+
| CentOS Stream 9 (ARM)    | PASS           | SKIPPED                      | SKIPPED                   |
+--------------------------+----------------+------------------------------+---------------------------+
| Fedora 38 (ARM)          | PASS           | SKIPPED                      | SKIPPED                   |
+--------------------------+----------------+------------------------------+---------------------------+
| Debian 11 (Buster) (ARM) | PASS           | SKIPPED                      | SKIPPED                   |
+--------------------------+----------------+------------------------------+---------------------------+
| Fedora 39 (ARM)          | PASS           | SKIPPED                      | SKIPPED                   |
+--------------------------+----------------+------------------------------+---------------------------+
| Ubuntu 20.04 (ARM)       | PASS           | SKIPPED                      | SKIPPED                   |
+--------------------------+----------------+------------------------------+---------------------------+


Debian 12 (arm)
	Kernel: Container Host Kernel
	Compiler: gcc 12.2.0

Fedora 37 (ARM)
	Kernel: Depends on container host
	Compiler: gcc 12.3.1

CentOS Stream 9 (ARM)
	Kernel: Container Host Kernel
	Compiler: gcc 11.4.1

Fedora 38 (ARM)
	Kernel: Depends on container host
	Compiler: gcc 13.2.1

Debian 11 (Buster) (ARM)
	Kernel: Container Host Kernel
	Compiler: gcc 10.2.1

Fedora 39 (ARM)
	Kernel: Depends on container host
	Compiler: gcc 13.2.1

Ubuntu 20.04 (ARM)
	Kernel: Container Host Kernel
	Compiler: gcc 9.4.0

To view detailed results, visit:
https://lab.dpdk.org/results/dashboard/patchsets/30037/

UNH-IOL DPDK Community Lab

To manage your email subscriptions, visit: 
https://lab.dpdk.org/results/dashboard/preferences/subscriptions/