From mboxrd@z Thu Jan  1 00:00:00 1970
Return-Path: <test-report-bounces@dpdk.org>
Received: from mails.dpdk.org (mails.dpdk.org [217.70.189.124])
	by inbox.dpdk.org (Postfix) with ESMTP id 8853D44107
	for <public@inbox.dpdk.org>; Thu, 30 May 2024 00:00:28 +0200 (CEST)
Received: from mails.dpdk.org (localhost [127.0.0.1])
	by mails.dpdk.org (Postfix) with ESMTP id 81734402AC;
	Thu, 30 May 2024 00:00:28 +0200 (CEST)
Received: from mail-io1-f99.google.com (mail-io1-f99.google.com
 [209.85.166.99]) by mails.dpdk.org (Postfix) with ESMTP id 1995440289
 for <test-report@dpdk.org>; Thu, 30 May 2024 00:00:27 +0200 (CEST)
Received: by mail-io1-f99.google.com with SMTP id
 ca18e2360f4ac-7ea0b5e0977so9640639f.2
 for <test-report@dpdk.org>; Wed, 29 May 2024 15:00:27 -0700 (PDT)
DKIM-Signature: v=1; a=rsa-sha256; c=relaxed/relaxed;
 d=iol.unh.edu; s=unh-iol; t=1717020026; x=1717624826; darn=dpdk.org;
 h=references:in-reply-to:cc:to:from:subject:message-id:date:from:to
 :cc:subject:date:message-id:reply-to;
 bh=Sg6N+yMu2KrRR66cqe4NV++oaPeGITuRgNBhe3zRdBg=;
 b=hVaZaFqM7utFLk6ObtHXfuDieKTHDjL/irKuHzZQqxvGFzA2DjkANiLiAbxXFKVIHN
 fcUR9JhIRyZ64bdWqhcdQzh7tpYuXl71FO8nO/OeQYzaM9HKywethfkOfNOukKPaaFlV
 /jO66ETWph/WyF1P2ITSxU9MQBqIDMCIyv4s8=
X-Google-DKIM-Signature: v=1; a=rsa-sha256; c=relaxed/relaxed;
 d=1e100.net; s=20230601; t=1717020026; x=1717624826;
 h=references:in-reply-to:cc:to:from:subject:message-id:date
 :x-gm-message-state:from:to:cc:subject:date:message-id:reply-to;
 bh=Sg6N+yMu2KrRR66cqe4NV++oaPeGITuRgNBhe3zRdBg=;
 b=EQRlT2qNWKNaOK5rKkU/Kj1zOsjiC8yJ2jCQZPB13WxJKj0z2NV6Ggq/Nnr2OYubvc
 T3DkT6xRMaQGCxvDvn2+dBnbqfWXMJl5BND0OjjW5TaGbm1Tjj2oxoIAWNVBvXuaJ+g+
 HAFidBebTfLIydGzT/NhHD3ZMoU0h8mCxEfh7YXEJe8KbJox7u0mvTyu0kySod4QYXHT
 6SJO9VyfCqty/eP6ood6lJQFF9w3E4cjWUs+B9P506G3kU6v2jMi9T2smAbYiN98ey8p
 gcGFcylJUDEv3z9rExVkkZF8C9EMhOpkwgFX349bsc/UW8NistoGXl4NEjF57SmnMBeC
 PlDQ==
X-Gm-Message-State: AOJu0YyHTKetgiQWgi9QOqCLyvesk/yVNlDF40Flyp+NWQ3SseL9LcxI
 kG/r2vK9AOhkYo5Ip/GyZ4qrp8qfD5jFQXNZXIG5fkMDUhB/Uc3eE+xnTVVmQrsiBvVja8rplZ2
 TdOzbl6IZ6mDKX5FYVXkNOkPPsAE5h8115xoCiWfR
X-Google-Smtp-Source: AGHT+IHh3zDzQXOM+lpdWuozigmsKOj2YJlcbVltHcEekM+mSLR5Zb+8D8u0XhFBp6J82tGv69A+x7s/8cAW
X-Received: by 2002:a05:6602:160a:b0:7e1:7b87:add3 with SMTP id
 ca18e2360f4ac-7eaf5b70c5cmr30632939f.0.1717020026513; 
 Wed, 29 May 2024 15:00:26 -0700 (PDT)
Received: from postal.iol.unh.edu (postal.iol.unh.edu. [132.177.123.84])
 by smtp-relay.gmail.com with ESMTPS id
 8926c6da1cb9f-4b03e824842sm1325667173.9.2024.05.29.15.00.26
 (version=TLS1_2 cipher=ECDHE-ECDSA-AES128-GCM-SHA256 bits=128/128);
 Wed, 29 May 2024 15:00:26 -0700 (PDT)
X-Relaying-Domain: iol.unh.edu
Date: Wed, 29 May 2024 15:00:26 -0700 (PDT)
Message-ID: <6657a57a.050a0220.c9834.a94aSMTPIN_ADDED_MISSING@mx.google.com>
Received: from [172.21.0.6] (unknown [172.18.0.240])
 by postal.iol.unh.edu (Postfix) with ESMTP id EEA02605C373;
 Wed, 29 May 2024 18:00:25 -0400 (EDT)
Subject: |SUCCESS| pw140397-140399 [PATCH] [v3,3/3] dts: Improve logging for 
From: dpdklab@iol.unh.edu
To: Test Report <test-report@dpdk.org>
Cc: dpdk-test-reports@iol.unh.edu
In-Reply-To: <20240529194910.26803-4-jspewock@iol.unh.edu>
References: <20240529194910.26803-4-jspewock@iol.unh.edu>
Content-Type: text/plain
X-BeenThere: test-report@dpdk.org
X-Mailman-Version: 2.1.29
Precedence: list
List-Id: automatic DPDK test reports <test-report.dpdk.org>
List-Unsubscribe: <https://mails.dpdk.org/options/test-report>,
 <mailto:test-report-request@dpdk.org?subject=unsubscribe>
List-Archive: <http://mails.dpdk.org/archives/test-report/>
List-Post: <mailto:test-report@dpdk.org>
List-Help: <mailto:test-report-request@dpdk.org?subject=help>
List-Subscribe: <https://mails.dpdk.org/listinfo/test-report>,
 <mailto:test-report-request@dpdk.org?subject=subscribe>
Errors-To: test-report-bounces@dpdk.org

Test-Label: iol-unit-arm64-testing
Test-Status: SUCCESS
http://dpdk.org/patch/140399

_Testing PASS_

Submitter: Jeremy Spewock <jspewock@iol.unh.edu>
Date: Wednesday, May 29 2024 19:49:10 
DPDK git baseline: Repo:dpdk
  Branch: master
  CommitID:76cef1af8bdaeaf67a5c4ca5df3f221df994dc46

140397-140399 --> testing pass

Test environment and result as below:

+---------------------+----------------+
|     Environment     | dpdk_unit_test |
+=====================+================+
| Windows Server 2019 | PASS           |
+---------------------+----------------+
| CentOS Stream 8     | PASS           |
+---------------------+----------------+
| Debian 12           | PASS           |
+---------------------+----------------+


Windows Server 2019
	Kernel: 10.0.17763
	Compiler: clang 14.0 and gcc 8.1.0 (MinGW)

CentOS Stream 8
	Kernel: 5.4.0-167-generic
	Compiler: gcc 8.5.0 20210514

Debian 12
	Kernel: Container Host Kernel
	Compiler: gcc 10.2.1

To view detailed results, visit:
https://lab.dpdk.org/results/dashboard/patchsets/30041/

UNH-IOL DPDK Community Lab

To manage your email subscriptions, visit: 
https://lab.dpdk.org/results/dashboard/preferences/subscriptions/