From mboxrd@z Thu Jan  1 00:00:00 1970
Return-Path: <test-report-bounces@dpdk.org>
Received: from mails.dpdk.org (mails.dpdk.org [217.70.189.124])
	by inbox.dpdk.org (Postfix) with ESMTP id E312F44107
	for <public@inbox.dpdk.org>; Thu, 30 May 2024 00:39:12 +0200 (CEST)
Received: from mails.dpdk.org (localhost [127.0.0.1])
	by mails.dpdk.org (Postfix) with ESMTP id D9123402AC;
	Thu, 30 May 2024 00:39:12 +0200 (CEST)
Received: from mail-pl1-f227.google.com (mail-pl1-f227.google.com
 [209.85.214.227])
 by mails.dpdk.org (Postfix) with ESMTP id 6075240289
 for <test-report@dpdk.org>; Thu, 30 May 2024 00:39:11 +0200 (CEST)
Received: by mail-pl1-f227.google.com with SMTP id
 d9443c01a7336-1f480624d04so2846285ad.2
 for <test-report@dpdk.org>; Wed, 29 May 2024 15:39:11 -0700 (PDT)
DKIM-Signature: v=1; a=rsa-sha256; c=relaxed/relaxed;
 d=iol.unh.edu; s=unh-iol; t=1717022350; x=1717627150; darn=dpdk.org;
 h=references:in-reply-to:cc:to:from:subject:message-id:date:from:to
 :cc:subject:date:message-id:reply-to;
 bh=PTkqTXzcaHSsTRMBSTgXMud9IcL1SFnP4gyn5q0xMQs=;
 b=NMvaBfGHDFtjQAl+7pNTJHQAsqyNQIbSzFbM5if51Na3cMNl93gDFgOPaURn0eO/Ms
 fIcTTOlJaIH6Ip+q5UeO2bJB1TeFFyvBnaK0Fk++g4UdBUYJdN3I/mWUODZDEcNzROvp
 ThfSaoW9+84aMQDEp8t9cCnnLAhfzoiFiZ4w0=
X-Google-DKIM-Signature: v=1; a=rsa-sha256; c=relaxed/relaxed;
 d=1e100.net; s=20230601; t=1717022350; x=1717627150;
 h=references:in-reply-to:cc:to:from:subject:message-id:date
 :x-gm-message-state:from:to:cc:subject:date:message-id:reply-to;
 bh=PTkqTXzcaHSsTRMBSTgXMud9IcL1SFnP4gyn5q0xMQs=;
 b=RXN1gJOa2bqNBbpZhbgCWGIw/IefQ/X+xQKD2TrhLN4KMNe081oIUm4AawSnIIQYUf
 v0MRhyh8VqCoqmkkA3QXSDFcuu7GY1U77/mwkX/1fHs1L9H9W989/PtQkoHMThTgV+Zg
 TR6Xt7L0thWdbUuh3g73q7s2Y9+4eEkTNRbfzQNY+assvyK1xt/dw5C1xSMReNMoVWsW
 Uc9qVkJRzcOnN9DOyNTMBzSM3741FOTNlsPSwDyVHeBvqbc4ddsig8TE9/3ywsvuCFYa
 5wRtTSdWFVO4ubOTQDP3sE0sa649mYmnt384fxOMFupbOZQx6rdmcizMlG+cGp7lSocD
 CdgQ==
X-Gm-Message-State: AOJu0YymFiRMlfQKDhJScVSh9D26glwj3m0nI3BYs7gHki8K8SC1aIdT
 M5iAEgR4W3HInVlQbt4HH+ggkODB7RHe9fk3vaMaQ+9eUycO9/z0iK+O1TyURHKoRQ8g5wvo5ZV
 qgc4hgC8W2JEjYbJYKg/uJmzPCOzEvBlAjzLNJgxI
X-Google-Smtp-Source: AGHT+IER14UV9jvpigYmWCy9AV2Gs2vuby4qC89OILDR7cBdVluFNjiL2V0HmeKC+bQdZGsirILWt4xEK000
X-Received: by 2002:a17:902:e5cd:b0:1f4:6986:720a with SMTP id
 d9443c01a7336-1f61960c69emr5286615ad.31.1717022350513; 
 Wed, 29 May 2024 15:39:10 -0700 (PDT)
Received: from postal.iol.unh.edu (postal.iol.unh.edu. [132.177.123.84])
 by smtp-relay.gmail.com with ESMTPS id
 d9443c01a7336-1f60be61b88sm143135ad.116.2024.05.29.15.39.08
 (version=TLS1_2 cipher=ECDHE-ECDSA-AES128-GCM-SHA256 bits=128/128);
 Wed, 29 May 2024 15:39:08 -0700 (PDT)
X-Relaying-Domain: iol.unh.edu
Date: Wed, 29 May 2024 15:39:08 -0700 (PDT)
Message-ID: <6657ae8c.170a0220.1a2ee0.0cfbSMTPIN_ADDED_MISSING@mx.google.com>
Received: from [172.21.0.6] (unknown [172.18.0.240])
 by postal.iol.unh.edu (Postfix) with ESMTP id F212A605C373;
 Wed, 29 May 2024 18:39:07 -0400 (EDT)
Subject: |SUCCESS| pw140397-140399 [PATCH] [v3,3/3] dts: Improve logging for 
From: dpdklab@iol.unh.edu
To: Test Report <test-report@dpdk.org>
Cc: dpdk-test-reports@iol.unh.edu
In-Reply-To: <20240529194910.26803-4-jspewock@iol.unh.edu>
References: <20240529194910.26803-4-jspewock@iol.unh.edu>
Content-Type: text/plain
X-BeenThere: test-report@dpdk.org
X-Mailman-Version: 2.1.29
Precedence: list
List-Id: automatic DPDK test reports <test-report.dpdk.org>
List-Unsubscribe: <https://mails.dpdk.org/options/test-report>,
 <mailto:test-report-request@dpdk.org?subject=unsubscribe>
List-Archive: <http://mails.dpdk.org/archives/test-report/>
List-Post: <mailto:test-report@dpdk.org>
List-Help: <mailto:test-report-request@dpdk.org?subject=help>
List-Subscribe: <https://mails.dpdk.org/listinfo/test-report>,
 <mailto:test-report-request@dpdk.org?subject=subscribe>
Errors-To: test-report-bounces@dpdk.org

Test-Label: iol-unit-amd64-testing
Test-Status: SUCCESS
http://dpdk.org/patch/140399

_Testing PASS_

Submitter: Jeremy Spewock <jspewock@iol.unh.edu>
Date: Wednesday, May 29 2024 19:49:10 
DPDK git baseline: Repo:dpdk
  Branch: master
  CommitID:76cef1af8bdaeaf67a5c4ca5df3f221df994dc46

140397-140399 --> testing pass

Test environment and result as below:

+--------------------------+----------------+------------------------------+---------------------------+----------------------+--------------+
|       Environment        | dpdk_unit_test | cryptodev_sw_snow3g_autotest | cryptodev_sw_zuc_autotest | dpdk_fips_validation | lpm_autotest |
+==========================+================+==============================+===========================+======================+==============+
| CentOS Stream 9 (ARM)    | PASS           | SKIPPED                      | SKIPPED                   | SKIPPED              | SKIPPED      |
+--------------------------+----------------+------------------------------+---------------------------+----------------------+--------------+
| Fedora 38 (ARM)          | PASS           | SKIPPED                      | SKIPPED                   | SKIPPED              | SKIPPED      |
+--------------------------+----------------+------------------------------+---------------------------+----------------------+--------------+
| Debian 11 (Buster) (ARM) | PASS           | SKIPPED                      | SKIPPED                   | SKIPPED              | SKIPPED      |
+--------------------------+----------------+------------------------------+---------------------------+----------------------+--------------+
| Debian 12 (arm)          | PASS           | PASS                         | PASS                      | SKIPPED              | SKIPPED      |
+--------------------------+----------------+------------------------------+---------------------------+----------------------+--------------+
| Fedora 37 (ARM)          | PASS           | SKIPPED                      | SKIPPED                   | SKIPPED              | SKIPPED      |
+--------------------------+----------------+------------------------------+---------------------------+----------------------+--------------+
| Ubuntu 20.04 (ARM)       | PASS           | SKIPPED                      | SKIPPED                   | SKIPPED              | SKIPPED      |
+--------------------------+----------------+------------------------------+---------------------------+----------------------+--------------+
| Fedora 39 (ARM)          | PASS           | SKIPPED                      | SKIPPED                   | SKIPPED              | SKIPPED      |
+--------------------------+----------------+------------------------------+---------------------------+----------------------+--------------+
| Fedora 38 (ARM Clang)    | PASS           | SKIPPED                      | SKIPPED                   | SKIPPED              | SKIPPED      |
+--------------------------+----------------+------------------------------+---------------------------+----------------------+--------------+
| Ubuntu 20.04             | SKIPPED        | SKIPPED                      | SKIPPED                   | PASS                 | SKIPPED      |
+--------------------------+----------------+------------------------------+---------------------------+----------------------+--------------+
| Ubuntu 20.04 ARM SVE     | SKIPPED        | SKIPPED                      | SKIPPED                   | SKIPPED              | PASS         |
+--------------------------+----------------+------------------------------+---------------------------+----------------------+--------------+


CentOS Stream 9 (ARM)
	Kernel: Container Host Kernel
	Compiler: gcc 11.4.1

Fedora 38 (ARM)
	Kernel: Depends on container host
	Compiler: gcc 13.2.1

Debian 11 (Buster) (ARM)
	Kernel: Container Host Kernel
	Compiler: gcc 10.2.1

Debian 12 (arm)
	Kernel: Container Host Kernel
	Compiler: gcc 12.2.0

Fedora 37 (ARM)
	Kernel: Depends on container host
	Compiler: gcc 12.3.1

Ubuntu 20.04 (ARM)
	Kernel: Container Host Kernel
	Compiler: gcc 9.4.0

Fedora 39 (ARM)
	Kernel: Depends on container host
	Compiler: gcc 13.2.1

Fedora 38 (ARM Clang)
	Kernel: Depends on container host
	Compiler: clang 16.0.6

Ubuntu 20.04
	Kernel: 5.4.0-167-generic
	Compiler: gcc 9.4.0-1ubuntu1~20.04.1

Ubuntu 20.04 ARM SVE
	Kernel: 5.4.0-167-generic
	Compiler: gcc (Ubuntu 10.5.0-1ubuntu1~20.04) 10.5.0

To view detailed results, visit:
https://lab.dpdk.org/results/dashboard/patchsets/30041/

UNH-IOL DPDK Community Lab

To manage your email subscriptions, visit: 
https://lab.dpdk.org/results/dashboard/preferences/subscriptions/