From mboxrd@z Thu Jan  1 00:00:00 1970
Return-Path: <test-report-bounces@dpdk.org>
Received: from mails.dpdk.org (mails.dpdk.org [217.70.189.124])
	by inbox.dpdk.org (Postfix) with ESMTP id E742944107
	for <public@inbox.dpdk.org>; Thu, 30 May 2024 00:41:23 +0200 (CEST)
Received: from mails.dpdk.org (localhost [127.0.0.1])
	by mails.dpdk.org (Postfix) with ESMTP id E0237402AC;
	Thu, 30 May 2024 00:41:23 +0200 (CEST)
Received: from mail-il1-f225.google.com (mail-il1-f225.google.com
 [209.85.166.225])
 by mails.dpdk.org (Postfix) with ESMTP id 05D4440289
 for <test-report@dpdk.org>; Thu, 30 May 2024 00:41:23 +0200 (CEST)
Received: by mail-il1-f225.google.com with SMTP id
 e9e14a558f8ab-374528b81ddso912515ab.2
 for <test-report@dpdk.org>; Wed, 29 May 2024 15:41:22 -0700 (PDT)
DKIM-Signature: v=1; a=rsa-sha256; c=relaxed/relaxed;
 d=iol.unh.edu; s=unh-iol; t=1717022482; x=1717627282; darn=dpdk.org;
 h=references:in-reply-to:cc:to:from:subject:message-id:date:from:to
 :cc:subject:date:message-id:reply-to;
 bh=xkDnX76fpNsueZAwZJBtjGrsgSTGGmQUPg4bTBHuHi0=;
 b=YqWD7Jc8hGY74df8zxJ2hBTcoOP5PlBIi40WJS2jsfTnVxj0n83C/Q3N9UIjjOrGi/
 5puhcF1t4fC/GCjG49IVJY5UCFDkZflxCvQHp54u0s+baA2lfpusWN9Z1o7QcM39jtRW
 HbAbWF6DdkhXGRRD+u7+lu6fWQHEKhC0SWbJA=
X-Google-DKIM-Signature: v=1; a=rsa-sha256; c=relaxed/relaxed;
 d=1e100.net; s=20230601; t=1717022482; x=1717627282;
 h=references:in-reply-to:cc:to:from:subject:message-id:date
 :x-gm-message-state:from:to:cc:subject:date:message-id:reply-to;
 bh=xkDnX76fpNsueZAwZJBtjGrsgSTGGmQUPg4bTBHuHi0=;
 b=kugsM5dL5JbMvu+UtrYXmHjjFgnN+nf+v0Ty1mx8FI8gSuw9JlVF6WF4e8zGRTdG8x
 fmNXl9G1096AVuoq/6FIz5niz7R75VM2SjvM2xwkF8S55LwBEid7qk0jm401M4CBn7kl
 JxF6YwrQA3HLY38r97R23l6zd1RyC4ASXMz64I2Zb3dYW//2/GmCZVCg9pd1zN3+QfU3
 E9K2de5YFpLh5lKqkYeGZmcpnWa4hhdpKdaPxucSGSFA1q8avnwitAA/t3lJ2+NSHxL4
 edmVDzqHWR+njmk5luJQ5Psv3sEsWaOPSN6/Rf7+20Cu71tf1ByJUMKEBdVgkhTkSOYy
 kwrQ==
X-Gm-Message-State: AOJu0YzzBnF4qa4/vBDPmNOOftFEHftF+TOhL2W+MnsqAhrHJ8rC1u9N
 gG+Ryyab/p7Fpz3rLj0yJdzn5O0cXrxOdZd71VzMEQnCvORdItmSfmYzxKoTNQdf5P9CCV2Vaep
 NuNLtz7vtlPZCrpHnrpFEn4ggQZq3TNDYCkbSfJDMYUZn38qEcnA82ueh
X-Google-Smtp-Source: AGHT+IHx1tWw8z+K0l1X/FP8VvW8CUy9lKfYEZMdOzBHj7OIgpl8XouN6sQKIbE5Clo5SDAo722n08C9TPyJ
X-Received: by 2002:a05:6e02:219a:b0:36c:a46:e018 with SMTP id
 e9e14a558f8ab-3747dfb4f40mr3322755ab.24.1717022482430; 
 Wed, 29 May 2024 15:41:22 -0700 (PDT)
Received: from postal.iol.unh.edu (postal.iol.unh.edu.
 [2606:4100:3880:1234::84]) by smtp-relay.gmail.com with ESMTPS id
 e9e14a558f8ab-3737c36ce31sm12338695ab.65.2024.05.29.15.41.22
 (version=TLS1_2 cipher=ECDHE-ECDSA-AES128-GCM-SHA256 bits=128/128);
 Wed, 29 May 2024 15:41:22 -0700 (PDT)
X-Relaying-Domain: iol.unh.edu
Date: Wed, 29 May 2024 15:41:22 -0700 (PDT)
Message-ID: <6657af12.050a0220.b54d5.7e9aSMTPIN_ADDED_MISSING@mx.google.com>
Received: from [172.17.0.2] (unknown [172.18.0.217])
 by postal.iol.unh.edu (Postfix) with ESMTP id E59F2605C373;
 Wed, 29 May 2024 18:41:21 -0400 (EDT)
Subject: |SUCCESS| pw140397-140399 [PATCH] [v3,3/3] dts: Improve logging for 
From: dpdklab@iol.unh.edu
To: Test Report <test-report@dpdk.org>
Cc: dpdk-test-reports@iol.unh.edu
In-Reply-To: <20240529194910.26803-4-jspewock@iol.unh.edu>
References: <20240529194910.26803-4-jspewock@iol.unh.edu>
Content-Type: text/plain
X-BeenThere: test-report@dpdk.org
X-Mailman-Version: 2.1.29
Precedence: list
List-Id: automatic DPDK test reports <test-report.dpdk.org>
List-Unsubscribe: <https://mails.dpdk.org/options/test-report>,
 <mailto:test-report-request@dpdk.org?subject=unsubscribe>
List-Archive: <http://mails.dpdk.org/archives/test-report/>
List-Post: <mailto:test-report@dpdk.org>
List-Help: <mailto:test-report-request@dpdk.org?subject=help>
List-Subscribe: <https://mails.dpdk.org/listinfo/test-report>,
 <mailto:test-report-request@dpdk.org?subject=subscribe>
Errors-To: test-report-bounces@dpdk.org

Test-Label: iol-compile-amd64-testing
Test-Status: SUCCESS
http://dpdk.org/patch/140399

_Testing PASS_

Submitter: Jeremy Spewock <jspewock@iol.unh.edu>
Date: Wednesday, May 29 2024 19:49:10 
DPDK git baseline: Repo:dpdk
  Branch: master
  CommitID:76cef1af8bdaeaf67a5c4ca5df3f221df994dc46

140397-140399 --> testing pass

Test environment and result as below:

+--------------------------------------+--------------------+
|             Environment              | dpdk_meson_compile |
+======================================+====================+
| Ubuntu 20.04 ARM SVE                 | PASS               |
+--------------------------------------+--------------------+
| Debian 12 with MUSDK                 | PASS               |
+--------------------------------------+--------------------+
| Fedora 38 (ARM)                      | PASS               |
+--------------------------------------+--------------------+
| Fedora 39 (ARM)                      | PASS               |
+--------------------------------------+--------------------+
| Fedora 37 (ARM)                      | PASS               |
+--------------------------------------+--------------------+
| Debian 12 (arm)                      | PASS               |
+--------------------------------------+--------------------+
| Debian 11 (Buster) (ARM)             | PASS               |
+--------------------------------------+--------------------+
| CentOS Stream 9 (ARM)                | PASS               |
+--------------------------------------+--------------------+
| Ubuntu 20.04 (ARM)                   | PASS               |
+--------------------------------------+--------------------+
| Ubuntu 20.04 ARM Clang Cross Compile | PASS               |
+--------------------------------------+--------------------+


Ubuntu 20.04 ARM SVE
	Kernel: 5.4.0-167-generic
	Compiler: gcc (Ubuntu 10.5.0-1ubuntu1~20.04) 10.5.0

Debian 12 with MUSDK
	Kernel: Container Host Kernel
	Compiler: gcc 12.2.0

Fedora 38 (ARM)
	Kernel: Depends on container host
	Compiler: gcc 13.2.1

Fedora 39 (ARM)
	Kernel: Depends on container host
	Compiler: gcc 13.2.1

Fedora 37 (ARM)
	Kernel: Depends on container host
	Compiler: gcc 12.3.1

Debian 12 (arm)
	Kernel: Container Host Kernel
	Compiler: gcc 12.2.0

Debian 11 (Buster) (ARM)
	Kernel: Container Host Kernel
	Compiler: gcc 10.2.1

CentOS Stream 9 (ARM)
	Kernel: Container Host Kernel
	Compiler: gcc 11.4.1

Ubuntu 20.04 (ARM)
	Kernel: Container Host Kernel
	Compiler: gcc 9.4.0

Ubuntu 20.04 ARM Clang Cross Compile
	Kernel: 5.4.0-72-generic
	Compiler: clang 10.0.0-4ubuntu1

To view detailed results, visit:
https://lab.dpdk.org/results/dashboard/patchsets/30041/

UNH-IOL DPDK Community Lab

To manage your email subscriptions, visit: 
https://lab.dpdk.org/results/dashboard/preferences/subscriptions/