From mboxrd@z Thu Jan  1 00:00:00 1970
Return-Path: <test-report-bounces@dpdk.org>
Received: from mails.dpdk.org (mails.dpdk.org [217.70.189.124])
	by inbox.dpdk.org (Postfix) with ESMTP id 8003C44107
	for <public@inbox.dpdk.org>; Thu, 30 May 2024 00:42:48 +0200 (CEST)
Received: from mails.dpdk.org (localhost [127.0.0.1])
	by mails.dpdk.org (Postfix) with ESMTP id 7CABE402AC;
	Thu, 30 May 2024 00:42:48 +0200 (CEST)
Received: from mail-yb1-f227.google.com (mail-yb1-f227.google.com
 [209.85.219.227])
 by mails.dpdk.org (Postfix) with ESMTP id 14987402AC
 for <test-report@dpdk.org>; Thu, 30 May 2024 00:42:47 +0200 (CEST)
Received: by mail-yb1-f227.google.com with SMTP id
 3f1490d57ef6-dfa48f505a3so238075276.1
 for <test-report@dpdk.org>; Wed, 29 May 2024 15:42:47 -0700 (PDT)
DKIM-Signature: v=1; a=rsa-sha256; c=relaxed/relaxed;
 d=iol.unh.edu; s=unh-iol; t=1717022566; x=1717627366; darn=dpdk.org;
 h=references:in-reply-to:cc:to:from:subject:message-id:date:from:to
 :cc:subject:date:message-id:reply-to;
 bh=FSFrqom88bOFjgWvPmi1s7ZGQ9+wydTP79/tT+T+dtA=;
 b=GMnO/Yw92Tl44bxjlxXiqV3ruvF2om57GCb+yVuZGZQmhYB4f07nX/71WPyFpjJKLy
 25Lu3q1TTh/trjxR9SdKtD+LtnT6lufSSddsNm9o2McU9+hFs5uyYmy/k2SEJ11SbTKR
 rAU0gIFcQmjvJ49H6IpXFziev00n/He+F9scE=
X-Google-DKIM-Signature: v=1; a=rsa-sha256; c=relaxed/relaxed;
 d=1e100.net; s=20230601; t=1717022566; x=1717627366;
 h=references:in-reply-to:cc:to:from:subject:message-id:date
 :x-gm-message-state:from:to:cc:subject:date:message-id:reply-to;
 bh=FSFrqom88bOFjgWvPmi1s7ZGQ9+wydTP79/tT+T+dtA=;
 b=aDVDiMoCwbf7G2WQ4aT/UaZoiaAyxhsWeGy2vDDHKeJy7d8oWPYUf4b2b7lx2PdmZH
 pREV5cpdu04W4TKy4TUMdu0vmi7Ojd2u6F0CoX9MAz6N1PAjXLqZFbGq2RbOnQq+sPJA
 PlQe78GW+q3iNC4zG//zx7ySuisN9XkaQ/p6wf6TR5lWcvevIUZojXcB6UUJ5PeM2wpg
 0OXf5u+GD2nUlFWO8iID+oZz4zxrrNtOHOusILgygD47sJ0qyN1yjSccoopb+EeAQgOR
 /K8Wo6sk6QHZEMFwRyWWW5wIWHmvGLBkLY+D/UFngb9QSJAzKliwTkopqizrEIsVL8vo
 DyRQ==
X-Gm-Message-State: AOJu0YxEXgCHTUGYHs2t+TYZiPrKgWh0l1YvqY7bzMTZnf5WGwywhNTT
 x3LS5Oixdqhj5V6Vvf9l+6t/ryv7TztV8rjXVGsOauikbCdffs0myLuhmRJJCvpoxhebU8kXoZo
 fMmgaMEZRLAoju1iAhh35WI/XX3DBe06OKpRAk7AHyvu4vqDVHRa1XpIr
X-Google-Smtp-Source: AGHT+IFztmz/U/zIzEIJe7pVw75t5QFAqtO/PXcEc5DPEk/cF6b0O/l/xbQFIasXOzZJKGUYtNDQ+Ami3Utr
X-Received: by 2002:a25:688e:0:b0:deb:877c:5377 with SMTP id
 3f1490d57ef6-dfa5a685cd8mr647474276.51.1717022566439; 
 Wed, 29 May 2024 15:42:46 -0700 (PDT)
Received: from postal.iol.unh.edu (postal.iol.unh.edu.
 [2606:4100:3880:1234::84]) by smtp-relay.gmail.com with ESMTPS id
 af79cd13be357-794abd49f2bsm68937485a.9.2024.05.29.15.42.46
 (version=TLS1_2 cipher=ECDHE-ECDSA-AES128-GCM-SHA256 bits=128/128);
 Wed, 29 May 2024 15:42:46 -0700 (PDT)
X-Relaying-Domain: iol.unh.edu
Date: Wed, 29 May 2024 15:42:46 -0700 (PDT)
Message-ID: <6657af66.050a0220.41025.25f8SMTPIN_ADDED_MISSING@mx.google.com>
Received: from [172.17.0.2] (unknown [172.18.0.217])
 by postal.iol.unh.edu (Postfix) with ESMTP id CE6F3605C373;
 Wed, 29 May 2024 18:42:45 -0400 (EDT)
Subject: |SUCCESS| pw140397-140399 [PATCH] [v3,3/3] dts: Improve logging for 
From: dpdklab@iol.unh.edu
To: Test Report <test-report@dpdk.org>
Cc: dpdk-test-reports@iol.unh.edu
In-Reply-To: <20240529194910.26803-4-jspewock@iol.unh.edu>
References: <20240529194910.26803-4-jspewock@iol.unh.edu>
Content-Type: text/plain
X-BeenThere: test-report@dpdk.org
X-Mailman-Version: 2.1.29
Precedence: list
List-Id: automatic DPDK test reports <test-report.dpdk.org>
List-Unsubscribe: <https://mails.dpdk.org/options/test-report>,
 <mailto:test-report-request@dpdk.org?subject=unsubscribe>
List-Archive: <http://mails.dpdk.org/archives/test-report/>
List-Post: <mailto:test-report@dpdk.org>
List-Help: <mailto:test-report-request@dpdk.org?subject=help>
List-Subscribe: <https://mails.dpdk.org/listinfo/test-report>,
 <mailto:test-report-request@dpdk.org?subject=subscribe>
Errors-To: test-report-bounces@dpdk.org

Test-Label: iol-unit-amd64-testing
Test-Status: SUCCESS
http://dpdk.org/patch/140399

_Testing PASS_

Submitter: Jeremy Spewock <jspewock@iol.unh.edu>
Date: Wednesday, May 29 2024 19:49:10 
DPDK git baseline: Repo:dpdk
  Branch: master
  CommitID:76cef1af8bdaeaf67a5c4ca5df3f221df994dc46

140397-140399 --> testing pass

Test environment and result as below:

+--------------------------+----------------+------------------------------+---------------------------+--------------+
|       Environment        | dpdk_unit_test | cryptodev_sw_snow3g_autotest | cryptodev_sw_zuc_autotest | lpm_autotest |
+==========================+================+==============================+===========================+==============+
| CentOS Stream 9 (ARM)    | PASS           | SKIPPED                      | SKIPPED                   | SKIPPED      |
+--------------------------+----------------+------------------------------+---------------------------+--------------+
| Fedora 38 (ARM)          | PASS           | SKIPPED                      | SKIPPED                   | SKIPPED      |
+--------------------------+----------------+------------------------------+---------------------------+--------------+
| Debian 11 (Buster) (ARM) | PASS           | SKIPPED                      | SKIPPED                   | SKIPPED      |
+--------------------------+----------------+------------------------------+---------------------------+--------------+
| Debian 12 (arm)          | PASS           | PASS                         | PASS                      | SKIPPED      |
+--------------------------+----------------+------------------------------+---------------------------+--------------+
| Fedora 37 (ARM)          | PASS           | SKIPPED                      | SKIPPED                   | SKIPPED      |
+--------------------------+----------------+------------------------------+---------------------------+--------------+
| Ubuntu 20.04 (ARM)       | PASS           | SKIPPED                      | SKIPPED                   | SKIPPED      |
+--------------------------+----------------+------------------------------+---------------------------+--------------+
| Fedora 39 (ARM)          | PASS           | SKIPPED                      | SKIPPED                   | SKIPPED      |
+--------------------------+----------------+------------------------------+---------------------------+--------------+
| Fedora 38 (ARM Clang)    | PASS           | SKIPPED                      | SKIPPED                   | SKIPPED      |
+--------------------------+----------------+------------------------------+---------------------------+--------------+
| Ubuntu 20.04 ARM SVE     | SKIPPED        | SKIPPED                      | SKIPPED                   | PASS         |
+--------------------------+----------------+------------------------------+---------------------------+--------------+


CentOS Stream 9 (ARM)
	Kernel: Container Host Kernel
	Compiler: gcc 11.4.1

Fedora 38 (ARM)
	Kernel: Depends on container host
	Compiler: gcc 13.2.1

Debian 11 (Buster) (ARM)
	Kernel: Container Host Kernel
	Compiler: gcc 10.2.1

Debian 12 (arm)
	Kernel: Container Host Kernel
	Compiler: gcc 12.2.0

Fedora 37 (ARM)
	Kernel: Depends on container host
	Compiler: gcc 12.3.1

Ubuntu 20.04 (ARM)
	Kernel: Container Host Kernel
	Compiler: gcc 9.4.0

Fedora 39 (ARM)
	Kernel: Depends on container host
	Compiler: gcc 13.2.1

Fedora 38 (ARM Clang)
	Kernel: Depends on container host
	Compiler: clang 16.0.6

Ubuntu 20.04 ARM SVE
	Kernel: 5.4.0-167-generic
	Compiler: gcc (Ubuntu 10.5.0-1ubuntu1~20.04) 10.5.0

To view detailed results, visit:
https://lab.dpdk.org/results/dashboard/patchsets/30041/

UNH-IOL DPDK Community Lab

To manage your email subscriptions, visit: 
https://lab.dpdk.org/results/dashboard/preferences/subscriptions/