From mboxrd@z Thu Jan  1 00:00:00 1970
Return-Path: <test-report-bounces@dpdk.org>
Received: from mails.dpdk.org (mails.dpdk.org [217.70.189.124])
	by inbox.dpdk.org (Postfix) with ESMTP id F109B44107
	for <public@inbox.dpdk.org>; Thu, 30 May 2024 00:48:07 +0200 (CEST)
Received: from mails.dpdk.org (localhost [127.0.0.1])
	by mails.dpdk.org (Postfix) with ESMTP id BE40D402AC;
	Thu, 30 May 2024 00:48:07 +0200 (CEST)
Received: from mail-il1-f226.google.com (mail-il1-f226.google.com
 [209.85.166.226])
 by mails.dpdk.org (Postfix) with ESMTP id B098940289
 for <test-report@dpdk.org>; Thu, 30 May 2024 00:48:00 +0200 (CEST)
Received: by mail-il1-f226.google.com with SMTP id
 e9e14a558f8ab-3737dc4a669so1421165ab.0
 for <test-report@dpdk.org>; Wed, 29 May 2024 15:48:00 -0700 (PDT)
DKIM-Signature: v=1; a=rsa-sha256; c=relaxed/relaxed;
 d=iol.unh.edu; s=unh-iol; t=1717022880; x=1717627680; darn=dpdk.org;
 h=references:in-reply-to:cc:to:from:subject:message-id:date:from:to
 :cc:subject:date:message-id:reply-to;
 bh=UU+0qaJk2B121i8Vo0DrgyzaZkqCaZN69GdB2Hf1Dwk=;
 b=KP7jpGAJRZEvRtnwQAroMYWq9H5nym2Sku9PQh/dYo4OdwNrxGE25UATBGpugzmhKb
 rH3skaqcJutrAy9qunL5pXVABUADl0/mzyUgzFFFGYz8jLGNGvgARwUpbulNA/GCe6Tj
 mPh3xNolAWnNHbF9kJbQ07WHZwffLqPGlQAzY=
X-Google-DKIM-Signature: v=1; a=rsa-sha256; c=relaxed/relaxed;
 d=1e100.net; s=20230601; t=1717022880; x=1717627680;
 h=references:in-reply-to:cc:to:from:subject:message-id:date
 :x-gm-message-state:from:to:cc:subject:date:message-id:reply-to;
 bh=UU+0qaJk2B121i8Vo0DrgyzaZkqCaZN69GdB2Hf1Dwk=;
 b=GgZhnytpgtpFLXZCWCZ6z0QRPoFjCB97jLToaSD4VmaYIdyQaG3NMgd0S55LkVl0ug
 ZLDzqCxztrBCNNn79pIppH1V98Ricw8UGHmeu52hBPfO1KHVBaTMBLfR2VeIIge4/o7P
 iBgJmz/gHP2kkw+u+XkTXvW7PFRN4xaHnjH4l3j87E0LqbnBE6buufs9H6ulsenic+nG
 JEGtkwfOR4bXzRhL6pBiLa75o+B1/Iul9ry6nyYpy/OMVXyHIuai+vjZsm9jizzr8zyf
 lCuGKkP9304dmt45fIE/GQNZRYd6BTwfw1abRQA+bGFIkQcvryVXHhBkoQYPzSuyAfkk
 Sk3w==
X-Gm-Message-State: AOJu0YxihaDqkxRXsOJtpNBwG0hanO6sQLlpHHyWbjn+YnU+T9Z+2+rO
 j5RbKLMKUoeWBIedM1bbCrzngVE1kAntSjfugNjrhSeM3qULT6Kb8jOfji5RBjl/Xf5YQEmuxCm
 hctotZFCb74HLVTapRdomFI1yjeWO+6JBzWb4ntzfFcVWKkT78ulMT+hA
X-Google-Smtp-Source: AGHT+IHgoDiw/+YHplGxIXTcIyR+A7xsOT7eKDsgvN7Q24pnCgXLkc2RUEIqnIuRI7kteEJ5UNcMayR/xPm7
X-Received: by 2002:a05:6e02:1a2b:b0:36c:3856:4383 with SMTP id
 e9e14a558f8ab-3747dfaec7dmr3424285ab.26.1717022880128; 
 Wed, 29 May 2024 15:48:00 -0700 (PDT)
Received: from postal.iol.unh.edu (postal.iol.unh.edu.
 [2606:4100:3880:1234::84]) by smtp-relay.gmail.com with ESMTPS id
 8926c6da1cb9f-4b0a157044asm756318173.57.2024.05.29.15.48.00
 (version=TLS1_2 cipher=ECDHE-ECDSA-AES128-GCM-SHA256 bits=128/128);
 Wed, 29 May 2024 15:48:00 -0700 (PDT)
X-Relaying-Domain: iol.unh.edu
Date: Wed, 29 May 2024 15:48:00 -0700 (PDT)
Message-ID: <6657b0a0.050a0220.3aa3d.aae6SMTPIN_ADDED_MISSING@mx.google.com>
Received: from [172.17.0.4] (unknown [172.18.0.217])
 by postal.iol.unh.edu (Postfix) with ESMTP id A72FA605C373;
 Wed, 29 May 2024 18:47:59 -0400 (EDT)
Subject: |SUCCESS| pw140397-140399 [PATCH] [v3,3/3] dts: Improve logging for 
From: dpdklab@iol.unh.edu
To: Test Report <test-report@dpdk.org>
Cc: dpdk-test-reports@iol.unh.edu
In-Reply-To: <20240529194910.26803-4-jspewock@iol.unh.edu>
References: <20240529194910.26803-4-jspewock@iol.unh.edu>
Content-Type: text/plain
X-BeenThere: test-report@dpdk.org
X-Mailman-Version: 2.1.29
Precedence: list
List-Id: automatic DPDK test reports <test-report.dpdk.org>
List-Unsubscribe: <https://mails.dpdk.org/options/test-report>,
 <mailto:test-report-request@dpdk.org?subject=unsubscribe>
List-Archive: <http://mails.dpdk.org/archives/test-report/>
List-Post: <mailto:test-report@dpdk.org>
List-Help: <mailto:test-report-request@dpdk.org?subject=help>
List-Subscribe: <https://mails.dpdk.org/listinfo/test-report>,
 <mailto:test-report-request@dpdk.org?subject=subscribe>
Errors-To: test-report-bounces@dpdk.org

Test-Label: iol-compile-amd64-testing
Test-Status: SUCCESS
http://dpdk.org/patch/140399

_Testing PASS_

Submitter: Jeremy Spewock <jspewock@iol.unh.edu>
Date: Wednesday, May 29 2024 19:49:10 
DPDK git baseline: Repo:dpdk
  Branch: master
  CommitID:76cef1af8bdaeaf67a5c4ca5df3f221df994dc46

140397-140399 --> testing pass

Test environment and result as below:

+----------------------------------------+--------------------+
|              Environment               | dpdk_meson_compile |
+========================================+====================+
| Ubuntu 20.04 ARM SVE                   | PASS               |
+----------------------------------------+--------------------+
| Debian 12 with MUSDK                   | PASS               |
+----------------------------------------+--------------------+
| Fedora 38 (ARM)                        | PASS               |
+----------------------------------------+--------------------+
| Fedora 39 (ARM)                        | PASS               |
+----------------------------------------+--------------------+
| Fedora 37 (ARM)                        | PASS               |
+----------------------------------------+--------------------+
| Debian 12 (arm)                        | PASS               |
+----------------------------------------+--------------------+
| Debian 11 (Buster) (ARM)               | PASS               |
+----------------------------------------+--------------------+
| CentOS Stream 9 (ARM)                  | PASS               |
+----------------------------------------+--------------------+
| Ubuntu 20.04 (ARM)                     | PASS               |
+----------------------------------------+--------------------+
| Ubuntu 20.04 ARM Clang Cross Compile   | PASS               |
+----------------------------------------+--------------------+
| Ubuntu 20.04 aarch32 GCC Cross Compile | PASS               |
+----------------------------------------+--------------------+


Ubuntu 20.04 ARM SVE
	Kernel: 5.4.0-167-generic
	Compiler: gcc (Ubuntu 10.5.0-1ubuntu1~20.04) 10.5.0

Debian 12 with MUSDK
	Kernel: Container Host Kernel
	Compiler: gcc 12.2.0

Fedora 38 (ARM)
	Kernel: Depends on container host
	Compiler: gcc 13.2.1

Fedora 39 (ARM)
	Kernel: Depends on container host
	Compiler: gcc 13.2.1

Fedora 37 (ARM)
	Kernel: Depends on container host
	Compiler: gcc 12.3.1

Debian 12 (arm)
	Kernel: Container Host Kernel
	Compiler: gcc 12.2.0

Debian 11 (Buster) (ARM)
	Kernel: Container Host Kernel
	Compiler: gcc 10.2.1

CentOS Stream 9 (ARM)
	Kernel: Container Host Kernel
	Compiler: gcc 11.4.1

Ubuntu 20.04 (ARM)
	Kernel: Container Host Kernel
	Compiler: gcc 9.4.0

Ubuntu 20.04 ARM Clang Cross Compile
	Kernel: 5.4.0-72-generic
	Compiler: clang 10.0.0-4ubuntu1

Ubuntu 20.04 aarch32 GCC Cross Compile
	Kernel: 5.4.0-167-generic
	Compiler: gcc 9.4.0

To view detailed results, visit:
https://lab.dpdk.org/results/dashboard/patchsets/30041/

UNH-IOL DPDK Community Lab

To manage your email subscriptions, visit: 
https://lab.dpdk.org/results/dashboard/preferences/subscriptions/