From mboxrd@z Thu Jan  1 00:00:00 1970
Return-Path: <test-report-bounces@dpdk.org>
Received: from mails.dpdk.org (mails.dpdk.org [217.70.189.124])
	by inbox.dpdk.org (Postfix) with ESMTP id C05B644107
	for <public@inbox.dpdk.org>; Thu, 30 May 2024 01:25:17 +0200 (CEST)
Received: from mails.dpdk.org (localhost [127.0.0.1])
	by mails.dpdk.org (Postfix) with ESMTP id BAF0E402AC;
	Thu, 30 May 2024 01:25:17 +0200 (CEST)
Received: from mail-vk1-f227.google.com (mail-vk1-f227.google.com
 [209.85.221.227])
 by mails.dpdk.org (Postfix) with ESMTP id 506A940289
 for <test-report@dpdk.org>; Thu, 30 May 2024 01:25:16 +0200 (CEST)
Received: by mail-vk1-f227.google.com with SMTP id
 71dfb90a1353d-4eae7357c57so92565e0c.2
 for <test-report@dpdk.org>; Wed, 29 May 2024 16:25:16 -0700 (PDT)
DKIM-Signature: v=1; a=rsa-sha256; c=relaxed/relaxed;
 d=iol.unh.edu; s=unh-iol; t=1717025115; x=1717629915; darn=dpdk.org;
 h=references:in-reply-to:cc:to:from:subject:message-id:date:from:to
 :cc:subject:date:message-id:reply-to;
 bh=NegsnYIBlrPFinsQR2KuZKJDIi+9yxsZ/0amNFYcruY=;
 b=Mf+xMOoaDQqFr5R2J/33geGL4bCSqbtdcv59BhOFLt2bC42P2NN7/Jmm2FyHCB6iLd
 1ypWTfOJzeVQFVRGlyR1Jucgi5RwI/+l/oxVAACqh5UOaFsLUXrhD5NOZcMOIg1ihbYC
 H5HqhuMaayerNAaXvCa8ECEdkW/7+ENpaFzo8=
X-Google-DKIM-Signature: v=1; a=rsa-sha256; c=relaxed/relaxed;
 d=1e100.net; s=20230601; t=1717025115; x=1717629915;
 h=references:in-reply-to:cc:to:from:subject:message-id:date
 :x-gm-message-state:from:to:cc:subject:date:message-id:reply-to;
 bh=NegsnYIBlrPFinsQR2KuZKJDIi+9yxsZ/0amNFYcruY=;
 b=OwJoygKW35YrnzRLGIyMmf+N36SrxAAnsB1YcNpqWeVNdH8Ayq6mESFPjGLmi7iRFe
 QpFxba+l8KuTp5fXOu/THjOATkjsKE+RHfaMAnXGuqtEsMDizL8ozF53nFQ52twWo+Oj
 X3hVL0KIBuohFDYTSfBDiB2Dzq2l4ESAcb3MuFJQHHIv83cgsiiRn0L9Mw1p6PSa7bJy
 eoE9opN8v0U+euGFhgDeUk3iATuZiOd55kOZKks3tQb81Z8BB5ks19TkAzsyiX1vYcJD
 HxPdAx2hzarxwvQXJ7yHZLUDg7tMAJciQ7aQjeQ0dfT5zOwy8b3NEONo+H1yK7MfFiEl
 YLdg==
X-Gm-Message-State: AOJu0YywYswhTZ4EfGVQBPiDuJglk6QABbtQEYXBQ3aBTJxs9mQpsOix
 Ix2Caqxf7dm2SEoaJnbaaLQ7Mxyi48WmJOlFlHhoUkWVeDJpVrRadZ+i/l+liNni1/vd0uwsURn
 DZQCrO6XkTJsXsUfpKyNcEhggpxaQsUmPveeoWabPGzHTKE8T9PogTO8o
X-Google-Smtp-Source: AGHT+IFHfxEH9ln7eaTFFWdJEMuKSMTavmLNLiBoxd6ZPF59muVPbPioB6yWKNbl2P8DS8zMS4GU5G4IEm2z
X-Received: by 2002:a05:6122:369f:b0:4d4:2fbc:e61f with SMTP id
 71dfb90a1353d-4eaf2428923mr671839e0c.14.1717025115757; 
 Wed, 29 May 2024 16:25:15 -0700 (PDT)
Received: from postal.iol.unh.edu (postal.iol.unh.edu.
 [2606:4100:3880:1234::84]) by smtp-relay.gmail.com with ESMTPS id
 71dfb90a1353d-4e4f0728af3sm1143896e0c.3.2024.05.29.16.25.15
 (version=TLS1_2 cipher=ECDHE-ECDSA-AES128-GCM-SHA256 bits=128/128);
 Wed, 29 May 2024 16:25:15 -0700 (PDT)
X-Relaying-Domain: iol.unh.edu
Date: Wed, 29 May 2024 16:25:15 -0700 (PDT)
Message-ID: <6657b95b.050a0220.46b0a.3b97SMTPIN_ADDED_MISSING@mx.google.com>
Received: from [172.17.0.3] (unknown [172.18.0.217])
 by postal.iol.unh.edu (Postfix) with ESMTP id 40327605C373;
 Wed, 29 May 2024 19:25:15 -0400 (EDT)
Subject: |SUCCESS| pw140397-140399 [PATCH] [v3,3/3] dts: Improve logging for 
From: dpdklab@iol.unh.edu
To: Test Report <test-report@dpdk.org>
Cc: Jeremy Spewock <jspewock@iol.unh.edu>
In-Reply-To: <20240529194910.26803-4-jspewock@iol.unh.edu>
References: <20240529194910.26803-4-jspewock@iol.unh.edu>
Content-Type: text/plain
X-BeenThere: test-report@dpdk.org
X-Mailman-Version: 2.1.29
Precedence: list
List-Id: automatic DPDK test reports <test-report.dpdk.org>
List-Unsubscribe: <https://mails.dpdk.org/options/test-report>,
 <mailto:test-report-request@dpdk.org?subject=unsubscribe>
List-Archive: <http://mails.dpdk.org/archives/test-report/>
List-Post: <mailto:test-report@dpdk.org>
List-Help: <mailto:test-report-request@dpdk.org?subject=help>
List-Subscribe: <https://mails.dpdk.org/listinfo/test-report>,
 <mailto:test-report-request@dpdk.org?subject=subscribe>
Errors-To: test-report-bounces@dpdk.org

Test-Label: iol-unit-arm64-testing
Test-Status: SUCCESS
http://dpdk.org/patch/140399

_Testing PASS_

Submitter: Jeremy Spewock <jspewock@iol.unh.edu>
Date: Wednesday, May 29 2024 19:49:10 
DPDK git baseline: Repo:dpdk
  Branch: master
  CommitID:76cef1af8bdaeaf67a5c4ca5df3f221df994dc46

140397-140399 --> testing pass

Test environment and result as below:

+---------------------+----------------+
|     Environment     | dpdk_unit_test |
+=====================+================+
| Windows Server 2019 | PASS           |
+---------------------+----------------+
| CentOS Stream 8     | PASS           |
+---------------------+----------------+
| Debian 12           | PASS           |
+---------------------+----------------+
| CentOS Stream 9     | PASS           |
+---------------------+----------------+
| Fedora 39           | PASS           |
+---------------------+----------------+
| Fedora 37           | PASS           |
+---------------------+----------------+
| Windows Server 2022 | PASS           |
+---------------------+----------------+
| openSUSE Leap 15    | PASS           |
+---------------------+----------------+
| Fedora 38           | PASS           |
+---------------------+----------------+
| Ubuntu 20.04        | PASS           |
+---------------------+----------------+
| Ubuntu 22.04        | PASS           |
+---------------------+----------------+
| RHEL8               | PASS           |
+---------------------+----------------+
| Ubuntu 24.04        | PASS           |
+---------------------+----------------+
| Debian Bullseye     | PASS           |
+---------------------+----------------+


Windows Server 2019
	Kernel: 10.0.17763
	Compiler: clang 14.0 and gcc 8.1.0 (MinGW)

CentOS Stream 8
	Kernel: 5.4.0-167-generic
	Compiler: gcc 8.5.0 20210514

Debian 12
	Kernel: Container Host Kernel
	Compiler: gcc 10.2.1

CentOS Stream 9
	Kernel: 5.4.0-167-generic
	Compiler: gcc 11.4.1 20230605

Fedora 39
	Kernel: Depends on container host
	Compiler: gcc 13.2.1

Fedora 37
	Kernel: Depends on container host system
	Compiler: gcc 12.3.1

Windows Server 2022
	Kernel: 10.0.20348.2031
	Compiler: clang 15.0.7, gcc 8.1.0 (MinGW), and MSVC VS 17.9

openSUSE Leap 15
	Kernel: 5.4.0-167-generic
	Compiler: gcc 7.5.0

Fedora 38
	Kernel: Depends on container host
	Compiler: clang 16.0.6

Ubuntu 20.04
	Kernel: 5.4.0-167-generic
	Compiler: gcc 9.4.0-1ubuntu1~20.04.1

Ubuntu 22.04
	Kernel: 5.4.0-167-generic
	Compiler: gcc 11.4.0

RHEL8
	Kernel: 5.4.0-167-generic
	Compiler: gcc 8.5.0 20210514 (Red Hat 8.5.0-20)

Ubuntu 24.04
	Kernel: 5.4.0-167-generic
	Compiler: gcc 13.2.0

Debian Bullseye
	Kernel: 5.4.0-167-generic
	Compiler: gcc 10.2.1-6

To view detailed results, visit:
https://lab.dpdk.org/results/dashboard/patchsets/30041/

UNH-IOL DPDK Community Lab

To manage your email subscriptions, visit: 
https://lab.dpdk.org/results/dashboard/preferences/subscriptions/