From mboxrd@z Thu Jan  1 00:00:00 1970
Return-Path: <test-report-bounces@dpdk.org>
Received: from mails.dpdk.org (mails.dpdk.org [217.70.189.124])
	by inbox.dpdk.org (Postfix) with ESMTP id BDB9644107
	for <public@inbox.dpdk.org>; Thu, 30 May 2024 01:26:46 +0200 (CEST)
Received: from mails.dpdk.org (localhost [127.0.0.1])
	by mails.dpdk.org (Postfix) with ESMTP id A11BF402AC;
	Thu, 30 May 2024 01:26:46 +0200 (CEST)
Received: from mail-pl1-f226.google.com (mail-pl1-f226.google.com
 [209.85.214.226])
 by mails.dpdk.org (Postfix) with ESMTP id 6C72F40289
 for <test-report@dpdk.org>; Thu, 30 May 2024 01:26:36 +0200 (CEST)
Received: by mail-pl1-f226.google.com with SMTP id
 d9443c01a7336-1f44b51b367so1769695ad.1
 for <test-report@dpdk.org>; Wed, 29 May 2024 16:26:36 -0700 (PDT)
DKIM-Signature: v=1; a=rsa-sha256; c=relaxed/relaxed;
 d=iol.unh.edu; s=unh-iol; t=1717025195; x=1717629995; darn=dpdk.org;
 h=references:in-reply-to:cc:to:from:subject:message-id:date:from:to
 :cc:subject:date:message-id:reply-to;
 bh=RnCUqdSD4UXK5AJ6zV0QCXKgcFYY3k4MY+aiFILTTVA=;
 b=Ihw29Rs0fY8Zbej28lKqyZZ1cfQnpepBDEJaLJhbSVQ3QcflgAoaqJc/UlNzNUZ1P1
 bb9rDbm5dOJtUbHkQAqphuu99fKC7y2RthKFLDK+Zo8y0fl0DM8HrsdplvIqNxxrX1u+
 sS1DKitH1vggyCfBmP1Hccwq1jrxnuCXsxP4o=
X-Google-DKIM-Signature: v=1; a=rsa-sha256; c=relaxed/relaxed;
 d=1e100.net; s=20230601; t=1717025195; x=1717629995;
 h=references:in-reply-to:cc:to:from:subject:message-id:date
 :x-gm-message-state:from:to:cc:subject:date:message-id:reply-to;
 bh=RnCUqdSD4UXK5AJ6zV0QCXKgcFYY3k4MY+aiFILTTVA=;
 b=lFkfbMfTB1HdSLqHmyfdNYq8GTlaMWsevs6sO8MAMDdjcNJHhPAz2UdphbaSwSc6oF
 RFZ67HYh5bwpXWTKogv45CdzFrAqfMC6wBMp/1UxiaW4OIJtGcnOnF56O5mFmjADflGZ
 DqtCfnfxKVP5tl0gFVQMmP0QkXyrr6vaSH2uBJvwBbHcbKYwX2V3u/6j19PKb2dwdGxm
 BsHDTeTu3l7o5cj3f2q5KhuWxqDXWZEGpx8ahVLbQqMmQVDeB1eSNSvKLj/utYtnptzQ
 xHuU/awnkDTArc4Yh2chT+upmgARuz3SYC5cB3OrtasNqv2uHHgH9QrTotl0zuMCYAlb
 vhfw==
X-Gm-Message-State: AOJu0Yx+fyjARnywIUy4U/3vAaeoyX1CdAOBRKFmKOU3iyWAcCyphqAe
 QGu7toWhxYJIbL22LNWm9PR0L8QI/y7JnckZ/zk3AM6XcTnu6XY/Vbyl8KD3LEQMtvgKMbQHZmV
 1avDz/wGHz44mP6hsr6fosiQmdmiuuFJCNzez+6uKDdH+G5x+nIR7XMWX
X-Google-Smtp-Source: AGHT+IGTijNQEpqLyzy7+gyMnCEkmBhJKea0xOmJ68acsrfikY8FnNURUOEB+ZrsUWXPy+aUb9TyB8+Q1i55
X-Received: by 2002:a17:903:1112:b0:1f4:73ae:9d99 with SMTP id
 d9443c01a7336-1f6193f07f7mr5325065ad.12.1717025195732; 
 Wed, 29 May 2024 16:26:35 -0700 (PDT)
Received: from postal.iol.unh.edu (postal.iol.unh.edu.
 [2606:4100:3880:1234::84]) by smtp-relay.gmail.com with ESMTPS id
 d9443c01a7336-1f48a1b320bsm3842855ad.10.2024.05.29.16.26.35
 (version=TLS1_2 cipher=ECDHE-ECDSA-AES128-GCM-SHA256 bits=128/128);
 Wed, 29 May 2024 16:26:35 -0700 (PDT)
X-Relaying-Domain: iol.unh.edu
Date: Wed, 29 May 2024 16:26:35 -0700 (PDT)
Message-ID: <6657b9ab.170a0220.67531.abacSMTPIN_ADDED_MISSING@mx.google.com>
Received: from [172.17.0.3] (unknown [172.18.0.217])
 by postal.iol.unh.edu (Postfix) with ESMTP id C65C0605C373;
 Wed, 29 May 2024 19:26:34 -0400 (EDT)
Subject: |SUCCESS| pw140395-140396 [PATCH] [v2,2/2] app/pdump: handle SIGTERM
From: dpdklab@iol.unh.edu
To: Test Report <test-report@dpdk.org>
Cc: dpdk-test-reports@iol.unh.edu
In-Reply-To: <20240529160933.282846-3-stephen@networkplumber.org>
References: <20240529160933.282846-3-stephen@networkplumber.org>
Content-Type: text/plain
X-BeenThere: test-report@dpdk.org
X-Mailman-Version: 2.1.29
Precedence: list
List-Id: automatic DPDK test reports <test-report.dpdk.org>
List-Unsubscribe: <https://mails.dpdk.org/options/test-report>,
 <mailto:test-report-request@dpdk.org?subject=unsubscribe>
List-Archive: <http://mails.dpdk.org/archives/test-report/>
List-Post: <mailto:test-report@dpdk.org>
List-Help: <mailto:test-report-request@dpdk.org?subject=help>
List-Subscribe: <https://mails.dpdk.org/listinfo/test-report>,
 <mailto:test-report-request@dpdk.org?subject=subscribe>
Errors-To: test-report-bounces@dpdk.org

Test-Label: iol-compile-amd64-testing
Test-Status: SUCCESS
http://dpdk.org/patch/140396

_Testing PASS_

Submitter: Stephen Hemminger <stephen@networkplumber.org>
Date: Wednesday, May 29 2024 16:08:07 
DPDK git baseline: Repo:dpdk
  Branch: master
  CommitID:76cef1af8bdaeaf67a5c4ca5df3f221df994dc46

140395-140396 --> testing pass

Test environment and result as below:

+----------------------------------------+--------------------+
|              Environment               | dpdk_meson_compile |
+========================================+====================+
| Ubuntu 20.04 ARM SVE                   | PASS               |
+----------------------------------------+--------------------+
| Debian 12 with MUSDK                   | PASS               |
+----------------------------------------+--------------------+
| Fedora 37 (ARM)                        | PASS               |
+----------------------------------------+--------------------+
| Ubuntu 20.04 ARM Clang Cross Compile   | PASS               |
+----------------------------------------+--------------------+
| Fedora 38 (ARM)                        | PASS               |
+----------------------------------------+--------------------+
| Fedora 39 (ARM)                        | PASS               |
+----------------------------------------+--------------------+
| CentOS Stream 9 (ARM)                  | PASS               |
+----------------------------------------+--------------------+
| Ubuntu 20.04 aarch32 GCC Cross Compile | PASS               |
+----------------------------------------+--------------------+
| Debian 12 (arm)                        | PASS               |
+----------------------------------------+--------------------+
| Ubuntu 20.04 (ARM)                     | PASS               |
+----------------------------------------+--------------------+
| Debian 11 (Buster) (ARM)               | PASS               |
+----------------------------------------+--------------------+
| Ubuntu 20.04 ARM GCC Cross Compile     | PASS               |
+----------------------------------------+--------------------+


Ubuntu 20.04 ARM SVE
	Kernel: 5.4.0-167-generic
	Compiler: gcc (Ubuntu 10.5.0-1ubuntu1~20.04) 10.5.0

Debian 12 with MUSDK
	Kernel: Container Host Kernel
	Compiler: gcc 12.2.0

Fedora 37 (ARM)
	Kernel: Depends on container host
	Compiler: gcc 12.3.1

Ubuntu 20.04 ARM Clang Cross Compile
	Kernel: 5.4.0-72-generic
	Compiler: clang 10.0.0-4ubuntu1

Fedora 38 (ARM)
	Kernel: Depends on container host
	Compiler: gcc 13.2.1

Fedora 39 (ARM)
	Kernel: Depends on container host
	Compiler: gcc 13.2.1

CentOS Stream 9 (ARM)
	Kernel: Container Host Kernel
	Compiler: gcc 11.4.1

Ubuntu 20.04 aarch32 GCC Cross Compile
	Kernel: 5.4.0-167-generic
	Compiler: gcc 9.4.0

Debian 12 (arm)
	Kernel: Container Host Kernel
	Compiler: gcc 12.2.0

Ubuntu 20.04 (ARM)
	Kernel: Container Host Kernel
	Compiler: gcc 9.4.0

Debian 11 (Buster) (ARM)
	Kernel: Container Host Kernel
	Compiler: gcc 10.2.1

Ubuntu 20.04 ARM GCC Cross Compile
	Kernel: 5.4.0-167-generic
	Compiler: aarch64-linux-gnu-gcc (Ubuntu 9.4.0-1ubuntu1~20.04.2) 9.4.0

To view detailed results, visit:
https://lab.dpdk.org/results/dashboard/patchsets/30040/

UNH-IOL DPDK Community Lab

To manage your email subscriptions, visit: 
https://lab.dpdk.org/results/dashboard/preferences/subscriptions/