From mboxrd@z Thu Jan  1 00:00:00 1970
Return-Path: <test-report-bounces@dpdk.org>
Received: from mails.dpdk.org (mails.dpdk.org [217.70.189.124])
	by inbox.dpdk.org (Postfix) with ESMTP id 501B044107
	for <public@inbox.dpdk.org>; Thu, 30 May 2024 01:27:47 +0200 (CEST)
Received: from mails.dpdk.org (localhost [127.0.0.1])
	by mails.dpdk.org (Postfix) with ESMTP id 46D36402AC;
	Thu, 30 May 2024 01:27:47 +0200 (CEST)
Received: from mail-io1-f98.google.com (mail-io1-f98.google.com
 [209.85.166.98]) by mails.dpdk.org (Postfix) with ESMTP id B07FC402D2
 for <test-report@dpdk.org>; Thu, 30 May 2024 01:27:37 +0200 (CEST)
Received: by mail-io1-f98.google.com with SMTP id
 ca18e2360f4ac-7e2188592c2so12858839f.0
 for <test-report@dpdk.org>; Wed, 29 May 2024 16:27:37 -0700 (PDT)
DKIM-Signature: v=1; a=rsa-sha256; c=relaxed/relaxed;
 d=iol.unh.edu; s=unh-iol; t=1717025257; x=1717630057; darn=dpdk.org;
 h=references:in-reply-to:cc:to:from:subject:message-id:date:from:to
 :cc:subject:date:message-id:reply-to;
 bh=MNylpdIvFYyJMghAGyy8oOMn5tHTXy1zFJGAMdCoolo=;
 b=EVbEzV1kvrM7OMZReREYSytlHC4gcMTA44w0rclMiFyGl60UTVJJpZfPIgQdxKa4Vo
 eO4FnVSS3oVcOYviadlY2BKg4V8IR3yO2Re11GAm1PloVUd9lU04MK46uFgq0neloyKZ
 IRxTG/vP65LIk5AMb9nR4gqY+TYJzVs3+54PU=
X-Google-DKIM-Signature: v=1; a=rsa-sha256; c=relaxed/relaxed;
 d=1e100.net; s=20230601; t=1717025257; x=1717630057;
 h=references:in-reply-to:cc:to:from:subject:message-id:date
 :x-gm-message-state:from:to:cc:subject:date:message-id:reply-to;
 bh=MNylpdIvFYyJMghAGyy8oOMn5tHTXy1zFJGAMdCoolo=;
 b=I2o+XHSEkKB60Hqq7Jt1ZH4ZZ2RkELCaKnA01vB/7X55C9yXv56GBVyUTjL9F7uBT3
 GeG1ZyxDqn7Pr2Xpp9vNzD7Qxz34tLm4JqJuWPmLkog6/00OpH96Bzl056TjuNWNP9/I
 31O/SIJjPfXjqw9dy/MRArE/cf8ec3tx+tvKF2hUueD64D4sbGgX9xRxxudXZ0F5o2a9
 cbJPkCDZPnxFW/UCRdvQyK3Eg9FA4q91to1FNZARL+ZRC/RR1lBveoNQJwifwL3ZtHu5
 7wmHfHNUKS5zdxU9pUxfx1NdLq4O3nfqm/0wkCY80gx5VMgTndFiBwZDABKoLRjQRnhV
 zqLg==
X-Gm-Message-State: AOJu0YzD1qoTQIMxuLisT2njqG/mtWmQyOk4KEsSbrv5U7nTG+6jubiJ
 H3wPpkSay1IjFnr1F6BLCS9wRH3sboiCKbszMiUD1E7b973W73vg3mN4ysH+MEHridhxarTSyV1
 tQNMsxmdeVrEsB3xQ750wU7K/Kb+E3Ppt+/znAJqSgBIE6HuiOgK+n12I
X-Google-Smtp-Source: AGHT+IEwBLiwjfZr5L98YMBb/Z5etgJuJBPqoJg4hUCOs9rUGpSKWvSfKpYUzR+0Iy2US0OmN/Us/NI5OL/p
X-Received: by 2002:a05:6602:2dc1:b0:7d5:e3c3:e771 with SMTP id
 ca18e2360f4ac-7eaf5d2dad8mr54105939f.8.1717025257160; 
 Wed, 29 May 2024 16:27:37 -0700 (PDT)
Received: from postal.iol.unh.edu (postal.iol.unh.edu.
 [2606:4100:3880:1234::84]) by smtp-relay.gmail.com with ESMTPS id
 8926c6da1cb9f-4b07444e13fsm1038985173.22.2024.05.29.16.27.37
 (version=TLS1_2 cipher=ECDHE-ECDSA-AES128-GCM-SHA256 bits=128/128);
 Wed, 29 May 2024 16:27:37 -0700 (PDT)
X-Relaying-Domain: iol.unh.edu
Date: Wed, 29 May 2024 16:27:37 -0700 (PDT)
Message-ID: <6657b9e9.050a0220.ecf83.2789SMTPIN_ADDED_MISSING@mx.google.com>
Received: from [172.17.0.3] (unknown [172.18.0.217])
 by postal.iol.unh.edu (Postfix) with ESMTP id C6740605C373;
 Wed, 29 May 2024 19:27:36 -0400 (EDT)
Subject: |SUCCESS| pw140397-140399 [PATCH] [v3,3/3] dts: Improve logging for 
From: dpdklab@iol.unh.edu
To: Test Report <test-report@dpdk.org>
Cc: dpdk-test-reports@iol.unh.edu
In-Reply-To: <20240529194910.26803-4-jspewock@iol.unh.edu>
References: <20240529194910.26803-4-jspewock@iol.unh.edu>
Content-Type: text/plain
X-BeenThere: test-report@dpdk.org
X-Mailman-Version: 2.1.29
Precedence: list
List-Id: automatic DPDK test reports <test-report.dpdk.org>
List-Unsubscribe: <https://mails.dpdk.org/options/test-report>,
 <mailto:test-report-request@dpdk.org?subject=unsubscribe>
List-Archive: <http://mails.dpdk.org/archives/test-report/>
List-Post: <mailto:test-report@dpdk.org>
List-Help: <mailto:test-report-request@dpdk.org?subject=help>
List-Subscribe: <https://mails.dpdk.org/listinfo/test-report>,
 <mailto:test-report-request@dpdk.org?subject=subscribe>
Errors-To: test-report-bounces@dpdk.org

Test-Label: iol-compile-amd64-testing
Test-Status: SUCCESS
http://dpdk.org/patch/140399

_Testing PASS_

Submitter: Jeremy Spewock <jspewock@iol.unh.edu>
Date: Wednesday, May 29 2024 19:49:10 
DPDK git baseline: Repo:dpdk
  Branch: master
  CommitID:76cef1af8bdaeaf67a5c4ca5df3f221df994dc46

140397-140399 --> testing pass

Test environment and result as below:

+----------------------------------------+--------------------+
|              Environment               | dpdk_meson_compile |
+========================================+====================+
| Ubuntu 20.04 ARM SVE                   | PASS               |
+----------------------------------------+--------------------+
| Debian 12 with MUSDK                   | PASS               |
+----------------------------------------+--------------------+
| Fedora 38 (ARM)                        | PASS               |
+----------------------------------------+--------------------+
| Fedora 39 (ARM)                        | PASS               |
+----------------------------------------+--------------------+
| Fedora 37 (ARM)                        | PASS               |
+----------------------------------------+--------------------+
| Debian 12 (arm)                        | PASS               |
+----------------------------------------+--------------------+
| Debian 11 (Buster) (ARM)               | PASS               |
+----------------------------------------+--------------------+
| CentOS Stream 9 (ARM)                  | PASS               |
+----------------------------------------+--------------------+
| Ubuntu 20.04 (ARM)                     | PASS               |
+----------------------------------------+--------------------+
| Ubuntu 20.04 ARM Clang Cross Compile   | PASS               |
+----------------------------------------+--------------------+
| Ubuntu 20.04 aarch32 GCC Cross Compile | PASS               |
+----------------------------------------+--------------------+
| Fedora 39 (ARM Clang)                  | PASS               |
+----------------------------------------+--------------------+
| Ubuntu 20.04 ARM GCC Cross Compile     | PASS               |
+----------------------------------------+--------------------+
| Fedora 38 (ARM Clang)                  | PASS               |
+----------------------------------------+--------------------+


Ubuntu 20.04 ARM SVE
	Kernel: 5.4.0-167-generic
	Compiler: gcc (Ubuntu 10.5.0-1ubuntu1~20.04) 10.5.0

Debian 12 with MUSDK
	Kernel: Container Host Kernel
	Compiler: gcc 12.2.0

Fedora 38 (ARM)
	Kernel: Depends on container host
	Compiler: gcc 13.2.1

Fedora 39 (ARM)
	Kernel: Depends on container host
	Compiler: gcc 13.2.1

Fedora 37 (ARM)
	Kernel: Depends on container host
	Compiler: gcc 12.3.1

Debian 12 (arm)
	Kernel: Container Host Kernel
	Compiler: gcc 12.2.0

Debian 11 (Buster) (ARM)
	Kernel: Container Host Kernel
	Compiler: gcc 10.2.1

CentOS Stream 9 (ARM)
	Kernel: Container Host Kernel
	Compiler: gcc 11.4.1

Ubuntu 20.04 (ARM)
	Kernel: Container Host Kernel
	Compiler: gcc 9.4.0

Ubuntu 20.04 ARM Clang Cross Compile
	Kernel: 5.4.0-72-generic
	Compiler: clang 10.0.0-4ubuntu1

Ubuntu 20.04 aarch32 GCC Cross Compile
	Kernel: 5.4.0-167-generic
	Compiler: gcc 9.4.0

Fedora 39 (ARM Clang)
	Kernel: Depends on container host
	Compiler: clang 17.0.6

Ubuntu 20.04 ARM GCC Cross Compile
	Kernel: 5.4.0-167-generic
	Compiler: aarch64-linux-gnu-gcc (Ubuntu 9.4.0-1ubuntu1~20.04.2) 9.4.0

Fedora 38 (ARM Clang)
	Kernel: Depends on container host
	Compiler: clang 16.0.6

To view detailed results, visit:
https://lab.dpdk.org/results/dashboard/patchsets/30041/

UNH-IOL DPDK Community Lab

To manage your email subscriptions, visit: 
https://lab.dpdk.org/results/dashboard/preferences/subscriptions/