From mboxrd@z Thu Jan  1 00:00:00 1970
Return-Path: <test-report-bounces@dpdk.org>
Received: from mails.dpdk.org (mails.dpdk.org [217.70.189.124])
	by inbox.dpdk.org (Postfix) with ESMTP id CFEB244107
	for <public@inbox.dpdk.org>; Thu, 30 May 2024 01:29:48 +0200 (CEST)
Received: from mails.dpdk.org (localhost [127.0.0.1])
	by mails.dpdk.org (Postfix) with ESMTP id CB751402AC;
	Thu, 30 May 2024 01:29:48 +0200 (CEST)
Received: from mail-qv1-f100.google.com (mail-qv1-f100.google.com
 [209.85.219.100])
 by mails.dpdk.org (Postfix) with ESMTP id 0C19840289
 for <test-report@dpdk.org>; Thu, 30 May 2024 01:29:47 +0200 (CEST)
Received: by mail-qv1-f100.google.com with SMTP id
 6a1803df08f44-6ab9e0a4135so4633056d6.1
 for <test-report@dpdk.org>; Wed, 29 May 2024 16:29:47 -0700 (PDT)
DKIM-Signature: v=1; a=rsa-sha256; c=relaxed/relaxed;
 d=iol.unh.edu; s=unh-iol; t=1717025386; x=1717630186; darn=dpdk.org;
 h=references:in-reply-to:cc:to:from:subject:message-id:date:from:to
 :cc:subject:date:message-id:reply-to;
 bh=HAArG70jx+1AcQwMXe1xuzwheIJphp8isO8rBI8xEGQ=;
 b=G1eKxAUM9hTeQ+o7O/36ADzzuHDMiGY6ZCggJUiZ9ItV9Oj3Ibr02S/+CtXUKGjxJO
 mEndjO4+JeqmrV9qSVdLD8PF3jhJXbvJ61Pm4qakkbwY1uj5p/C4VpiTY0/Lz4dCIbOy
 BjdVJYYx1Z2SNFKwtsrpX4GFhFncKq21Aq7L4=
X-Google-DKIM-Signature: v=1; a=rsa-sha256; c=relaxed/relaxed;
 d=1e100.net; s=20230601; t=1717025386; x=1717630186;
 h=references:in-reply-to:cc:to:from:subject:message-id:date
 :x-gm-message-state:from:to:cc:subject:date:message-id:reply-to;
 bh=HAArG70jx+1AcQwMXe1xuzwheIJphp8isO8rBI8xEGQ=;
 b=OqFwtnmpVfSNUpbzXTDOfa0TBFLEePV9wbTC/aEEW+zLyNuKnfV1Qlr1JvWWnZ9I8c
 hGXyDdNnoftowuEOC9HUdhc3k7m8gImOI9Q56yYmXdEusJc3ZlWYiCqqFcQxyPgz14x/
 yXij1K6bIOKHJJaD7BBmjlo2iGqdiM4xHjEaMFNE2AVZJTdv45eQbEQivS+fE9Y6wHvg
 HbLfFWpFBdaMCbi1uDDbKlygU50xq+wwP9QjtkbN5iPoimloH9GSbeYan6xK+RrRMkAD
 XChVcv7dE3CbAkIM4MHHez2AUN29zOQxo6t4Zfx25dV/DmXHoFRQy4SGlLzviJ7Q4JJN
 Y+Qg==
X-Gm-Message-State: AOJu0Yw/wfBShwVneVnxSY80l0K7sWJykYTjjSdbpwM8l/cDfvmOt0iN
 3tzIHSstFBRL+x4Nr3w5pkkLA2tq/Sslhk2inry3JUXrtkMpOEk7zDnnMcxGgPxRTf/Uuf+9zra
 gbCdW8BnDgFipWGovs/SzzBpT2QF0m18Q9a5O+JK+
X-Google-Smtp-Source: AGHT+IEYC+mL86mYRcxCAAD4pYf+K79DU5B2t9oEyMelqmbJIfHva0GZQxz9HPFwuR4KCNvDxQ1CMcQZMhIm
X-Received: by 2002:ad4:5c42:0:b0:6a1:6081:6879 with SMTP id
 6a1803df08f44-6ae0ec672dfmr6943426d6.17.1717025386555; 
 Wed, 29 May 2024 16:29:46 -0700 (PDT)
Received: from postal.iol.unh.edu (postal.iol.unh.edu. [132.177.123.84])
 by smtp-relay.gmail.com with ESMTPS id
 6a1803df08f44-6ac0f4a94bdsm15446336d6.60.2024.05.29.16.29.46
 (version=TLS1_2 cipher=ECDHE-ECDSA-AES128-GCM-SHA256 bits=128/128);
 Wed, 29 May 2024 16:29:46 -0700 (PDT)
X-Relaying-Domain: iol.unh.edu
Date: Wed, 29 May 2024 16:29:46 -0700 (PDT)
Message-ID: <6657ba6a.d40a0220.95c1d.bc2eSMTPIN_ADDED_MISSING@mx.google.com>
Received: from [172.17.0.3] (unknown [172.18.0.217])
 by postal.iol.unh.edu (Postfix) with ESMTP id 353EC605C373;
 Wed, 29 May 2024 19:29:46 -0400 (EDT)
Subject: |SUCCESS| pw140394 [PATCH] [v4] lib/hash: add siphash
From: dpdklab@iol.unh.edu
To: Test Report <test-report@dpdk.org>
Cc: dpdk-test-reports@iol.unh.edu
In-Reply-To: <20240529154842.224329-1-stephen@networkplumber.org>
References: <20240529154842.224329-1-stephen@networkplumber.org>
Content-Type: text/plain
X-BeenThere: test-report@dpdk.org
X-Mailman-Version: 2.1.29
Precedence: list
List-Id: automatic DPDK test reports <test-report.dpdk.org>
List-Unsubscribe: <https://mails.dpdk.org/options/test-report>,
 <mailto:test-report-request@dpdk.org?subject=unsubscribe>
List-Archive: <http://mails.dpdk.org/archives/test-report/>
List-Post: <mailto:test-report@dpdk.org>
List-Help: <mailto:test-report-request@dpdk.org?subject=help>
List-Subscribe: <https://mails.dpdk.org/listinfo/test-report>,
 <mailto:test-report-request@dpdk.org?subject=subscribe>
Errors-To: test-report-bounces@dpdk.org

Test-Label: iol-unit-amd64-testing
Test-Status: SUCCESS
http://dpdk.org/patch/140394

_Testing PASS_

Submitter: Stephen Hemminger <stephen@networkplumber.org>
Date: Wednesday, May 29 2024 15:47:28 
DPDK git baseline: Repo:dpdk
  Branch: master
  CommitID:76cef1af8bdaeaf67a5c4ca5df3f221df994dc46

140394 --> testing pass

Test environment and result as below:

+-----------------------------+----------------+------------------------------+---------------------------+
|         Environment         | dpdk_unit_test | cryptodev_sw_snow3g_autotest | cryptodev_sw_zuc_autotest |
+=============================+================+==============================+===========================+
| CentOS Stream 9 (ARM)       | PASS           | SKIPPED                      | SKIPPED                   |
+-----------------------------+----------------+------------------------------+---------------------------+
| Debian 12 (arm)             | PASS           | PASS                         | PASS                      |
+-----------------------------+----------------+------------------------------+---------------------------+
| Fedora 37 (ARM)             | PASS           | SKIPPED                      | SKIPPED                   |
+-----------------------------+----------------+------------------------------+---------------------------+
| Debian 11 (Buster) (ARM)    | PASS           | SKIPPED                      | SKIPPED                   |
+-----------------------------+----------------+------------------------------+---------------------------+
| Fedora 38 (ARM)             | PASS           | SKIPPED                      | SKIPPED                   |
+-----------------------------+----------------+------------------------------+---------------------------+
| Fedora 39 (ARM)             | PASS           | SKIPPED                      | SKIPPED                   |
+-----------------------------+----------------+------------------------------+---------------------------+
| Fedora 38 (ARM Clang)       | PASS           | SKIPPED                      | SKIPPED                   |
+-----------------------------+----------------+------------------------------+---------------------------+
| Ubuntu 20.04 (ARM)          | PASS           | SKIPPED                      | SKIPPED                   |
+-----------------------------+----------------+------------------------------+---------------------------+
| Fedora 39 (ARM Clang)       | PASS           | SKIPPED                      | SKIPPED                   |
+-----------------------------+----------------+------------------------------+---------------------------+
| 32-bit Ubuntu 20.04.4 (ARM) | PASS           | SKIPPED                      | SKIPPED                   |
+-----------------------------+----------------+------------------------------+---------------------------+


CentOS Stream 9 (ARM)
	Kernel: Container Host Kernel
	Compiler: gcc 11.4.1

Debian 12 (arm)
	Kernel: Container Host Kernel
	Compiler: gcc 12.2.0

Fedora 37 (ARM)
	Kernel: Depends on container host
	Compiler: gcc 12.3.1

Debian 11 (Buster) (ARM)
	Kernel: Container Host Kernel
	Compiler: gcc 10.2.1

Fedora 38 (ARM)
	Kernel: Depends on container host
	Compiler: gcc 13.2.1

Fedora 39 (ARM)
	Kernel: Depends on container host
	Compiler: gcc 13.2.1

Fedora 38 (ARM Clang)
	Kernel: Depends on container host
	Compiler: clang 16.0.6

Ubuntu 20.04 (ARM)
	Kernel: Container Host Kernel
	Compiler: gcc 9.4.0

Fedora 39 (ARM Clang)
	Kernel: Depends on container host
	Compiler: clang 17.0.6

32-bit Ubuntu 20.04.4 (ARM)
	Kernel: 5.4.0-155-generic aarch64
	Compiler: gcc 9.4

To view detailed results, visit:
https://lab.dpdk.org/results/dashboard/patchsets/30039/

UNH-IOL DPDK Community Lab

To manage your email subscriptions, visit: 
https://lab.dpdk.org/results/dashboard/preferences/subscriptions/