From mboxrd@z Thu Jan  1 00:00:00 1970
Return-Path: <test-report-bounces@dpdk.org>
Received: from mails.dpdk.org (mails.dpdk.org [217.70.189.124])
	by inbox.dpdk.org (Postfix) with ESMTP id 6A45244107
	for <public@inbox.dpdk.org>; Thu, 30 May 2024 01:33:40 +0200 (CEST)
Received: from mails.dpdk.org (localhost [127.0.0.1])
	by mails.dpdk.org (Postfix) with ESMTP id 62A9F402F1;
	Thu, 30 May 2024 01:33:40 +0200 (CEST)
Received: from mail-oo1-f98.google.com (mail-oo1-f98.google.com
 [209.85.161.98]) by mails.dpdk.org (Postfix) with ESMTP id C392D40289
 for <test-report@dpdk.org>; Thu, 30 May 2024 01:33:35 +0200 (CEST)
Received: by mail-oo1-f98.google.com with SMTP id
 006d021491bc7-5b2e942171cso130593eaf.3
 for <test-report@dpdk.org>; Wed, 29 May 2024 16:33:35 -0700 (PDT)
DKIM-Signature: v=1; a=rsa-sha256; c=relaxed/relaxed;
 d=iol.unh.edu; s=unh-iol; t=1717025615; x=1717630415; darn=dpdk.org;
 h=references:in-reply-to:cc:to:from:subject:message-id:date:from:to
 :cc:subject:date:message-id:reply-to;
 bh=RnCUqdSD4UXK5AJ6zV0QCXKgcFYY3k4MY+aiFILTTVA=;
 b=Zpx7HgNUl7snyMAY0+tcHTrkWyxHTfKXoah3myQi9jJ2Y0pshNtPtoyuIZRY7tRO6k
 zrqOqkW4uWdEgxUdMiHztPKSVbSRoHeqUv/VIwhg0vk3hhp51rN/FUphpzBOchX2LVd/
 uWHd2Xt+s7cvtnDfU1B3fCDFWvkpzku4mrEuE=
X-Google-DKIM-Signature: v=1; a=rsa-sha256; c=relaxed/relaxed;
 d=1e100.net; s=20230601; t=1717025615; x=1717630415;
 h=references:in-reply-to:cc:to:from:subject:message-id:date
 :x-gm-message-state:from:to:cc:subject:date:message-id:reply-to;
 bh=RnCUqdSD4UXK5AJ6zV0QCXKgcFYY3k4MY+aiFILTTVA=;
 b=jT1pLijCuvGz/aJImOMgGIfmAhkpn31ndPH+sJHzAb2stDNpPJCKBbNSajEgQ4K/kU
 NaxTJVl39jTIsyv+sjn0WodKOIySO4qhKDDwZ66BCtduuPF0yOZ9KPiL8c4M4iw+H0wZ
 b6yP8LPL2k1E3pTjp/zEU2/dpkfBf4DjsBIdAg6Yc6JMAMJu3c24IsRrN0M62xBkPTs3
 48S6nyDcay1k/1t3LS70EWjM+PHFFy23E7EVpuQuxyaz7MqHCnXJ8hMSL4A2qoRMiY6G
 EtNDPILUxr6RVkzYseHrsKhFCfEvtZ68a/OHMuYcRIDRBWvT0QamG9XvNsR/e23z6sH0
 AdLA==
X-Gm-Message-State: AOJu0YxLl7FVVHX4t41h6q/o/f2JO1s8RVAVdo9X8owurYUpS91NFpsG
 pXGslrboBXvCXtVntIAVG42H8vF7bS5w60UrhNjDQh7J8pY/8z3WkTctGkRUYPVKkSUOxfHh8lp
 wNNPgy4aaJjbDN4wYLvQmdJ9Mv0zCqSNJk5g9SSVSLWKXq3JJ0BQ39FcM
X-Google-Smtp-Source: AGHT+IEUihVcdg1AvEQ2t3RK73NlYyDUFJ090eHDO0f2d6maJRl2GGlTN+Yz4bp/qw9XpTn7PTUZJSOJe2hl
X-Received: by 2002:a05:6820:160c:b0:5b7:1979:ec49 with SMTP id
 006d021491bc7-5b9ebaf68f9mr680962eaf.0.1717025615254; 
 Wed, 29 May 2024 16:33:35 -0700 (PDT)
Received: from postal.iol.unh.edu (postal.iol.unh.edu.
 [2606:4100:3880:1234::84]) by smtp-relay.gmail.com with ESMTPS id
 006d021491bc7-5b96c450ccfsm1699484eaf.9.2024.05.29.16.33.35
 (version=TLS1_2 cipher=ECDHE-ECDSA-AES128-GCM-SHA256 bits=128/128);
 Wed, 29 May 2024 16:33:35 -0700 (PDT)
X-Relaying-Domain: iol.unh.edu
Date: Wed, 29 May 2024 16:33:35 -0700 (PDT)
Message-ID: <6657bb4f.4a0a0220.1245e.f0faSMTPIN_ADDED_MISSING@mx.google.com>
Received: from [172.17.0.3] (unknown [172.18.0.217])
 by postal.iol.unh.edu (Postfix) with ESMTP id BF19B605C373;
 Wed, 29 May 2024 19:33:34 -0400 (EDT)
Subject: |SUCCESS| pw140395-140396 [PATCH] [v2,2/2] app/pdump: handle SIGTERM
From: dpdklab@iol.unh.edu
To: Test Report <test-report@dpdk.org>
Cc: dpdk-test-reports@iol.unh.edu
In-Reply-To: <20240529160933.282846-3-stephen@networkplumber.org>
References: <20240529160933.282846-3-stephen@networkplumber.org>
Content-Type: text/plain
X-BeenThere: test-report@dpdk.org
X-Mailman-Version: 2.1.29
Precedence: list
List-Id: automatic DPDK test reports <test-report.dpdk.org>
List-Unsubscribe: <https://mails.dpdk.org/options/test-report>,
 <mailto:test-report-request@dpdk.org?subject=unsubscribe>
List-Archive: <http://mails.dpdk.org/archives/test-report/>
List-Post: <mailto:test-report@dpdk.org>
List-Help: <mailto:test-report-request@dpdk.org?subject=help>
List-Subscribe: <https://mails.dpdk.org/listinfo/test-report>,
 <mailto:test-report-request@dpdk.org?subject=subscribe>
Errors-To: test-report-bounces@dpdk.org

Test-Label: iol-compile-amd64-testing
Test-Status: SUCCESS
http://dpdk.org/patch/140396

_Testing PASS_

Submitter: Stephen Hemminger <stephen@networkplumber.org>
Date: Wednesday, May 29 2024 16:08:07 
DPDK git baseline: Repo:dpdk
  Branch: master
  CommitID:76cef1af8bdaeaf67a5c4ca5df3f221df994dc46

140395-140396 --> testing pass

Test environment and result as below:

+----------------------------------------+--------------------+
|              Environment               | dpdk_meson_compile |
+========================================+====================+
| Ubuntu 20.04 ARM SVE                   | PASS               |
+----------------------------------------+--------------------+
| Debian 12 with MUSDK                   | PASS               |
+----------------------------------------+--------------------+
| Fedora 37 (ARM)                        | PASS               |
+----------------------------------------+--------------------+
| Ubuntu 20.04 ARM Clang Cross Compile   | PASS               |
+----------------------------------------+--------------------+
| Fedora 38 (ARM)                        | PASS               |
+----------------------------------------+--------------------+
| Fedora 39 (ARM)                        | PASS               |
+----------------------------------------+--------------------+
| CentOS Stream 9 (ARM)                  | PASS               |
+----------------------------------------+--------------------+
| Ubuntu 20.04 aarch32 GCC Cross Compile | PASS               |
+----------------------------------------+--------------------+
| Debian 12 (arm)                        | PASS               |
+----------------------------------------+--------------------+
| Ubuntu 20.04 (ARM)                     | PASS               |
+----------------------------------------+--------------------+
| Debian 11 (Buster) (ARM)               | PASS               |
+----------------------------------------+--------------------+
| Ubuntu 20.04 ARM GCC Cross Compile     | PASS               |
+----------------------------------------+--------------------+


Ubuntu 20.04 ARM SVE
	Kernel: 5.4.0-167-generic
	Compiler: gcc (Ubuntu 10.5.0-1ubuntu1~20.04) 10.5.0

Debian 12 with MUSDK
	Kernel: Container Host Kernel
	Compiler: gcc 12.2.0

Fedora 37 (ARM)
	Kernel: Depends on container host
	Compiler: gcc 12.3.1

Ubuntu 20.04 ARM Clang Cross Compile
	Kernel: 5.4.0-72-generic
	Compiler: clang 10.0.0-4ubuntu1

Fedora 38 (ARM)
	Kernel: Depends on container host
	Compiler: gcc 13.2.1

Fedora 39 (ARM)
	Kernel: Depends on container host
	Compiler: gcc 13.2.1

CentOS Stream 9 (ARM)
	Kernel: Container Host Kernel
	Compiler: gcc 11.4.1

Ubuntu 20.04 aarch32 GCC Cross Compile
	Kernel: 5.4.0-167-generic
	Compiler: gcc 9.4.0

Debian 12 (arm)
	Kernel: Container Host Kernel
	Compiler: gcc 12.2.0

Ubuntu 20.04 (ARM)
	Kernel: Container Host Kernel
	Compiler: gcc 9.4.0

Debian 11 (Buster) (ARM)
	Kernel: Container Host Kernel
	Compiler: gcc 10.2.1

Ubuntu 20.04 ARM GCC Cross Compile
	Kernel: 5.4.0-167-generic
	Compiler: aarch64-linux-gnu-gcc (Ubuntu 9.4.0-1ubuntu1~20.04.2) 9.4.0

To view detailed results, visit:
https://lab.dpdk.org/results/dashboard/patchsets/30040/

UNH-IOL DPDK Community Lab

To manage your email subscriptions, visit: 
https://lab.dpdk.org/results/dashboard/preferences/subscriptions/