From mboxrd@z Thu Jan  1 00:00:00 1970
Return-Path: <test-report-bounces@dpdk.org>
Received: from mails.dpdk.org (mails.dpdk.org [217.70.189.124])
	by inbox.dpdk.org (Postfix) with ESMTP id E6C0C44107
	for <public@inbox.dpdk.org>; Thu, 30 May 2024 01:39:43 +0200 (CEST)
Received: from mails.dpdk.org (localhost [127.0.0.1])
	by mails.dpdk.org (Postfix) with ESMTP id 323AB427DD;
	Thu, 30 May 2024 01:39:38 +0200 (CEST)
Received: from mail-il1-f228.google.com (mail-il1-f228.google.com
 [209.85.166.228])
 by mails.dpdk.org (Postfix) with ESMTP id DECFF410EA
 for <test-report@dpdk.org>; Thu, 30 May 2024 01:39:29 +0200 (CEST)
Received: by mail-il1-f228.google.com with SMTP id
 e9e14a558f8ab-3737b250ef9so1083625ab.0
 for <test-report@dpdk.org>; Wed, 29 May 2024 16:39:29 -0700 (PDT)
DKIM-Signature: v=1; a=rsa-sha256; c=relaxed/relaxed;
 d=iol.unh.edu; s=unh-iol; t=1717025969; x=1717630769; darn=dpdk.org;
 h=references:in-reply-to:cc:to:from:subject:message-id:date:from:to
 :cc:subject:date:message-id:reply-to;
 bh=MiMcrRNvrPaiLIw5UoDrKn2qU5c9nHzkAJfUUa2j/SA=;
 b=MLYDEfpHKkMNXIN8ICspagAa9Muu+jGEoReoYK1mpH2jSrqHoLhVtc67guyaiWxjsS
 4WdEcMlt+yAnfCDvjQZuZ11sI78SrJvnwtK6H7eNEUrpgfC5bl5o4dvb1azaJEeaM44E
 4KgzsAzlN9cjZjYEREokV6GNxLUcj2g43z+q0=
X-Google-DKIM-Signature: v=1; a=rsa-sha256; c=relaxed/relaxed;
 d=1e100.net; s=20230601; t=1717025969; x=1717630769;
 h=references:in-reply-to:cc:to:from:subject:message-id:date
 :x-gm-message-state:from:to:cc:subject:date:message-id:reply-to;
 bh=MiMcrRNvrPaiLIw5UoDrKn2qU5c9nHzkAJfUUa2j/SA=;
 b=aEB0eCSI9SQq9G0TlLngiZ3WQ90F0IRqx7JFqlGe1o3q0ATLGBu8zOkKbrxiNHbgKT
 Q3Is9HJpTpxXv158Jlwo1W2qcppLu3bNCus35Zw4LyLg005jI7ufTNF3NwYzCvvxI1IO
 g4i0hzb3Sfg/c+ChBppmhLEt6lbBnYRjV5D7GQRNKxPAHKGOHkj8yyZOXAklIC0uGhbV
 /0jwHjfhukZSEAGojL4KmTwM0llOJT1cU+JhtqUHlCjS8pPFwK/V+/lSHUoQSwMqMa+U
 Q3lnVQefuIzL8exFojeSmDZJDpcZ+8lOJA64nCYC57SyaZu7k4iLQzw0+Z8FLzleqWrB
 NPXg==
X-Gm-Message-State: AOJu0YxNtchpe89en1K4fuCKmJm7dUaj7mrteBF4S6mqpIDXp8bBiFha
 /2YRxWIvamUNiT6GNkJs0AJyzgAq5SRadvvNKMi/RT8YRrGafeXKeDBubpFdwJfDq33l/fJMnGV
 R3OTgnRdAIXu/2i0WIYkoSv6CBMdKZ7Zl0voJJ+5O
X-Google-Smtp-Source: AGHT+IFKaYVOZ7jQA8etuqlNWGNOaV8SkJ1pbyv6+MUUwoBhQuQOx2BbMoQe8MQhaqXVh5Pb7NxkcYQvIqDG
X-Received: by 2002:a05:6e02:1d1a:b0:36b:1e1:552f with SMTP id
 e9e14a558f8ab-3747dfb525fmr4216815ab.23.1717025969345; 
 Wed, 29 May 2024 16:39:29 -0700 (PDT)
Received: from postal.iol.unh.edu (postal.iol.unh.edu. [132.177.123.84])
 by smtp-relay.gmail.com with ESMTPS id
 e9e14a558f8ab-37454b09023sm6401505ab.5.2024.05.29.16.39.29
 (version=TLS1_2 cipher=ECDHE-ECDSA-AES128-GCM-SHA256 bits=128/128);
 Wed, 29 May 2024 16:39:29 -0700 (PDT)
X-Relaying-Domain: iol.unh.edu
Date: Wed, 29 May 2024 16:39:29 -0700 (PDT)
Message-ID: <6657bcb1.050a0220.c6e14.7fa6SMTPIN_ADDED_MISSING@mx.google.com>
Received: from [172.17.0.2] (unknown [172.18.0.217])
 by postal.iol.unh.edu (Postfix) with ESMTP id ED277605C373;
 Wed, 29 May 2024 19:39:28 -0400 (EDT)
Subject: |SUCCESS| pw140394 [PATCH] [v4] lib/hash: add siphash
From: dpdklab@iol.unh.edu
To: Test Report <test-report@dpdk.org>
Cc: dpdk-test-reports@iol.unh.edu
In-Reply-To: <20240529154842.224329-1-stephen@networkplumber.org>
References: <20240529154842.224329-1-stephen@networkplumber.org>
Content-Type: text/plain
X-BeenThere: test-report@dpdk.org
X-Mailman-Version: 2.1.29
Precedence: list
List-Id: automatic DPDK test reports <test-report.dpdk.org>
List-Unsubscribe: <https://mails.dpdk.org/options/test-report>,
 <mailto:test-report-request@dpdk.org?subject=unsubscribe>
List-Archive: <http://mails.dpdk.org/archives/test-report/>
List-Post: <mailto:test-report@dpdk.org>
List-Help: <mailto:test-report-request@dpdk.org?subject=help>
List-Subscribe: <https://mails.dpdk.org/listinfo/test-report>,
 <mailto:test-report-request@dpdk.org?subject=subscribe>
Errors-To: test-report-bounces@dpdk.org

Test-Label: iol-compile-amd64-testing
Test-Status: SUCCESS
http://dpdk.org/patch/140394

_Testing PASS_

Submitter: Stephen Hemminger <stephen@networkplumber.org>
Date: Wednesday, May 29 2024 15:47:28 
DPDK git baseline: Repo:dpdk
  Branch: master
  CommitID:76cef1af8bdaeaf67a5c4ca5df3f221df994dc46

140394 --> testing pass

Test environment and result as below:

+----------------------------------------+--------------------+
|              Environment               | dpdk_meson_compile |
+========================================+====================+
| Ubuntu 20.04 ARM SVE                   | PASS               |
+----------------------------------------+--------------------+
| Debian 12 with MUSDK                   | PASS               |
+----------------------------------------+--------------------+
| Fedora 37 (ARM)                        | PASS               |
+----------------------------------------+--------------------+
| Fedora 38 (ARM)                        | PASS               |
+----------------------------------------+--------------------+
| Fedora 39 (ARM)                        | PASS               |
+----------------------------------------+--------------------+
| Ubuntu 20.04 ARM GCC Cross Compile     | PASS               |
+----------------------------------------+--------------------+
| CentOS Stream 9 (ARM)                  | PASS               |
+----------------------------------------+--------------------+
| Debian 11 (Buster) (ARM)               | PASS               |
+----------------------------------------+--------------------+
| Ubuntu 20.04 ARM Clang Cross Compile   | PASS               |
+----------------------------------------+--------------------+
| Ubuntu 20.04 (ARM)                     | PASS               |
+----------------------------------------+--------------------+
| Debian 12 (arm)                        | PASS               |
+----------------------------------------+--------------------+
| Ubuntu 20.04 aarch32 GCC Cross Compile | PASS               |
+----------------------------------------+--------------------+


Ubuntu 20.04 ARM SVE
	Kernel: 5.4.0-167-generic
	Compiler: gcc (Ubuntu 10.5.0-1ubuntu1~20.04) 10.5.0

Debian 12 with MUSDK
	Kernel: Container Host Kernel
	Compiler: gcc 12.2.0

Fedora 37 (ARM)
	Kernel: Depends on container host
	Compiler: gcc 12.3.1

Fedora 38 (ARM)
	Kernel: Depends on container host
	Compiler: gcc 13.2.1

Fedora 39 (ARM)
	Kernel: Depends on container host
	Compiler: gcc 13.2.1

Ubuntu 20.04 ARM GCC Cross Compile
	Kernel: 5.4.0-167-generic
	Compiler: aarch64-linux-gnu-gcc (Ubuntu 9.4.0-1ubuntu1~20.04.2) 9.4.0

CentOS Stream 9 (ARM)
	Kernel: Container Host Kernel
	Compiler: gcc 11.4.1

Debian 11 (Buster) (ARM)
	Kernel: Container Host Kernel
	Compiler: gcc 10.2.1

Ubuntu 20.04 ARM Clang Cross Compile
	Kernel: 5.4.0-72-generic
	Compiler: clang 10.0.0-4ubuntu1

Ubuntu 20.04 (ARM)
	Kernel: Container Host Kernel
	Compiler: gcc 9.4.0

Debian 12 (arm)
	Kernel: Container Host Kernel
	Compiler: gcc 12.2.0

Ubuntu 20.04 aarch32 GCC Cross Compile
	Kernel: 5.4.0-167-generic
	Compiler: gcc 9.4.0

To view detailed results, visit:
https://lab.dpdk.org/results/dashboard/patchsets/30039/

UNH-IOL DPDK Community Lab

To manage your email subscriptions, visit: 
https://lab.dpdk.org/results/dashboard/preferences/subscriptions/