From mboxrd@z Thu Jan  1 00:00:00 1970
Return-Path: <test-report-bounces@dpdk.org>
Received: from mails.dpdk.org (mails.dpdk.org [217.70.189.124])
	by inbox.dpdk.org (Postfix) with ESMTP id 3850744107
	for <public@inbox.dpdk.org>; Thu, 30 May 2024 01:40:09 +0200 (CEST)
Received: from mails.dpdk.org (localhost [127.0.0.1])
	by mails.dpdk.org (Postfix) with ESMTP id 7C6B940E32;
	Thu, 30 May 2024 01:40:08 +0200 (CEST)
Received: from mail-pl1-f226.google.com (mail-pl1-f226.google.com
 [209.85.214.226])
 by mails.dpdk.org (Postfix) with ESMTP id 668AC410F2
 for <test-report@dpdk.org>; Thu, 30 May 2024 01:40:06 +0200 (CEST)
Received: by mail-pl1-f226.google.com with SMTP id
 d9443c01a7336-1f47f07acd3so3009365ad.0
 for <test-report@dpdk.org>; Wed, 29 May 2024 16:40:06 -0700 (PDT)
DKIM-Signature: v=1; a=rsa-sha256; c=relaxed/relaxed;
 d=iol.unh.edu; s=unh-iol; t=1717026005; x=1717630805; darn=dpdk.org;
 h=references:in-reply-to:cc:to:from:subject:message-id:date:from:to
 :cc:subject:date:message-id:reply-to;
 bh=MiMcrRNvrPaiLIw5UoDrKn2qU5c9nHzkAJfUUa2j/SA=;
 b=GT5elE7hYRQ9341dOiBMJ3w1Y3YUPfITiabOupyiqQSLVwZet3iUdqQ7FqszV11lYU
 WAPFZQpdgMq7YdyluEFQweJ4M/fKGStB3pTvx9Rbi9TO0pVXGbs5iVW1SinuhMC5nJn3
 iQZQxNTm0yHF3pqOLp5E2U3vd5dDGtqK2rB9c=
X-Google-DKIM-Signature: v=1; a=rsa-sha256; c=relaxed/relaxed;
 d=1e100.net; s=20230601; t=1717026005; x=1717630805;
 h=references:in-reply-to:cc:to:from:subject:message-id:date
 :x-gm-message-state:from:to:cc:subject:date:message-id:reply-to;
 bh=MiMcrRNvrPaiLIw5UoDrKn2qU5c9nHzkAJfUUa2j/SA=;
 b=Yuc2xjgVnn00uV4F5t/d/ORDsjAXAPYULpn4Z0A4LBiKtOgUty9uBx2YjadyrjVZ1R
 L7k8vP+AKQzYFQomdfZFtw1NJV6Bv7e1Gag4ohblLQxnR+AhQ67ScJe5aZHtH7yCG6HL
 QnTfRN/mjx7KyNJmmOT7zA36YZR0+qf/uXHHpkwHmuEzM5PceAt5vM6r5xaw3axQnJBa
 WsWizAtgN2Gaj59Sp3+XpU2hfyTy4MoapHZYWR5hm8Fb9YRYW07k/wMZEDsFUf9FN6jS
 +RCOpCGcIlOMlBeg2jvv1kdsqYvjgAc++PbSmQsrYIwJ5pIUBnF6HrlYcWvRg/XjDHua
 uDbw==
X-Gm-Message-State: AOJu0Yz+xAJYgh7nIn2k/0F1DpqRaQyux8bb3aEdlfDzsTtrtB+NeepB
 rxH9rNzoWJXVP8Eyu0m4+5QNUD2AxbtcpciKF8C9QVSUYMyRYoivIoLHzz+z/sLZdg3TEin0/2r
 kbX6Y2DpZcVYGJFLN+SOQ7QcsUu1zHoKLNEptIeND
X-Google-Smtp-Source: AGHT+IG5jISwNY+497baYahIe9VgkmNjW8wkTuviTTNBSorXoiKokKiwfMNPAbTERgdNNwqWrf3Nsn0r26VN
X-Received: by 2002:a17:902:f648:b0:1f4:9906:e296 with SMTP id
 d9443c01a7336-1f61960c655mr7146695ad.35.1717026005644; 
 Wed, 29 May 2024 16:40:05 -0700 (PDT)
Received: from postal.iol.unh.edu (postal.iol.unh.edu. [132.177.123.84])
 by smtp-relay.gmail.com with ESMTPS id
 d9443c01a7336-1f47d9e3137sm3898945ad.128.2024.05.29.16.40.05
 (version=TLS1_2 cipher=ECDHE-ECDSA-AES128-GCM-SHA256 bits=128/128);
 Wed, 29 May 2024 16:40:05 -0700 (PDT)
X-Relaying-Domain: iol.unh.edu
Date: Wed, 29 May 2024 16:40:05 -0700 (PDT)
Message-ID: <6657bcd5.170a0220.67c83.b29eSMTPIN_ADDED_MISSING@mx.google.com>
Received: from [172.17.0.2] (unknown [172.18.0.217])
 by postal.iol.unh.edu (Postfix) with ESMTP id D2EE3605C373;
 Wed, 29 May 2024 19:40:04 -0400 (EDT)
Subject: |SUCCESS| pw140394 [PATCH] [v4] lib/hash: add siphash
From: dpdklab@iol.unh.edu
To: Test Report <test-report@dpdk.org>
Cc: dpdk-test-reports@iol.unh.edu
In-Reply-To: <20240529154842.224329-1-stephen@networkplumber.org>
References: <20240529154842.224329-1-stephen@networkplumber.org>
Content-Type: text/plain
X-BeenThere: test-report@dpdk.org
X-Mailman-Version: 2.1.29
Precedence: list
List-Id: automatic DPDK test reports <test-report.dpdk.org>
List-Unsubscribe: <https://mails.dpdk.org/options/test-report>,
 <mailto:test-report-request@dpdk.org?subject=unsubscribe>
List-Archive: <http://mails.dpdk.org/archives/test-report/>
List-Post: <mailto:test-report@dpdk.org>
List-Help: <mailto:test-report-request@dpdk.org?subject=help>
List-Subscribe: <https://mails.dpdk.org/listinfo/test-report>,
 <mailto:test-report-request@dpdk.org?subject=subscribe>
Errors-To: test-report-bounces@dpdk.org

Test-Label: iol-compile-amd64-testing
Test-Status: SUCCESS
http://dpdk.org/patch/140394

_Testing PASS_

Submitter: Stephen Hemminger <stephen@networkplumber.org>
Date: Wednesday, May 29 2024 15:47:28 
DPDK git baseline: Repo:dpdk
  Branch: master
  CommitID:76cef1af8bdaeaf67a5c4ca5df3f221df994dc46

140394 --> testing pass

Test environment and result as below:

+----------------------------------------+--------------------+
|              Environment               | dpdk_meson_compile |
+========================================+====================+
| Ubuntu 20.04 ARM SVE                   | PASS               |
+----------------------------------------+--------------------+
| Debian 12 with MUSDK                   | PASS               |
+----------------------------------------+--------------------+
| Fedora 37 (ARM)                        | PASS               |
+----------------------------------------+--------------------+
| Fedora 38 (ARM)                        | PASS               |
+----------------------------------------+--------------------+
| Fedora 39 (ARM)                        | PASS               |
+----------------------------------------+--------------------+
| Ubuntu 20.04 ARM GCC Cross Compile     | PASS               |
+----------------------------------------+--------------------+
| CentOS Stream 9 (ARM)                  | PASS               |
+----------------------------------------+--------------------+
| Debian 11 (Buster) (ARM)               | PASS               |
+----------------------------------------+--------------------+
| Ubuntu 20.04 ARM Clang Cross Compile   | PASS               |
+----------------------------------------+--------------------+
| Ubuntu 20.04 (ARM)                     | PASS               |
+----------------------------------------+--------------------+
| Debian 12 (arm)                        | PASS               |
+----------------------------------------+--------------------+
| Ubuntu 20.04 aarch32 GCC Cross Compile | PASS               |
+----------------------------------------+--------------------+


Ubuntu 20.04 ARM SVE
	Kernel: 5.4.0-167-generic
	Compiler: gcc (Ubuntu 10.5.0-1ubuntu1~20.04) 10.5.0

Debian 12 with MUSDK
	Kernel: Container Host Kernel
	Compiler: gcc 12.2.0

Fedora 37 (ARM)
	Kernel: Depends on container host
	Compiler: gcc 12.3.1

Fedora 38 (ARM)
	Kernel: Depends on container host
	Compiler: gcc 13.2.1

Fedora 39 (ARM)
	Kernel: Depends on container host
	Compiler: gcc 13.2.1

Ubuntu 20.04 ARM GCC Cross Compile
	Kernel: 5.4.0-167-generic
	Compiler: aarch64-linux-gnu-gcc (Ubuntu 9.4.0-1ubuntu1~20.04.2) 9.4.0

CentOS Stream 9 (ARM)
	Kernel: Container Host Kernel
	Compiler: gcc 11.4.1

Debian 11 (Buster) (ARM)
	Kernel: Container Host Kernel
	Compiler: gcc 10.2.1

Ubuntu 20.04 ARM Clang Cross Compile
	Kernel: 5.4.0-72-generic
	Compiler: clang 10.0.0-4ubuntu1

Ubuntu 20.04 (ARM)
	Kernel: Container Host Kernel
	Compiler: gcc 9.4.0

Debian 12 (arm)
	Kernel: Container Host Kernel
	Compiler: gcc 12.2.0

Ubuntu 20.04 aarch32 GCC Cross Compile
	Kernel: 5.4.0-167-generic
	Compiler: gcc 9.4.0

To view detailed results, visit:
https://lab.dpdk.org/results/dashboard/patchsets/30039/

UNH-IOL DPDK Community Lab

To manage your email subscriptions, visit: 
https://lab.dpdk.org/results/dashboard/preferences/subscriptions/