From mboxrd@z Thu Jan  1 00:00:00 1970
Return-Path: <test-report-bounces@dpdk.org>
Received: from mails.dpdk.org (mails.dpdk.org [217.70.189.124])
	by inbox.dpdk.org (Postfix) with ESMTP id B0D9B44108
	for <public@inbox.dpdk.org>; Thu, 30 May 2024 03:36:06 +0200 (CEST)
Received: from mails.dpdk.org (localhost [127.0.0.1])
	by mails.dpdk.org (Postfix) with ESMTP id AA438402E4;
	Thu, 30 May 2024 03:36:06 +0200 (CEST)
Received: from mail-qt1-f228.google.com (mail-qt1-f228.google.com
 [209.85.160.228])
 by mails.dpdk.org (Postfix) with ESMTP id E4FA7402CD
 for <test-report@dpdk.org>; Thu, 30 May 2024 03:36:04 +0200 (CEST)
Received: by mail-qt1-f228.google.com with SMTP id
 d75a77b69052e-43fd97d16baso1752351cf.1
 for <test-report@dpdk.org>; Wed, 29 May 2024 18:36:04 -0700 (PDT)
DKIM-Signature: v=1; a=rsa-sha256; c=relaxed/relaxed;
 d=iol.unh.edu; s=unh-iol; t=1717032964; x=1717637764; darn=dpdk.org;
 h=references:in-reply-to:cc:to:from:subject:message-id:date:from:to
 :cc:subject:date:message-id:reply-to;
 bh=XDr3mj40u/S8lqsJernAKBCGurDgPyFMKZ5bR6hziSQ=;
 b=RYF7a6+64ddKO8VySSrjzeEs4afwf92Rx1KNjJlPytEzk2mwJm+W3jggf8TpIPb2ye
 +I1eJRTXvKbykzKMYV4NFJSq7rYkR8orZlHmZ1Dntwk4ipUur2yF7vf+BxaSs+XjH/lc
 Cap5OMAvhO74peEOYVpGRr1wgodax1yk+9uMc=
X-Google-DKIM-Signature: v=1; a=rsa-sha256; c=relaxed/relaxed;
 d=1e100.net; s=20230601; t=1717032964; x=1717637764;
 h=references:in-reply-to:cc:to:from:subject:message-id:date
 :x-gm-message-state:from:to:cc:subject:date:message-id:reply-to;
 bh=XDr3mj40u/S8lqsJernAKBCGurDgPyFMKZ5bR6hziSQ=;
 b=Ks2Pl2Scb/zMPXCEc2bqAv6gl6cO683ixMGcoVLwZT/PId7tZrl5Wf2xLyc9qy14cr
 ciR3Ce1iRiDXjn1JdGuHaXwLdR72fviywQG6o8Gym6FkHT1MEVUpKwKVJQmUqLGs468n
 badLZOPVeVZea6Q1epiyhNcYvc/gboQ/dB4ijaNeB7aAepAMpjVWR+WhTesGFeufF3BU
 Vx0JTeBfjx42Mu9DImLtQKEGmLELKMPM/oo2YPNHa/IqBe7eVqJJ2AXBUIgYVrG7/jWK
 BFrpqZWMrFKKANtj2OXBNAyePjLpQYNvBnM9h4ZK/4QzXbgb+rSJs+PQGNtx9Y/SxSFW
 W73w==
X-Gm-Message-State: AOJu0YxbRdih370ePXjicENzOTheLX9k+PF67/Teq4quzluKZjWowJrM
 ZcFZ39jl7fjFktJVyRxzrcbSujcZP/+MiErZebls5xLA33gVp73L4JQ5yKVVRz3Tr6OpYmDsLSZ
 YqESUlBZfOwut02suJPfKDGm1ToZAAYnd3/LVmiL4NsbAZNU9ch9g4FY4
X-Google-Smtp-Source: AGHT+IFaKnLREQOT1VYTgeXmbLe3NJEvBknbkvZbojybxKuvaUKWcgQOB9hnUgjIcWUw4gW2XHc7ncx6pq2f
X-Received: by 2002:a05:622a:24a:b0:43e:26ab:4fbc with SMTP id
 d75a77b69052e-43fe930b32amr10751551cf.48.1717032964419; 
 Wed, 29 May 2024 18:36:04 -0700 (PDT)
Received: from postal.iol.unh.edu (postal.iol.unh.edu.
 [2606:4100:3880:1234::84]) by smtp-relay.gmail.com with ESMTPS id
 d75a77b69052e-43fb15fb667sm8546491cf.0.2024.05.29.18.36.04
 (version=TLS1_2 cipher=ECDHE-ECDSA-AES128-GCM-SHA256 bits=128/128);
 Wed, 29 May 2024 18:36:04 -0700 (PDT)
X-Relaying-Domain: iol.unh.edu
Date: Wed, 29 May 2024 18:36:04 -0700 (PDT)
Message-ID: <6657d804.c80a0220.c8e1a.b3b3SMTPIN_ADDED_MISSING@mx.google.com>
Received: from [172.17.0.4] (unknown [172.18.0.217])
 by postal.iol.unh.edu (Postfix) with ESMTP id 21E546050A9C;
 Wed, 29 May 2024 21:36:04 -0400 (EDT)
Subject: |SUCCESS| pw140401-140408 [PATCH] [v6,8/8] test: update to latencyst
From: dpdklab@iol.unh.edu
To: Test Report <test-report@dpdk.org>
Cc: dpdk-test-reports@iol.unh.edu
In-Reply-To: <20240529225732.442539-9-stephen@networkplumber.org>
References: <20240529225732.442539-9-stephen@networkplumber.org>
Content-Type: text/plain
X-BeenThere: test-report@dpdk.org
X-Mailman-Version: 2.1.29
Precedence: list
List-Id: automatic DPDK test reports <test-report.dpdk.org>
List-Unsubscribe: <https://mails.dpdk.org/options/test-report>,
 <mailto:test-report-request@dpdk.org?subject=unsubscribe>
List-Archive: <http://mails.dpdk.org/archives/test-report/>
List-Post: <mailto:test-report@dpdk.org>
List-Help: <mailto:test-report-request@dpdk.org?subject=help>
List-Subscribe: <https://mails.dpdk.org/listinfo/test-report>,
 <mailto:test-report-request@dpdk.org?subject=subscribe>
Errors-To: test-report-bounces@dpdk.org

Test-Label: iol-unit-amd64-testing
Test-Status: SUCCESS
http://dpdk.org/patch/140408

_Testing PASS_

Submitter: Stephen Hemminger <stephen@networkplumber.org>
Date: Wednesday, May 29 2024 22:54:45 
DPDK git baseline: Repo:dpdk
  Branch: master
  CommitID:76cef1af8bdaeaf67a5c4ca5df3f221df994dc46

140401-140408 --> testing pass

Test environment and result as below:

+-----------------------------+----------------+---------------------------+------------------------------+--------------+
|         Environment         | dpdk_unit_test | cryptodev_sw_zuc_autotest | cryptodev_sw_snow3g_autotest | lpm_autotest |
+=============================+================+===========================+==============================+==============+
| Debian 11 (Buster) (ARM)    | PASS           | SKIPPED                   | SKIPPED                      | SKIPPED      |
+-----------------------------+----------------+---------------------------+------------------------------+--------------+
| CentOS Stream 9 (ARM)       | PASS           | SKIPPED                   | SKIPPED                      | SKIPPED      |
+-----------------------------+----------------+---------------------------+------------------------------+--------------+
| Fedora 37 (ARM)             | PASS           | SKIPPED                   | SKIPPED                      | SKIPPED      |
+-----------------------------+----------------+---------------------------+------------------------------+--------------+
| Fedora 38 (ARM)             | PASS           | SKIPPED                   | SKIPPED                      | SKIPPED      |
+-----------------------------+----------------+---------------------------+------------------------------+--------------+
| Debian 12 (arm)             | PASS           | PASS                      | PASS                         | SKIPPED      |
+-----------------------------+----------------+---------------------------+------------------------------+--------------+
| Fedora 39 (ARM)             | PASS           | SKIPPED                   | SKIPPED                      | SKIPPED      |
+-----------------------------+----------------+---------------------------+------------------------------+--------------+
| 32-bit Ubuntu 20.04.4 (ARM) | PASS           | SKIPPED                   | SKIPPED                      | SKIPPED      |
+-----------------------------+----------------+---------------------------+------------------------------+--------------+
| Ubuntu 20.04 (ARM)          | PASS           | SKIPPED                   | SKIPPED                      | SKIPPED      |
+-----------------------------+----------------+---------------------------+------------------------------+--------------+
| Fedora 39 (ARM Clang)       | PASS           | SKIPPED                   | SKIPPED                      | SKIPPED      |
+-----------------------------+----------------+---------------------------+------------------------------+--------------+
| Fedora 38 (ARM Clang)       | PASS           | SKIPPED                   | SKIPPED                      | SKIPPED      |
+-----------------------------+----------------+---------------------------+------------------------------+--------------+
| Ubuntu 20.04 ARM SVE        | SKIPPED        | SKIPPED                   | SKIPPED                      | PASS         |
+-----------------------------+----------------+---------------------------+------------------------------+--------------+


Debian 11 (Buster) (ARM)
	Kernel: Container Host Kernel
	Compiler: gcc 10.2.1

CentOS Stream 9 (ARM)
	Kernel: Container Host Kernel
	Compiler: gcc 11.4.1

Fedora 37 (ARM)
	Kernel: Depends on container host
	Compiler: gcc 12.3.1

Fedora 38 (ARM)
	Kernel: Depends on container host
	Compiler: gcc 13.2.1

Debian 12 (arm)
	Kernel: Container Host Kernel
	Compiler: gcc 12.2.0

Fedora 39 (ARM)
	Kernel: Depends on container host
	Compiler: gcc 13.2.1

32-bit Ubuntu 20.04.4 (ARM)
	Kernel: 5.4.0-155-generic aarch64
	Compiler: gcc 9.4

Ubuntu 20.04 (ARM)
	Kernel: Container Host Kernel
	Compiler: gcc 9.4.0

Fedora 39 (ARM Clang)
	Kernel: Depends on container host
	Compiler: clang 17.0.6

Fedora 38 (ARM Clang)
	Kernel: Depends on container host
	Compiler: clang 16.0.6

Ubuntu 20.04 ARM SVE
	Kernel: 5.4.0-167-generic
	Compiler: gcc (Ubuntu 10.5.0-1ubuntu1~20.04) 10.5.0

To view detailed results, visit:
https://lab.dpdk.org/results/dashboard/patchsets/30043/

UNH-IOL DPDK Community Lab

To manage your email subscriptions, visit: 
https://lab.dpdk.org/results/dashboard/preferences/subscriptions/