From mboxrd@z Thu Jan  1 00:00:00 1970
Return-Path: <test-report-bounces@dpdk.org>
Received: from mails.dpdk.org (mails.dpdk.org [217.70.189.124])
	by inbox.dpdk.org (Postfix) with ESMTP id EF40744108
	for <public@inbox.dpdk.org>; Thu, 30 May 2024 03:43:46 +0200 (CEST)
Received: from mails.dpdk.org (localhost [127.0.0.1])
	by mails.dpdk.org (Postfix) with ESMTP id DC1D3402E4;
	Thu, 30 May 2024 03:43:46 +0200 (CEST)
Received: from mail-qt1-f228.google.com (mail-qt1-f228.google.com
 [209.85.160.228])
 by mails.dpdk.org (Postfix) with ESMTP id AFD65402CD
 for <test-report@dpdk.org>; Thu, 30 May 2024 03:43:38 +0200 (CEST)
Received: by mail-qt1-f228.google.com with SMTP id
 d75a77b69052e-43fdd85a284so1820101cf.0
 for <test-report@dpdk.org>; Wed, 29 May 2024 18:43:38 -0700 (PDT)
DKIM-Signature: v=1; a=rsa-sha256; c=relaxed/relaxed;
 d=iol.unh.edu; s=unh-iol; t=1717033418; x=1717638218; darn=dpdk.org;
 h=references:in-reply-to:cc:to:from:subject:message-id:date:from:to
 :cc:subject:date:message-id:reply-to;
 bh=QQbvBNh3i9tnWyFlJk8gi6ZsjpToGf117zE6h+f72ao=;
 b=UX11rTVgHAD8jWZnM5l6YOxU2aGQ5zNyNYHKE3ZfI/G6+3VJXWu7traIb1XGFDIkyU
 toLQnUfg431q3Nr8MzH6O9zn8ifDLxjcw3QLvPm7sABEm/3cUX6J18SkNifo6ss+bKz/
 YJ979dBACAfICYesS034W8rOZ/UGCtJb3ojao=
X-Google-DKIM-Signature: v=1; a=rsa-sha256; c=relaxed/relaxed;
 d=1e100.net; s=20230601; t=1717033418; x=1717638218;
 h=references:in-reply-to:cc:to:from:subject:message-id:date
 :x-gm-message-state:from:to:cc:subject:date:message-id:reply-to;
 bh=QQbvBNh3i9tnWyFlJk8gi6ZsjpToGf117zE6h+f72ao=;
 b=GYGN5HimkNOYqmK495b1BtOTfaOloycK33qVWPFdM00ZR9sSuSK55SCMNe9NQg8H0y
 qEue4CT4o172/jRCFDY20WjE47kui3bjx97wmsHBZsYrFJOC9QANE0dKfq3FOGIZ2JfK
 ZL7/1LEc7vqysyZKRaPPWFNKaDDeEdvRLXghpBdxK62vJYYUNpsAhJoVZlKnjRH8w8jU
 /sZb6gjw8dAIEpGSOg+itBZMEJGATcHeBnc8V9Wx7+LKV24A66RZuVKCeqIo9emyBM9F
 l4AKqRdWCzMCe3HaJ6yMyoXqViK9Lk8YjNJdq4+ivLXKkcDoCwD+onbgrfFvuKNwbbaF
 Mo6A==
X-Gm-Message-State: AOJu0Yz1I/1aFFeETf6vDKzLXqeZmQz7TLn859BoxsEbNAMcGfsPdhXq
 ie9Gt+XRc+0iJyAmVLDFkERROO8JbhUKMaoTAxRC8A3QbwZwsBLPKnhH6tc9DDoWIhz5GqwV1AM
 V7h8brDIsPqzRoU8TIClJBD7ZLtwYJunNz773NMdL
X-Google-Smtp-Source: AGHT+IFsvtWIcMOqxY7nHLEx5mnc6hZ3X9Mx8QVVEFaRGn1RxsBtFxzrE8uVpjznIDEo3bVkofk1vBYwj9O7
X-Received: by 2002:a05:622a:58c:b0:43b:7be:15a1 with SMTP id
 d75a77b69052e-43fe92ab675mr10707351cf.12.1717033418146; 
 Wed, 29 May 2024 18:43:38 -0700 (PDT)
Received: from postal.iol.unh.edu (postal.iol.unh.edu. [132.177.123.84])
 by smtp-relay.gmail.com with ESMTPS id
 d75a77b69052e-43fb189520bsm8448291cf.20.2024.05.29.18.43.38
 (version=TLS1_2 cipher=ECDHE-ECDSA-AES128-GCM-SHA256 bits=128/128);
 Wed, 29 May 2024 18:43:38 -0700 (PDT)
X-Relaying-Domain: iol.unh.edu
Date: Wed, 29 May 2024 18:43:38 -0700 (PDT)
Message-ID: <6657d9ca.c80a0220.5c7c.b5f8SMTPIN_ADDED_MISSING@mx.google.com>
Received: from [172.21.0.6] (unknown [172.18.0.240])
 by postal.iol.unh.edu (Postfix) with ESMTP id D8D676050A9C;
 Wed, 29 May 2024 21:43:37 -0400 (EDT)
Subject: |SUCCESS| pw140400 [PATCH] net/mlx5: break resource release forever 
From: dpdklab@iol.unh.edu
To: Test Report <test-report@dpdk.org>
Cc: dpdk-test-reports@iol.unh.edu
In-Reply-To: <20240529214632.1980988-1-akozyrev@nvidia.com>
References: <20240529214632.1980988-1-akozyrev@nvidia.com>
Content-Type: text/plain
X-BeenThere: test-report@dpdk.org
X-Mailman-Version: 2.1.29
Precedence: list
List-Id: automatic DPDK test reports <test-report.dpdk.org>
List-Unsubscribe: <https://mails.dpdk.org/options/test-report>,
 <mailto:test-report-request@dpdk.org?subject=unsubscribe>
List-Archive: <http://mails.dpdk.org/archives/test-report/>
List-Post: <mailto:test-report@dpdk.org>
List-Help: <mailto:test-report-request@dpdk.org?subject=help>
List-Subscribe: <https://mails.dpdk.org/listinfo/test-report>,
 <mailto:test-report-request@dpdk.org?subject=subscribe>
Errors-To: test-report-bounces@dpdk.org

Test-Label: iol-compile-amd64-testing
Test-Status: SUCCESS
http://dpdk.org/patch/140400

_Testing PASS_

Submitter: Alexander Kozyrev <akozyrev@nvidia.com>
Date: Wednesday, May 29 2024 21:46:32 
DPDK git baseline: Repo:dpdk
  Branch: master
  CommitID:5d185b9afaca3c98d8fd779e97d83e571660f4cf

140400 --> testing pass

Test environment and result as below:

+----------------------------------------+--------------------+
|              Environment               | dpdk_meson_compile |
+========================================+====================+
| Ubuntu 20.04 ARM SVE                   | PASS               |
+----------------------------------------+--------------------+
| Debian 12 with MUSDK                   | PASS               |
+----------------------------------------+--------------------+
| Fedora 37 (ARM)                        | PASS               |
+----------------------------------------+--------------------+
| Fedora 39 (ARM)                        | PASS               |
+----------------------------------------+--------------------+
| Debian 12 (arm)                        | PASS               |
+----------------------------------------+--------------------+
| Ubuntu 20.04 (ARM)                     | PASS               |
+----------------------------------------+--------------------+
| Fedora 38 (ARM)                        | PASS               |
+----------------------------------------+--------------------+
| Ubuntu 20.04 aarch32 GCC Cross Compile | PASS               |
+----------------------------------------+--------------------+
| Debian 11 (Buster) (ARM)               | PASS               |
+----------------------------------------+--------------------+
| CentOS Stream 9 (ARM)                  | PASS               |
+----------------------------------------+--------------------+


Ubuntu 20.04 ARM SVE
	Kernel: 5.4.0-167-generic
	Compiler: gcc (Ubuntu 10.5.0-1ubuntu1~20.04) 10.5.0

Debian 12 with MUSDK
	Kernel: Container Host Kernel
	Compiler: gcc 12.2.0

Fedora 37 (ARM)
	Kernel: Depends on container host
	Compiler: gcc 12.3.1

Fedora 39 (ARM)
	Kernel: Depends on container host
	Compiler: gcc 13.2.1

Debian 12 (arm)
	Kernel: Container Host Kernel
	Compiler: gcc 12.2.0

Ubuntu 20.04 (ARM)
	Kernel: Container Host Kernel
	Compiler: gcc 9.4.0

Fedora 38 (ARM)
	Kernel: Depends on container host
	Compiler: gcc 13.2.1

Ubuntu 20.04 aarch32 GCC Cross Compile
	Kernel: 5.4.0-167-generic
	Compiler: gcc 9.4.0

Debian 11 (Buster) (ARM)
	Kernel: Container Host Kernel
	Compiler: gcc 10.2.1

CentOS Stream 9 (ARM)
	Kernel: Container Host Kernel
	Compiler: gcc 11.4.1

To view detailed results, visit:
https://lab.dpdk.org/results/dashboard/patchsets/30042/

UNH-IOL DPDK Community Lab

To manage your email subscriptions, visit: 
https://lab.dpdk.org/results/dashboard/preferences/subscriptions/