From mboxrd@z Thu Jan  1 00:00:00 1970
Return-Path: <test-report-bounces@dpdk.org>
Received: from mails.dpdk.org (mails.dpdk.org [217.70.189.124])
	by inbox.dpdk.org (Postfix) with ESMTP id D0A8E4410E
	for <public@inbox.dpdk.org>; Thu, 30 May 2024 10:30:17 +0200 (CEST)
Received: from mails.dpdk.org (localhost [127.0.0.1])
	by mails.dpdk.org (Postfix) with ESMTP id C9C7E402F1;
	Thu, 30 May 2024 10:30:17 +0200 (CEST)
Received: from mail-qt1-f225.google.com (mail-qt1-f225.google.com
 [209.85.160.225])
 by mails.dpdk.org (Postfix) with ESMTP id E3E4440041
 for <test-report@dpdk.org>; Thu, 30 May 2024 10:30:16 +0200 (CEST)
Received: by mail-qt1-f225.google.com with SMTP id
 d75a77b69052e-43fe05d6bc9so3461151cf.2
 for <test-report@dpdk.org>; Thu, 30 May 2024 01:30:16 -0700 (PDT)
DKIM-Signature: v=1; a=rsa-sha256; c=relaxed/relaxed;
 d=iol.unh.edu; s=unh-iol; t=1717057816; x=1717662616; darn=dpdk.org;
 h=references:in-reply-to:cc:to:from:subject:message-id:date:from:to
 :cc:subject:date:message-id:reply-to;
 bh=wQIV7PCzIt4BtVTbPBbIeOXho3KdklI5JKGnm1nI5Z8=;
 b=FPJjUT6vq4L/r6PK3At8KTRo34LtCaxzWvtZ29r3qDQPur0RQLZzLgp8SxwyFhIB3O
 z63IYaJwXnuNDVE/UM1c1TSps1kDDbJZLzHhPBOT1mppsjulBsS6UWd2E42SQG0xd+DK
 s1QyiM2tGDhS1N1lW1OwPTIbq4asDKFtHmVS8=
X-Google-DKIM-Signature: v=1; a=rsa-sha256; c=relaxed/relaxed;
 d=1e100.net; s=20230601; t=1717057816; x=1717662616;
 h=references:in-reply-to:cc:to:from:subject:message-id:date
 :x-gm-message-state:from:to:cc:subject:date:message-id:reply-to;
 bh=wQIV7PCzIt4BtVTbPBbIeOXho3KdklI5JKGnm1nI5Z8=;
 b=jjwbQ75VziDyJoqheOSTiKoStJRfoaynBjmdZtEB1dCBYIDQAXzB2gs8KZPaXb1GX6
 0jen/+B5ZI+oEA5m0f7/pakUOnzs7AEfmcY6KzJnMzXPKcrttpQecwk/xHAE0Owx/83p
 C3prkIsi8557HHOMF2YO4j7I+ZRKCqSoVfLTpxgrEx1ytQEMTObTuH3NrVXmxxmYx7eS
 uuqO4w5MhBHbENF9T8U4jHQ669jG65KaG7nug9ilacIK8tDNchgsI8EC/lAwVxGxotLK
 i/8hBjFlAjRVgxS0GkPAgkMyMdncPlOeUPuklG7DF3Wx1sS8JM+c/AYNdYt1alyffqtg
 Bpmg==
X-Gm-Message-State: AOJu0Yy+DuazIg1hMBhX62KRhXxbK9Sl1jsgZSCaojuFq2hrHuGlDT9s
 SxiT/RkMpljKsPl0g9Z1lruAC+O+CU63qzfvIoBBhhzO1Cgslkok82/Wse55/FOohHHAWwFDWQi
 2gx7TEEtf/05O3dP6+tCEYheFwUmR1e8YSTc4G8kWtAzVX6wCerMPh4qE
X-Google-Smtp-Source: AGHT+IHqlP7ch7PvJaycOGLnExqrz4YK99wgVdY/gkYdb1aop1cOSgZq2nRucn4wFl2y4ri8Ixd0r4CeKzsS
X-Received: by 2002:ac8:59cb:0:b0:43a:d397:4477 with SMTP id
 d75a77b69052e-43fe931105amr22158211cf.54.1717057816329; 
 Thu, 30 May 2024 01:30:16 -0700 (PDT)
Received: from postal.iol.unh.edu (postal.iol.unh.edu.
 [2606:4100:3880:1234::84]) by smtp-relay.gmail.com with ESMTPS id
 d75a77b69052e-43fb18a8c77sm8647681cf.25.2024.05.30.01.30.16
 (version=TLS1_2 cipher=ECDHE-ECDSA-AES128-GCM-SHA256 bits=128/128);
 Thu, 30 May 2024 01:30:16 -0700 (PDT)
X-Relaying-Domain: iol.unh.edu
Date: Thu, 30 May 2024 01:30:16 -0700 (PDT)
Message-ID: <66583918.050a0220.df670.bc41SMTPIN_ADDED_MISSING@mx.google.com>
Received: from [172.17.0.3] (unknown [172.18.0.217])
 by postal.iol.unh.edu (Postfix) with ESMTP id 0733F605C373;
 Thu, 30 May 2024 04:30:16 -0400 (EDT)
Subject: |SUCCESS| pw140409-140428 [PATCH] [v10,20/20] drivers: remove use of
From: dpdklab@iol.unh.edu
To: Test Report <test-report@dpdk.org>
Cc: dpdk-test-reports@iol.unh.edu
In-Reply-To: <20240529233811.663211-21-stephen@networkplumber.org>
References: <20240529233811.663211-21-stephen@networkplumber.org>
Content-Type: text/plain
X-BeenThere: test-report@dpdk.org
X-Mailman-Version: 2.1.29
Precedence: list
List-Id: automatic DPDK test reports <test-report.dpdk.org>
List-Unsubscribe: <https://mails.dpdk.org/options/test-report>,
 <mailto:test-report-request@dpdk.org?subject=unsubscribe>
List-Archive: <http://mails.dpdk.org/archives/test-report/>
List-Post: <mailto:test-report@dpdk.org>
List-Help: <mailto:test-report-request@dpdk.org?subject=help>
List-Subscribe: <https://mails.dpdk.org/listinfo/test-report>,
 <mailto:test-report-request@dpdk.org?subject=subscribe>
Errors-To: test-report-bounces@dpdk.org

Test-Label: iol-compile-arm64-testing
Test-Status: SUCCESS
http://dpdk.org/patch/140428

_Testing PASS_

Submitter: Stephen Hemminger <stephen@networkplumber.org>
Date: Wednesday, May 29 2024 23:33:54 
DPDK git baseline: Repo:dpdk
  Branch: master
  CommitID:76cef1af8bdaeaf67a5c4ca5df3f221df994dc46

140409-140428 --> testing pass

Test environment and result as below:

+---------------------+--------------------+----------------------+------------------+
|     Environment     | dpdk_meson_compile | dpdk_mingw64_compile | dpdk_compile_ovs |
+=====================+====================+======================+==================+
| Windows Server 2019 | PASS               | PASS                 | SKIPPED          |
+---------------------+--------------------+----------------------+------------------+
| FreeBSD 13.3        | PASS               | SKIPPED              | SKIPPED          |
+---------------------+--------------------+----------------------+------------------+
| FreeBSD 14.0        | PASS               | SKIPPED              | SKIPPED          |
+---------------------+--------------------+----------------------+------------------+
| Windows Server 2022 | PASS               | PASS                 | SKIPPED          |
+---------------------+--------------------+----------------------+------------------+
| CentOS Stream 8     | PASS               | SKIPPED              | PASS             |
+---------------------+--------------------+----------------------+------------------+
| Debian Bullseye     | PASS               | SKIPPED              | PASS             |
+---------------------+--------------------+----------------------+------------------+
| CentOS Stream 9     | PASS               | SKIPPED              | PASS             |
+---------------------+--------------------+----------------------+------------------+
| Fedora 38           | PASS               | SKIPPED              | PASS             |
+---------------------+--------------------+----------------------+------------------+
| Fedora 37           | PASS               | SKIPPED              | PASS             |
+---------------------+--------------------+----------------------+------------------+
| Debian 12           | PASS               | SKIPPED              | PASS             |
+---------------------+--------------------+----------------------+------------------+
| RHEL8               | PASS               | SKIPPED              | PASS             |
+---------------------+--------------------+----------------------+------------------+
| Ubuntu 20.04        | PASS               | SKIPPED              | PASS             |
+---------------------+--------------------+----------------------+------------------+
| Ubuntu 22.04        | PASS               | SKIPPED              | PASS             |
+---------------------+--------------------+----------------------+------------------+
| Fedora 39           | PASS               | SKIPPED              | PASS             |
+---------------------+--------------------+----------------------+------------------+
| openSUSE Leap 15    | PASS               | SKIPPED              | PASS             |
+---------------------+--------------------+----------------------+------------------+
| Ubuntu 24.04        | PASS               | SKIPPED              | PASS             |
+---------------------+--------------------+----------------------+------------------+
| Alpine              | PASS               | SKIPPED              | SKIPPED          |
+---------------------+--------------------+----------------------+------------------+


Windows Server 2019
	Kernel: 10.0.17763
	Compiler: clang 14.0 and gcc 8.1.0 (MinGW)

FreeBSD 13.3
	Kernel: 13.3-RELEASE-p1
	Compiler: clang 17.0.6

FreeBSD 14.0
	Kernel: 14.0
	Compiler: clang 16.0.6

Windows Server 2022
	Kernel: 10.0.20348.2031
	Compiler: clang 15.0.7, gcc 8.1.0 (MinGW), and MSVC VS 17.9

CentOS Stream 8
	Kernel: 5.4.0-167-generic
	Compiler: gcc 8.5.0 20210514

Debian Bullseye
	Kernel: 5.4.0-167-generic
	Compiler: gcc 10.2.1-6

CentOS Stream 9
	Kernel: 5.4.0-167-generic
	Compiler: gcc 11.4.1 20230605

Fedora 38
	Kernel: Depends on container host
	Compiler: clang 16.0.6

Fedora 37
	Kernel: Depends on container host system
	Compiler: gcc 12.3.1

Debian 12
	Kernel: Container Host Kernel
	Compiler: gcc 10.2.1

RHEL8
	Kernel: 5.4.0-167-generic
	Compiler: gcc 8.5.0 20210514 (Red Hat 8.5.0-20)

Ubuntu 20.04
	Kernel: 5.4.0-167-generic
	Compiler: gcc 9.4.0-1ubuntu1~20.04.1

Ubuntu 22.04
	Kernel: 5.4.0-167-generic
	Compiler: gcc 11.4.0

Fedora 39
	Kernel: Depends on container host
	Compiler: clang 17.0.6

openSUSE Leap 15
	Kernel: 5.4.0-167-generic
	Compiler: gcc 7.5.0

Ubuntu 24.04
	Kernel: 5.4.0-167-generic
	Compiler: gcc 13.2.0

Alpine
	Kernel: 5.4.0-167-generic
	Compiler: gcc (Alpine 13.2.1_git20231014) 13.2.1 20231014

To view detailed results, visit:
https://lab.dpdk.org/results/dashboard/patchsets/30044/

UNH-IOL DPDK Community Lab

To manage your email subscriptions, visit: 
https://lab.dpdk.org/results/dashboard/preferences/subscriptions/