From mboxrd@z Thu Jan  1 00:00:00 1970
Return-Path: <test-report-bounces@dpdk.org>
Received: from mails.dpdk.org (mails.dpdk.org [217.70.189.124])
	by inbox.dpdk.org (Postfix) with ESMTP id CAFE34410F
	for <public@inbox.dpdk.org>; Thu, 30 May 2024 15:56:13 +0200 (CEST)
Received: from mails.dpdk.org (localhost [127.0.0.1])
	by mails.dpdk.org (Postfix) with ESMTP id C6A2640608;
	Thu, 30 May 2024 15:56:13 +0200 (CEST)
Received: from mail-pf1-f228.google.com (mail-pf1-f228.google.com
 [209.85.210.228])
 by mails.dpdk.org (Postfix) with ESMTP id 601E3402E4
 for <test-report@dpdk.org>; Thu, 30 May 2024 15:56:12 +0200 (CEST)
Received: by mail-pf1-f228.google.com with SMTP id
 d2e1a72fcca58-70222db9bf1so836761b3a.0
 for <test-report@dpdk.org>; Thu, 30 May 2024 06:56:12 -0700 (PDT)
DKIM-Signature: v=1; a=rsa-sha256; c=relaxed/relaxed;
 d=iol.unh.edu; s=unh-iol; t=1717077371; x=1717682171; darn=dpdk.org;
 h=references:in-reply-to:cc:to:from:subject:message-id:date:from:to
 :cc:subject:date:message-id:reply-to;
 bh=TsmoJxLn/XEoEwwjqfceN5I1w3uYNM8FwLUkrBsKyxs=;
 b=Rc60Ffhvcb6+TKe6NcYWipnrIUMo8AqFioEENjq8lmBLI4wcoAZkvjUhpzBtOYohFC
 S+xWpj4PM+tur+c5ZDxCF7lSD80vtTRexV/ozBJNrUGvWBkfOnqhQ9b97030bV/s5/eY
 4bE1lp3Tr/GnKvEiF6uel/DBzugVQJom32gp4=
X-Google-DKIM-Signature: v=1; a=rsa-sha256; c=relaxed/relaxed;
 d=1e100.net; s=20230601; t=1717077371; x=1717682171;
 h=references:in-reply-to:cc:to:from:subject:message-id:date
 :x-gm-message-state:from:to:cc:subject:date:message-id:reply-to;
 bh=TsmoJxLn/XEoEwwjqfceN5I1w3uYNM8FwLUkrBsKyxs=;
 b=gqM3VYkSNUBQB/Q45OmvP4dJrEdJ89xfrMfzT/+GXc7NEBO/bMwjnz/MnnK1QVp7wf
 5YltOvFJFUEldsqd39zNtVEWtlpirkvISZu/NRtlUNwsPCL2OKovWZJVyLRHWIeCf+1k
 kODFpMb2aZAgYhaW+ol/XL30F74MlDpyXpACEyoapIpOJjHI3XjQKckMJrT4X5zNHPtr
 IuYoGJMCRLBl2x10xKuvmzJ0JdbeZefYahA9KaouCnyK4cl5eBkg846rTgyNNTP5JtTv
 kwapj6XEcyVxq/3IRE57oQ6lhIoKr6Hd2/HGTs7cjxmzyiAh9O+WEGL7hRVDBuwEi9Nz
 ByAQ==
X-Gm-Message-State: AOJu0YwO3zLI4A9rzh2CJID93R/CZTWAZgDXcfDPPntE8sXmeJaaM5+0
 WdI8WPCQGiYh0SfApaXiExwKOQvmRzDxeooqVX12hiZ1aw0l5Yna9OgHgG7TQu7AjP03X8H3+4n
 UQwmdcz5IvEfo0A5VMmFkbTHRiSAJsdbFMcTVB0EGIpr7QXfrVPIU6TF2
X-Google-Smtp-Source: AGHT+IEA5ZCMqf1/5rh88NVJ4/1BoqNUpqMtNtgmGfL+jk65VGEEOd3Wv9Gj5scDk7jJTHOksB2HADQON8oW
X-Received: by 2002:a05:6a20:7346:b0:1b1:e7de:4d39 with SMTP id
 adf61e73a8af0-1b26454234dmr2505309637.16.1717077371687; 
 Thu, 30 May 2024 06:56:11 -0700 (PDT)
Received: from postal.iol.unh.edu (postal.iol.unh.edu.
 [2606:4100:3880:1234::84]) by smtp-relay.gmail.com with ESMTPS id
 d2e1a72fcca58-6f8fbd3f8c6sm1140243b3a.6.2024.05.30.06.56.11
 (version=TLS1_2 cipher=ECDHE-ECDSA-AES128-GCM-SHA256 bits=128/128);
 Thu, 30 May 2024 06:56:11 -0700 (PDT)
X-Relaying-Domain: iol.unh.edu
Date: Thu, 30 May 2024 06:56:11 -0700 (PDT)
Message-ID: <6658857b.050a0220.8787a.385cSMTPIN_ADDED_MISSING@mx.google.com>
Received: from [172.21.0.6] (unknown [172.18.0.240])
 by postal.iol.unh.edu (Postfix) with ESMTP id D2019605C373;
 Thu, 30 May 2024 09:56:10 -0400 (EDT)
Subject: |SUCCESS| pw140469-140470 [PATCH] [v4,2/2] dma/cnxk: remove completi
From: dpdklab@iol.unh.edu
To: Test Report <test-report@dpdk.org>
Cc: dpdk-test-reports@iol.unh.edu
In-Reply-To: <20240530124437.1870-2-pbhagavatula@marvell.com>
References: <20240530124437.1870-2-pbhagavatula@marvell.com>
Content-Type: text/plain
X-BeenThere: test-report@dpdk.org
X-Mailman-Version: 2.1.29
Precedence: list
List-Id: automatic DPDK test reports <test-report.dpdk.org>
List-Unsubscribe: <https://mails.dpdk.org/options/test-report>,
 <mailto:test-report-request@dpdk.org?subject=unsubscribe>
List-Archive: <http://mails.dpdk.org/archives/test-report/>
List-Post: <mailto:test-report@dpdk.org>
List-Help: <mailto:test-report-request@dpdk.org?subject=help>
List-Subscribe: <https://mails.dpdk.org/listinfo/test-report>,
 <mailto:test-report-request@dpdk.org?subject=subscribe>
Errors-To: test-report-bounces@dpdk.org

Test-Label: iol-compile-arm64-testing
Test-Status: SUCCESS
http://dpdk.org/patch/140470

_Testing PASS_

Submitter: Pavan Nikhilesh Bhagavatula <pbhagavatula@marvell.com>
Date: Thursday, May 30 2024 12:44:37 
DPDK git baseline: Repo:dpdk
  Branch: master
  CommitID:76cef1af8bdaeaf67a5c4ca5df3f221df994dc46

140469-140470 --> testing pass

Test environment and result as below:

+---------------------+--------------------+------------------+----------------------+
|     Environment     | dpdk_meson_compile | dpdk_compile_ovs | dpdk_mingw64_compile |
+=====================+====================+==================+======================+
| CentOS Stream 8     | PASS               | PASS             | SKIPPED              |
+---------------------+--------------------+------------------+----------------------+
| CentOS Stream 9     | PASS               | PASS             | SKIPPED              |
+---------------------+--------------------+------------------+----------------------+
| FreeBSD 13.3        | PASS               | SKIPPED          | SKIPPED              |
+---------------------+--------------------+------------------+----------------------+
| Windows Server 2019 | PASS               | SKIPPED          | PASS                 |
+---------------------+--------------------+------------------+----------------------+
| Debian 12           | PASS               | PASS             | SKIPPED              |
+---------------------+--------------------+------------------+----------------------+
| FreeBSD 14.0        | PASS               | SKIPPED          | SKIPPED              |
+---------------------+--------------------+------------------+----------------------+
| Windows Server 2022 | PASS               | SKIPPED          | PASS                 |
+---------------------+--------------------+------------------+----------------------+
| Debian Bullseye     | PASS               | PASS             | SKIPPED              |
+---------------------+--------------------+------------------+----------------------+
| Fedora 38           | PASS               | PASS             | SKIPPED              |
+---------------------+--------------------+------------------+----------------------+
| Fedora 37           | PASS               | PASS             | SKIPPED              |
+---------------------+--------------------+------------------+----------------------+
| Ubuntu 22.04        | PASS               | PASS             | SKIPPED              |
+---------------------+--------------------+------------------+----------------------+
| Fedora 39           | PASS               | PASS             | SKIPPED              |
+---------------------+--------------------+------------------+----------------------+
| Ubuntu 20.04        | PASS               | PASS             | SKIPPED              |
+---------------------+--------------------+------------------+----------------------+
| Ubuntu 24.04        | PASS               | PASS             | SKIPPED              |
+---------------------+--------------------+------------------+----------------------+
| RHEL8               | PASS               | PASS             | SKIPPED              |
+---------------------+--------------------+------------------+----------------------+
| Alpine              | PASS               | SKIPPED          | SKIPPED              |
+---------------------+--------------------+------------------+----------------------+


CentOS Stream 8
	Kernel: 5.4.0-167-generic
	Compiler: gcc 8.5.0 20210514

CentOS Stream 9
	Kernel: 5.4.0-167-generic
	Compiler: gcc 11.4.1 20230605

FreeBSD 13.3
	Kernel: 13.3-RELEASE-p1
	Compiler: clang 17.0.6

Windows Server 2019
	Kernel: 10.0.17763
	Compiler: clang 14.0 and gcc 8.1.0 (MinGW)

Debian 12
	Kernel: Container Host Kernel
	Compiler: gcc 10.2.1

FreeBSD 14.0
	Kernel: 14.0
	Compiler: clang 16.0.6

Windows Server 2022
	Kernel: 10.0.20348.2031
	Compiler: clang 15.0.7, gcc 8.1.0 (MinGW), and MSVC VS 17.9

Debian Bullseye
	Kernel: 5.4.0-167-generic
	Compiler: gcc 10.2.1-6

Fedora 38
	Kernel: Depends on container host
	Compiler: gcc 13.2.1

Fedora 37
	Kernel: Depends on container host system
	Compiler: gcc 12.3.1

Ubuntu 22.04
	Kernel: 5.4.0-167-generic
	Compiler: gcc 11.4.0

Fedora 39
	Kernel: Depends on container host
	Compiler: gcc 13.2.1

Ubuntu 20.04
	Kernel: 5.4.0-167-generic
	Compiler: gcc 9.4.0-1ubuntu1~20.04.1

Ubuntu 24.04
	Kernel: 5.4.0-167-generic
	Compiler: gcc 13.2.0

RHEL8
	Kernel: 5.4.0-167-generic
	Compiler: gcc 8.5.0 20210514 (Red Hat 8.5.0-20)

Alpine
	Kernel: 5.4.0-167-generic
	Compiler: gcc (Alpine 13.2.1_git20231014) 13.2.1 20231014

To view detailed results, visit:
https://lab.dpdk.org/results/dashboard/patchsets/30050/

UNH-IOL DPDK Community Lab

To manage your email subscriptions, visit: 
https://lab.dpdk.org/results/dashboard/preferences/subscriptions/