From mboxrd@z Thu Jan  1 00:00:00 1970
Return-Path: <test-report-bounces@dpdk.org>
Received: from mails.dpdk.org (mails.dpdk.org [217.70.189.124])
	by inbox.dpdk.org (Postfix) with ESMTP id 4BDF64410F
	for <public@inbox.dpdk.org>; Thu, 30 May 2024 15:57:42 +0200 (CEST)
Received: from mails.dpdk.org (localhost [127.0.0.1])
	by mails.dpdk.org (Postfix) with ESMTP id 47CC340608;
	Thu, 30 May 2024 15:57:42 +0200 (CEST)
Received: from mail-pl1-f227.google.com (mail-pl1-f227.google.com
 [209.85.214.227])
 by mails.dpdk.org (Postfix) with ESMTP id F09C3402E4
 for <test-report@dpdk.org>; Thu, 30 May 2024 15:57:40 +0200 (CEST)
Received: by mail-pl1-f227.google.com with SMTP id
 d9443c01a7336-1f47eb2354bso6489685ad.3
 for <test-report@dpdk.org>; Thu, 30 May 2024 06:57:40 -0700 (PDT)
DKIM-Signature: v=1; a=rsa-sha256; c=relaxed/relaxed;
 d=iol.unh.edu; s=unh-iol; t=1717077460; x=1717682260; darn=dpdk.org;
 h=references:in-reply-to:cc:to:from:subject:message-id:date:from:to
 :cc:subject:date:message-id:reply-to;
 bh=Et3tsl235OOX7zviY0VeJTdEyYn1t8suQmxiqNH1Du8=;
 b=HMWaH4Su32kBCGLux/m72eHI7LZynLLTGUDj0pe0UGTA82/Xx81GCi6EPSWpowpFv8
 KyxS/jJroBUgYWlDpxovm6JsqQiuIMwAwGewLsjZPjL566JJIOn5E75fhTRUwCxgXNBD
 5Ypnp2aFPseqff0qRPD19Tzn0KCgYSDKjFFwU=
X-Google-DKIM-Signature: v=1; a=rsa-sha256; c=relaxed/relaxed;
 d=1e100.net; s=20230601; t=1717077460; x=1717682260;
 h=references:in-reply-to:cc:to:from:subject:message-id:date
 :x-gm-message-state:from:to:cc:subject:date:message-id:reply-to;
 bh=Et3tsl235OOX7zviY0VeJTdEyYn1t8suQmxiqNH1Du8=;
 b=aAn9ei+Y3zxPQk/cnDLfrzSvRVXyVhvZekJ29tF14BBIbSFm+JEhyazVRH0JWJqSE9
 F23EquYvT+6j1bJF85E6Xq8Bn2SFroKEzxS2j74I4HrtWDQ725Q/PqmtJG5Xp7z7Od2j
 JzijjmsuW/HiqVMWZHQAMNfV27vlkWY6FToDu+Tskkf1w+haI1fh5R88929594T5PQtz
 S/fCiiFi90SrUMHaQbfZ3J7yanqaU8gsJSQCiRLP0Nf1LaRGYD7FetvkCvZR+iE+iQlf
 4CNg2jbvYZQU++JxXTY7RLh001failYtwV0dw2C29JDEHJFf1kL6kNL6DUAEL2hjz7TR
 OprA==
X-Gm-Message-State: AOJu0YxX1TK1baW0yHdsfgdfaxFfBVqJMR1PCmlNc/JsZcOjybiq+EVo
 35FH2MxEybaba+1iJExUj/9ETGREvSQZEoz3onWjoGM2WSPpppTv1JJ/1dg8v+zfQoOUKN54fkG
 vgRik9utWoulA7r71wylyyyoR5dKu8Rh9e8TgBNH1LicYR8fj4kz/QmC3
X-Google-Smtp-Source: AGHT+IEacF44DtnaS5zNDxPUqqGh+QbzJPKzM/++OXzq3ocE6tpztP+xGLR8v0wJfU6v3qmkY/9V3SqHcVK9
X-Received: by 2002:a17:902:f712:b0:1f3:121e:e3cd with SMTP id
 d9443c01a7336-1f6194f7ddamr22181675ad.15.1717077460162; 
 Thu, 30 May 2024 06:57:40 -0700 (PDT)
Received: from postal.iol.unh.edu (postal.iol.unh.edu.
 [2606:4100:3880:1234::84]) by smtp-relay.gmail.com with ESMTPS id
 d9443c01a7336-1f44c79d051sm7260955ad.37.2024.05.30.06.57.40
 (version=TLS1_2 cipher=ECDHE-ECDSA-AES128-GCM-SHA256 bits=128/128);
 Thu, 30 May 2024 06:57:40 -0700 (PDT)
X-Relaying-Domain: iol.unh.edu
Date: Thu, 30 May 2024 06:57:40 -0700 (PDT)
Message-ID: <665885d4.170a0220.2389.146bSMTPIN_ADDED_MISSING@mx.google.com>
Received: from [172.21.0.7] (unknown [172.18.0.240])
 by postal.iol.unh.edu (Postfix) with ESMTP id 435B0605C373;
 Thu, 30 May 2024 09:57:39 -0400 (EDT)
Subject: |SUCCESS| pw140469-140470 [PATCH] [v4,2/2] dma/cnxk: remove completi
From: dpdklab@iol.unh.edu
To: Test Report <test-report@dpdk.org>
Cc: dpdk-test-reports@iol.unh.edu
In-Reply-To: <20240530124437.1870-2-pbhagavatula@marvell.com>
References: <20240530124437.1870-2-pbhagavatula@marvell.com>
Content-Type: text/plain
X-BeenThere: test-report@dpdk.org
X-Mailman-Version: 2.1.29
Precedence: list
List-Id: automatic DPDK test reports <test-report.dpdk.org>
List-Unsubscribe: <https://mails.dpdk.org/options/test-report>,
 <mailto:test-report-request@dpdk.org?subject=unsubscribe>
List-Archive: <http://mails.dpdk.org/archives/test-report/>
List-Post: <mailto:test-report@dpdk.org>
List-Help: <mailto:test-report-request@dpdk.org?subject=help>
List-Subscribe: <https://mails.dpdk.org/listinfo/test-report>,
 <mailto:test-report-request@dpdk.org?subject=subscribe>
Errors-To: test-report-bounces@dpdk.org

Test-Label: iol-compile-amd64-testing
Test-Status: SUCCESS
http://dpdk.org/patch/140470

_Testing PASS_

Submitter: Pavan Nikhilesh Bhagavatula <pbhagavatula@marvell.com>
Date: Thursday, May 30 2024 12:44:37 
DPDK git baseline: Repo:dpdk
  Branch: master
  CommitID:76cef1af8bdaeaf67a5c4ca5df3f221df994dc46

140469-140470 --> testing pass

Test environment and result as below:

+----------------------------------------+--------------------+
|              Environment               | dpdk_meson_compile |
+========================================+====================+
| Ubuntu 20.04 ARM SVE                   | PASS               |
+----------------------------------------+--------------------+
| Debian 12 with MUSDK                   | PASS               |
+----------------------------------------+--------------------+
| Fedora 38 (ARM)                        | PASS               |
+----------------------------------------+--------------------+
| Fedora 37 (ARM)                        | PASS               |
+----------------------------------------+--------------------+
| Ubuntu 20.04 (ARM)                     | PASS               |
+----------------------------------------+--------------------+
| Debian 11 (Buster) (ARM)               | PASS               |
+----------------------------------------+--------------------+
| Debian 12 (arm)                        | PASS               |
+----------------------------------------+--------------------+
| Fedora 39 (ARM)                        | PASS               |
+----------------------------------------+--------------------+
| CentOS Stream 9 (ARM)                  | PASS               |
+----------------------------------------+--------------------+
| Ubuntu 20.04 aarch32 GCC Cross Compile | PASS               |
+----------------------------------------+--------------------+


Ubuntu 20.04 ARM SVE
	Kernel: 5.4.0-167-generic
	Compiler: gcc (Ubuntu 10.5.0-1ubuntu1~20.04) 10.5.0

Debian 12 with MUSDK
	Kernel: Container Host Kernel
	Compiler: gcc 12.2.0

Fedora 38 (ARM)
	Kernel: Depends on container host
	Compiler: gcc 13.2.1

Fedora 37 (ARM)
	Kernel: Depends on container host
	Compiler: gcc 12.3.1

Ubuntu 20.04 (ARM)
	Kernel: Container Host Kernel
	Compiler: gcc 9.4.0

Debian 11 (Buster) (ARM)
	Kernel: Container Host Kernel
	Compiler: gcc 10.2.1

Debian 12 (arm)
	Kernel: Container Host Kernel
	Compiler: gcc 12.2.0

Fedora 39 (ARM)
	Kernel: Depends on container host
	Compiler: gcc 13.2.1

CentOS Stream 9 (ARM)
	Kernel: Container Host Kernel
	Compiler: gcc 11.4.1

Ubuntu 20.04 aarch32 GCC Cross Compile
	Kernel: 5.4.0-167-generic
	Compiler: gcc 9.4.0

To view detailed results, visit:
https://lab.dpdk.org/results/dashboard/patchsets/30050/

UNH-IOL DPDK Community Lab

To manage your email subscriptions, visit: 
https://lab.dpdk.org/results/dashboard/preferences/subscriptions/