From mboxrd@z Thu Jan  1 00:00:00 1970
Return-Path: <test-report-bounces@dpdk.org>
Received: from mails.dpdk.org (mails.dpdk.org [217.70.189.124])
	by inbox.dpdk.org (Postfix) with ESMTP id 396ED44111
	for <public@inbox.dpdk.org>; Thu, 30 May 2024 16:09:42 +0200 (CEST)
Received: from mails.dpdk.org (localhost [127.0.0.1])
	by mails.dpdk.org (Postfix) with ESMTP id 3332240608;
	Thu, 30 May 2024 16:09:42 +0200 (CEST)
Received: from mail-yw1-f228.google.com (mail-yw1-f228.google.com
 [209.85.128.228])
 by mails.dpdk.org (Postfix) with ESMTP id 166C1402E4
 for <test-report@dpdk.org>; Thu, 30 May 2024 16:09:41 +0200 (CEST)
Received: by mail-yw1-f228.google.com with SMTP id
 00721157ae682-62027fcf9b1so7717737b3.0
 for <test-report@dpdk.org>; Thu, 30 May 2024 07:09:41 -0700 (PDT)
DKIM-Signature: v=1; a=rsa-sha256; c=relaxed/relaxed;
 d=iol.unh.edu; s=unh-iol; t=1717078180; x=1717682980; darn=dpdk.org;
 h=references:in-reply-to:cc:to:from:subject:message-id:date:from:to
 :cc:subject:date:message-id:reply-to;
 bh=4QcaPYohP1upomXYR6/5pQC/EiZfwssIQgcpvYS/zlw=;
 b=T7tjlClNBro+1EvJpqCmo0cqRFEvjqc49SOkyudMNo+bB5/jIIGKZvdtqZ5Pxkee57
 eBJR2X/A4uXPDhJPHn/oE2Ca2ekZbcFBWG/pYInzagq7hd4HGeBfv+AyX2iw4Ecopmxf
 2M+jvxyBne1mH/KVN6cXGK+jkyyApHnLLBVbQ=
X-Google-DKIM-Signature: v=1; a=rsa-sha256; c=relaxed/relaxed;
 d=1e100.net; s=20230601; t=1717078180; x=1717682980;
 h=references:in-reply-to:cc:to:from:subject:message-id:date
 :x-gm-message-state:from:to:cc:subject:date:message-id:reply-to;
 bh=4QcaPYohP1upomXYR6/5pQC/EiZfwssIQgcpvYS/zlw=;
 b=e46f6Jc9M0ypRBA3ejHNfyZZcPRGUbPioXZGou7RmHgh3GseUvyQhPYHruGuU0/8qO
 gfidP5PmPqwq+ui9VM/Btg1C2SDJqYuVJd+oXoQXEoQm3psj8V/dFVVXV3NR2fCg+JaI
 Tsla+InfUsoawlSXXVDTxpn6JWmaxugsobnUtHuivkKK9tmGmgtvVH3T2gka73aNW2yl
 Nh4/SPllp0cffEu40LOsUhU9rmFSe9uxUpESTQfcn9m/VEr/i2wom73eI2HtjE5uSyHF
 tTvO3n4oho/nGAjJR3JhcqCgMP9XcbnLLLTH49pRDK1VP5lip83GlO4GtAbqObFpIxMX
 uuAw==
X-Gm-Message-State: AOJu0YyKWGL0qsMzif1HXGlC57xtAKaspw7gXNwsqGTK7qc4PNrIM1DH
 QnimOUZzOkrLtMEcxfvnK3LfKcdFY/vDhQ7/278x/e2nbVEwXdkH5xUO8uXvoh0ijdNyC3jrnYx
 /0vLlzftn67JjI6t9rsFgNg18xjPh6phbBhCY2lOr
X-Google-Smtp-Source: AGHT+IEM7ZKRE+4BfbGMW722OIZZAijbhYfFCyfXseydg6EzQf37OlLqEP3zh2UI+y9KexUA5we/MHuxvWDa
X-Received: by 2002:a05:690c:6185:b0:61b:e13c:e3f4 with SMTP id
 00721157ae682-62c6ccd9fe0mr13767307b3.15.1717078180507; 
 Thu, 30 May 2024 07:09:40 -0700 (PDT)
Received: from postal.iol.unh.edu (postal.iol.unh.edu. [132.177.123.84])
 by smtp-relay.gmail.com with ESMTPS id
 00721157ae682-62a0a3d0f65sm10349597b3.20.2024.05.30.07.09.40
 (version=TLS1_2 cipher=ECDHE-ECDSA-AES128-GCM-SHA256 bits=128/128);
 Thu, 30 May 2024 07:09:40 -0700 (PDT)
X-Relaying-Domain: iol.unh.edu
Date: Thu, 30 May 2024 07:09:40 -0700 (PDT)
Message-ID: <665888a4.050a0220.95f05.feeaSMTPIN_ADDED_MISSING@mx.google.com>
Received: from [172.21.0.6] (unknown [172.18.0.240])
 by postal.iol.unh.edu (Postfix) with ESMTP id 223D0605C373;
 Thu, 30 May 2024 10:09:40 -0400 (EDT)
Subject: |SUCCESS| pw140469-140470 [PATCH] [v4,2/2] dma/cnxk: remove completi
From: dpdklab@iol.unh.edu
To: Test Report <test-report@dpdk.org>
Cc: dpdk-test-reports@iol.unh.edu
In-Reply-To: <20240530124437.1870-2-pbhagavatula@marvell.com>
References: <20240530124437.1870-2-pbhagavatula@marvell.com>
Content-Type: text/plain
X-BeenThere: test-report@dpdk.org
X-Mailman-Version: 2.1.29
Precedence: list
List-Id: automatic DPDK test reports <test-report.dpdk.org>
List-Unsubscribe: <https://mails.dpdk.org/options/test-report>,
 <mailto:test-report-request@dpdk.org?subject=unsubscribe>
List-Archive: <http://mails.dpdk.org/archives/test-report/>
List-Post: <mailto:test-report@dpdk.org>
List-Help: <mailto:test-report-request@dpdk.org?subject=help>
List-Subscribe: <https://mails.dpdk.org/listinfo/test-report>,
 <mailto:test-report-request@dpdk.org?subject=subscribe>
Errors-To: test-report-bounces@dpdk.org

Test-Label: iol-compile-arm64-testing
Test-Status: SUCCESS
http://dpdk.org/patch/140470

_Testing PASS_

Submitter: Pavan Nikhilesh Bhagavatula <pbhagavatula@marvell.com>
Date: Thursday, May 30 2024 12:44:37 
DPDK git baseline: Repo:dpdk
  Branch: master
  CommitID:76cef1af8bdaeaf67a5c4ca5df3f221df994dc46

140469-140470 --> testing pass

Test environment and result as below:

+---------------------+--------------------+------------------+----------------------+
|     Environment     | dpdk_meson_compile | dpdk_compile_ovs | dpdk_mingw64_compile |
+=====================+====================+==================+======================+
| CentOS Stream 8     | PASS               | PASS             | SKIPPED              |
+---------------------+--------------------+------------------+----------------------+
| CentOS Stream 9     | PASS               | PASS             | SKIPPED              |
+---------------------+--------------------+------------------+----------------------+
| FreeBSD 13.3        | PASS               | SKIPPED          | SKIPPED              |
+---------------------+--------------------+------------------+----------------------+
| Windows Server 2019 | PASS               | SKIPPED          | PASS                 |
+---------------------+--------------------+------------------+----------------------+
| Debian 12           | PASS               | PASS             | SKIPPED              |
+---------------------+--------------------+------------------+----------------------+
| FreeBSD 14.0        | PASS               | SKIPPED          | SKIPPED              |
+---------------------+--------------------+------------------+----------------------+
| Windows Server 2022 | PASS               | SKIPPED          | PASS                 |
+---------------------+--------------------+------------------+----------------------+
| Debian Bullseye     | PASS               | PASS             | SKIPPED              |
+---------------------+--------------------+------------------+----------------------+
| Fedora 38           | PASS               | PASS             | SKIPPED              |
+---------------------+--------------------+------------------+----------------------+
| Fedora 37           | PASS               | PASS             | SKIPPED              |
+---------------------+--------------------+------------------+----------------------+
| Ubuntu 22.04        | PASS               | PASS             | SKIPPED              |
+---------------------+--------------------+------------------+----------------------+
| Fedora 39           | PASS               | PASS             | SKIPPED              |
+---------------------+--------------------+------------------+----------------------+
| Ubuntu 20.04        | PASS               | PASS             | SKIPPED              |
+---------------------+--------------------+------------------+----------------------+
| Ubuntu 24.04        | PASS               | PASS             | SKIPPED              |
+---------------------+--------------------+------------------+----------------------+
| RHEL8               | PASS               | PASS             | SKIPPED              |
+---------------------+--------------------+------------------+----------------------+
| Alpine              | PASS               | SKIPPED          | SKIPPED              |
+---------------------+--------------------+------------------+----------------------+
| openSUSE Leap 15    | PASS               | PASS             | SKIPPED              |
+---------------------+--------------------+------------------+----------------------+


CentOS Stream 8
	Kernel: 5.4.0-167-generic
	Compiler: gcc 8.5.0 20210514

CentOS Stream 9
	Kernel: 5.4.0-167-generic
	Compiler: gcc 11.4.1 20230605

FreeBSD 13.3
	Kernel: 13.3-RELEASE-p1
	Compiler: clang 17.0.6

Windows Server 2019
	Kernel: 10.0.17763
	Compiler: clang 14.0 and gcc 8.1.0 (MinGW)

Debian 12
	Kernel: Container Host Kernel
	Compiler: gcc 10.2.1

FreeBSD 14.0
	Kernel: 14.0
	Compiler: clang 16.0.6

Windows Server 2022
	Kernel: 10.0.20348.2031
	Compiler: clang 15.0.7, gcc 8.1.0 (MinGW), and MSVC VS 17.9

Debian Bullseye
	Kernel: 5.4.0-167-generic
	Compiler: gcc 10.2.1-6

Fedora 38
	Kernel: Depends on container host
	Compiler: gcc 13.2.1

Fedora 37
	Kernel: Depends on container host system
	Compiler: gcc 12.3.1

Ubuntu 22.04
	Kernel: 5.4.0-167-generic
	Compiler: gcc 11.4.0

Fedora 39
	Kernel: Depends on container host
	Compiler: gcc 13.2.1

Ubuntu 20.04
	Kernel: 5.4.0-167-generic
	Compiler: gcc 9.4.0-1ubuntu1~20.04.1

Ubuntu 24.04
	Kernel: 5.4.0-167-generic
	Compiler: gcc 13.2.0

RHEL8
	Kernel: 5.4.0-167-generic
	Compiler: gcc 8.5.0 20210514 (Red Hat 8.5.0-20)

Alpine
	Kernel: 5.4.0-167-generic
	Compiler: gcc (Alpine 13.2.1_git20231014) 13.2.1 20231014

openSUSE Leap 15
	Kernel: 5.4.0-167-generic
	Compiler: gcc 7.5.0

To view detailed results, visit:
https://lab.dpdk.org/results/dashboard/patchsets/30050/

UNH-IOL DPDK Community Lab

To manage your email subscriptions, visit: 
https://lab.dpdk.org/results/dashboard/preferences/subscriptions/