From mboxrd@z Thu Jan  1 00:00:00 1970
Return-Path: <test-report-bounces@dpdk.org>
Received: from mails.dpdk.org (mails.dpdk.org [217.70.189.124])
	by inbox.dpdk.org (Postfix) with ESMTP id 6DA4744111
	for <public@inbox.dpdk.org>; Thu, 30 May 2024 16:38:59 +0200 (CEST)
Received: from mails.dpdk.org (localhost [127.0.0.1])
	by mails.dpdk.org (Postfix) with ESMTP id 6467B40A7F;
	Thu, 30 May 2024 16:38:59 +0200 (CEST)
Received: from mail-pf1-f226.google.com (mail-pf1-f226.google.com
 [209.85.210.226])
 by mails.dpdk.org (Postfix) with ESMTP id 84E7B40A6D
 for <test-report@dpdk.org>; Thu, 30 May 2024 16:38:58 +0200 (CEST)
Received: by mail-pf1-f226.google.com with SMTP id
 d2e1a72fcca58-6f69422c090so780628b3a.2
 for <test-report@dpdk.org>; Thu, 30 May 2024 07:38:58 -0700 (PDT)
DKIM-Signature: v=1; a=rsa-sha256; c=relaxed/relaxed;
 d=iol.unh.edu; s=unh-iol; t=1717079937; x=1717684737; darn=dpdk.org;
 h=references:in-reply-to:cc:to:from:subject:message-id:date:from:to
 :cc:subject:date:message-id:reply-to;
 bh=4QcaPYohP1upomXYR6/5pQC/EiZfwssIQgcpvYS/zlw=;
 b=UCf4L6yXunUyU3rGxAlbC1FTai6dl9xc42KZzZsSIUv0XLwjz/CPZAtMp/h7dM/Egb
 HVEkKDNEvUX6Uk5pSSQLJku4SM7nK8k1jbme9ArCO04rciFDprVsizoUusrvGHgL/EoI
 PY8W5rwTnO4M5tpBQZdvv4rJA3mlBxuwDN7Fs=
X-Google-DKIM-Signature: v=1; a=rsa-sha256; c=relaxed/relaxed;
 d=1e100.net; s=20230601; t=1717079937; x=1717684737;
 h=references:in-reply-to:cc:to:from:subject:message-id:date
 :x-gm-message-state:from:to:cc:subject:date:message-id:reply-to;
 bh=4QcaPYohP1upomXYR6/5pQC/EiZfwssIQgcpvYS/zlw=;
 b=tpqpYhJhklVICBiCA82UfEUV9Y8sNBJwbcB00mCudwSwPD3g9YVNcds6vkUoacknIy
 D6Ff9izVsVaV/rxWXqAFAARK2wcL21095LtkJvJ83O1Xwro1WXFMxGORAx0tcsrig45l
 ikAWDEoIWZ5y6OC90ixJyAqcdB79SiebwH9ZfiYyiHawsrFoAcvJdxIrcmrCDCTEqiB3
 hmF35QqmSj2Dz0c3u4ydwYAzDbgSg0oy185LGSrtaWofZujPlSbeD+VRV7J2trQZMJrh
 I3h8IO9064zMQCNRwhVDue0iaXNz0kHCkYAKibOW+yNBgONbB6K3bUyR6C/A6grc4qvg
 XgdQ==
X-Gm-Message-State: AOJu0Yxg5dxejr7vp4Sf/uakap8TWE02hCH7XTBe8AJSZTQZD7cPNTkB
 snEnObKZyRdyZzivNkSK9gAU8XR95WvcQ7NxMb2sS41CxrKnVXgQbaPONddxNqVeY6TkmnzRz9N
 zR71rQXzNAVsQzh27Fn8/PY7mi7sfWzVn1zTXQg5CYgB6gpzaaV59dXQh
X-Google-Smtp-Source: AGHT+IEvgz+dNQwN8JjRIH9KJBxnQFpScsBWbdU5o3XzjdIQMLNsxR2SbMoJSAHLIt359bzSXd2FMpnGc6AW
X-Received: by 2002:a05:6a20:3ca6:b0:1b2:184d:c197 with SMTP id
 adf61e73a8af0-1b2645dde2amr2659573637.42.1717079937707; 
 Thu, 30 May 2024 07:38:57 -0700 (PDT)
Received: from postal.iol.unh.edu (postal.iol.unh.edu.
 [2606:4100:3880:1234::84]) by smtp-relay.gmail.com with ESMTPS id
 d2e1a72fcca58-6f8fcfd85b1sm1134376b3a.22.2024.05.30.07.38.57
 (version=TLS1_2 cipher=ECDHE-ECDSA-AES128-GCM-SHA256 bits=128/128);
 Thu, 30 May 2024 07:38:57 -0700 (PDT)
X-Relaying-Domain: iol.unh.edu
Date: Thu, 30 May 2024 07:38:57 -0700 (PDT)
Message-ID: <66588f81.050a0220.5639d.3ea2SMTPIN_ADDED_MISSING@mx.google.com>
Received: from [172.21.0.6] (unknown [172.18.0.240])
 by postal.iol.unh.edu (Postfix) with ESMTP id E29F6605C373;
 Thu, 30 May 2024 10:38:56 -0400 (EDT)
Subject: |SUCCESS| pw140469-140470 [PATCH] [v4,2/2] dma/cnxk: remove completi
From: dpdklab@iol.unh.edu
To: Test Report <test-report@dpdk.org>
Cc: dpdk-test-reports@iol.unh.edu
In-Reply-To: <20240530124437.1870-2-pbhagavatula@marvell.com>
References: <20240530124437.1870-2-pbhagavatula@marvell.com>
Content-Type: text/plain
X-BeenThere: test-report@dpdk.org
X-Mailman-Version: 2.1.29
Precedence: list
List-Id: automatic DPDK test reports <test-report.dpdk.org>
List-Unsubscribe: <https://mails.dpdk.org/options/test-report>,
 <mailto:test-report-request@dpdk.org?subject=unsubscribe>
List-Archive: <http://mails.dpdk.org/archives/test-report/>
List-Post: <mailto:test-report@dpdk.org>
List-Help: <mailto:test-report-request@dpdk.org?subject=help>
List-Subscribe: <https://mails.dpdk.org/listinfo/test-report>,
 <mailto:test-report-request@dpdk.org?subject=subscribe>
Errors-To: test-report-bounces@dpdk.org

Test-Label: iol-compile-arm64-testing
Test-Status: SUCCESS
http://dpdk.org/patch/140470

_Testing PASS_

Submitter: Pavan Nikhilesh Bhagavatula <pbhagavatula@marvell.com>
Date: Thursday, May 30 2024 12:44:37 
DPDK git baseline: Repo:dpdk
  Branch: master
  CommitID:76cef1af8bdaeaf67a5c4ca5df3f221df994dc46

140469-140470 --> testing pass

Test environment and result as below:

+---------------------+--------------------+------------------+----------------------+
|     Environment     | dpdk_meson_compile | dpdk_compile_ovs | dpdk_mingw64_compile |
+=====================+====================+==================+======================+
| CentOS Stream 8     | PASS               | PASS             | SKIPPED              |
+---------------------+--------------------+------------------+----------------------+
| CentOS Stream 9     | PASS               | PASS             | SKIPPED              |
+---------------------+--------------------+------------------+----------------------+
| FreeBSD 13.3        | PASS               | SKIPPED          | SKIPPED              |
+---------------------+--------------------+------------------+----------------------+
| Windows Server 2019 | PASS               | SKIPPED          | PASS                 |
+---------------------+--------------------+------------------+----------------------+
| Debian 12           | PASS               | PASS             | SKIPPED              |
+---------------------+--------------------+------------------+----------------------+
| FreeBSD 14.0        | PASS               | SKIPPED          | SKIPPED              |
+---------------------+--------------------+------------------+----------------------+
| Windows Server 2022 | PASS               | SKIPPED          | PASS                 |
+---------------------+--------------------+------------------+----------------------+
| Debian Bullseye     | PASS               | PASS             | SKIPPED              |
+---------------------+--------------------+------------------+----------------------+
| Fedora 38           | PASS               | PASS             | SKIPPED              |
+---------------------+--------------------+------------------+----------------------+
| Fedora 37           | PASS               | PASS             | SKIPPED              |
+---------------------+--------------------+------------------+----------------------+
| Ubuntu 22.04        | PASS               | PASS             | SKIPPED              |
+---------------------+--------------------+------------------+----------------------+
| Fedora 39           | PASS               | PASS             | SKIPPED              |
+---------------------+--------------------+------------------+----------------------+
| Ubuntu 20.04        | PASS               | PASS             | SKIPPED              |
+---------------------+--------------------+------------------+----------------------+
| Ubuntu 24.04        | PASS               | PASS             | SKIPPED              |
+---------------------+--------------------+------------------+----------------------+
| RHEL8               | PASS               | PASS             | SKIPPED              |
+---------------------+--------------------+------------------+----------------------+
| Alpine              | PASS               | SKIPPED          | SKIPPED              |
+---------------------+--------------------+------------------+----------------------+
| openSUSE Leap 15    | PASS               | PASS             | SKIPPED              |
+---------------------+--------------------+------------------+----------------------+


CentOS Stream 8
	Kernel: 5.4.0-167-generic
	Compiler: gcc 8.5.0 20210514

CentOS Stream 9
	Kernel: 5.4.0-167-generic
	Compiler: gcc 11.4.1 20230605

FreeBSD 13.3
	Kernel: 13.3-RELEASE-p1
	Compiler: clang 17.0.6

Windows Server 2019
	Kernel: 10.0.17763
	Compiler: clang 14.0 and gcc 8.1.0 (MinGW)

Debian 12
	Kernel: Container Host Kernel
	Compiler: gcc 10.2.1

FreeBSD 14.0
	Kernel: 14.0
	Compiler: clang 16.0.6

Windows Server 2022
	Kernel: 10.0.20348.2031
	Compiler: clang 15.0.7, gcc 8.1.0 (MinGW), and MSVC VS 17.9

Debian Bullseye
	Kernel: 5.4.0-167-generic
	Compiler: gcc 10.2.1-6

Fedora 38
	Kernel: Depends on container host
	Compiler: gcc 13.2.1

Fedora 37
	Kernel: Depends on container host system
	Compiler: gcc 12.3.1

Ubuntu 22.04
	Kernel: 5.4.0-167-generic
	Compiler: gcc 11.4.0

Fedora 39
	Kernel: Depends on container host
	Compiler: gcc 13.2.1

Ubuntu 20.04
	Kernel: 5.4.0-167-generic
	Compiler: gcc 9.4.0-1ubuntu1~20.04.1

Ubuntu 24.04
	Kernel: 5.4.0-167-generic
	Compiler: gcc 13.2.0

RHEL8
	Kernel: 5.4.0-167-generic
	Compiler: gcc 8.5.0 20210514 (Red Hat 8.5.0-20)

Alpine
	Kernel: 5.4.0-167-generic
	Compiler: gcc (Alpine 13.2.1_git20231014) 13.2.1 20231014

openSUSE Leap 15
	Kernel: 5.4.0-167-generic
	Compiler: gcc 7.5.0

To view detailed results, visit:
https://lab.dpdk.org/results/dashboard/patchsets/30050/

UNH-IOL DPDK Community Lab

To manage your email subscriptions, visit: 
https://lab.dpdk.org/results/dashboard/preferences/subscriptions/