From mboxrd@z Thu Jan  1 00:00:00 1970
Return-Path: <test-report-bounces@dpdk.org>
Received: from mails.dpdk.org (mails.dpdk.org [217.70.189.124])
	by inbox.dpdk.org (Postfix) with ESMTP id EC00944111
	for <public@inbox.dpdk.org>; Thu, 30 May 2024 17:54:13 +0200 (CEST)
Received: from mails.dpdk.org (localhost [127.0.0.1])
	by mails.dpdk.org (Postfix) with ESMTP id E59F54064A;
	Thu, 30 May 2024 17:54:13 +0200 (CEST)
Received: from mail-oa1-f100.google.com (mail-oa1-f100.google.com
 [209.85.160.100])
 by mails.dpdk.org (Postfix) with ESMTP id 30592402DE
 for <test-report@dpdk.org>; Thu, 30 May 2024 17:54:12 +0200 (CEST)
Received: by mail-oa1-f100.google.com with SMTP id
 586e51a60fabf-24cbb2b71b4so576483fac.2
 for <test-report@dpdk.org>; Thu, 30 May 2024 08:54:12 -0700 (PDT)
DKIM-Signature: v=1; a=rsa-sha256; c=relaxed/relaxed;
 d=iol.unh.edu; s=unh-iol; t=1717084451; x=1717689251; darn=dpdk.org;
 h=references:in-reply-to:cc:to:from:subject:message-id:date:from:to
 :cc:subject:date:message-id:reply-to;
 bh=tFZ8kW7SvkmU/LKfFgxoLRYkCTFByvInTJUwM/w00ws=;
 b=GKvALPgc43kKjxATzu3AfNzPqxw2m+zIP9aLY+A+AG6c2rPmZaSxO8nF9tk6H5JS6j
 VuT1KskJvLOX8Gr/6GQ1srHAVCqxS5B80Az1qEGw/RRBdofSVcZrxfTevMPmsYjJmrsD
 ilKVimqP3l/qpzGReBYQx1/+VId9y4g5wEPD0=
X-Google-DKIM-Signature: v=1; a=rsa-sha256; c=relaxed/relaxed;
 d=1e100.net; s=20230601; t=1717084451; x=1717689251;
 h=references:in-reply-to:cc:to:from:subject:message-id:date
 :x-gm-message-state:from:to:cc:subject:date:message-id:reply-to;
 bh=tFZ8kW7SvkmU/LKfFgxoLRYkCTFByvInTJUwM/w00ws=;
 b=apqamApWwNOseWWUU5bhkxIbbJxfoLgAnOG1Q0TaepD/W0d4fCaKSCUKtbe3j7ZEP5
 msXJWQacTGqtVMX9L+Efdg4MnTwT9BczZdj94MVus0NVdk0wIjq9UIei6oW9KRF/V9pK
 9eCVPHuuiSw6ogoK9UoXIfi+xenYaesZDoYwt+WdopwOhwpY36Pj6/5IP28zKqgFvK2I
 D+ka8KQHSWkZ+aeV3P5CW7/XoBpU5hhGulNrGQK7NtDcc8tXrR8DtXTDT+7Axa1II/Ff
 QDVSec/CQLfk5VFFPmOoV/zlYT++j4tOleo4/AlfXnwov5xZ3b/bD4LKkEyE4PiYesUE
 KxUg==
X-Gm-Message-State: AOJu0YyICZSIlkDn6bJEj7M/yq68osQeVv5xSkja041aHQ4lGu8xnMpu
 jHpOYKwKDF3UP7J9eylBWxgdgpMv74dq/x1rcvUTqwrfzDJnuXqaizEkhgTK9sB+Q57jyvE3xLV
 1FYNJllXiO0abav2GR3K4FWM35f9f8czsHmdGKMXXKqUZ6rWGWuHa9tnN
X-Google-Smtp-Source: AGHT+IEy5lTMCgTVhDd76MQh6jwIqg8ZoT8CW4zjnRwyHNNnQnCFFQjxmVwzpDT+4vJQIJK8r0Akw2o3iqPz
X-Received: by 2002:a05:6871:3a24:b0:250:7510:894f with SMTP id
 586e51a60fabf-2507510f2ddmr1582961fac.30.1717084451383; 
 Thu, 30 May 2024 08:54:11 -0700 (PDT)
Received: from postal.iol.unh.edu (postal.iol.unh.edu.
 [2606:4100:3880:1234::84]) by smtp-relay.gmail.com with ESMTPS id
 6a1803df08f44-6ad78660087sm9512756d6.62.2024.05.30.08.54.11
 (version=TLS1_2 cipher=ECDHE-ECDSA-AES128-GCM-SHA256 bits=128/128);
 Thu, 30 May 2024 08:54:11 -0700 (PDT)
X-Relaying-Domain: iol.unh.edu
Date: Thu, 30 May 2024 08:54:11 -0700 (PDT)
Message-ID: <6658a123.d40a0220.464c.44daSMTPIN_ADDED_MISSING@mx.google.com>
Received: from [172.21.0.6] (unknown [172.18.0.240])
 by postal.iol.unh.edu (Postfix) with ESMTP id 122B2605C373;
 Thu, 30 May 2024 11:54:11 -0400 (EDT)
Subject: |SUCCESS| pw140439-140468 [PATCH] [v3,30/30] net/ixgbe/base: add var
From: dpdklab@iol.unh.edu
To: Test Report <test-report@dpdk.org>
Cc: dpdk-test-reports@iol.unh.edu
In-Reply-To: <8f3af229cc5c42dbc83e4c74fbe91bf4aea9fbbd.1717067519.git.anatoly.burakov@intel.com>
References: <8f3af229cc5c42dbc83e4c74fbe91bf4aea9fbbd.1717067519.git.anatoly.burakov@intel.com>
Content-Type: text/plain
X-BeenThere: test-report@dpdk.org
X-Mailman-Version: 2.1.29
Precedence: list
List-Id: automatic DPDK test reports <test-report.dpdk.org>
List-Unsubscribe: <https://mails.dpdk.org/options/test-report>,
 <mailto:test-report-request@dpdk.org?subject=unsubscribe>
List-Archive: <http://mails.dpdk.org/archives/test-report/>
List-Post: <mailto:test-report@dpdk.org>
List-Help: <mailto:test-report-request@dpdk.org?subject=help>
List-Subscribe: <https://mails.dpdk.org/listinfo/test-report>,
 <mailto:test-report-request@dpdk.org?subject=subscribe>
Errors-To: test-report-bounces@dpdk.org

Test-Label: iol-compile-arm64-testing
Test-Status: SUCCESS
http://dpdk.org/patch/140468

_Testing PASS_

Submitter: Anatoly Burakov <anatoly.burakov@intel.com>
Date: Thursday, May 30 2024 11:14:03 
DPDK git baseline: Repo:dpdk
  Branch: master
  CommitID:502b07c4e0c2b250a33325d6f2fbd28d2aad5af7

140439-140468 --> testing pass

Test environment and result as below:

+---------------------+--------------------+----------------------+------------------+
|     Environment     | dpdk_meson_compile | dpdk_mingw64_compile | dpdk_compile_ovs |
+=====================+====================+======================+==================+
| FreeBSD 13.3        | PASS               | SKIPPED              | SKIPPED          |
+---------------------+--------------------+----------------------+------------------+
| Windows Server 2022 | PASS               | PASS                 | SKIPPED          |
+---------------------+--------------------+----------------------+------------------+
| Windows Server 2019 | PASS               | PASS                 | SKIPPED          |
+---------------------+--------------------+----------------------+------------------+
| CentOS Stream 9     | PASS               | SKIPPED              | PASS             |
+---------------------+--------------------+----------------------+------------------+
| CentOS Stream 8     | PASS               | SKIPPED              | PASS             |
+---------------------+--------------------+----------------------+------------------+
| FreeBSD 14.0        | PASS               | SKIPPED              | SKIPPED          |
+---------------------+--------------------+----------------------+------------------+
| Fedora 38           | PASS               | SKIPPED              | PASS             |
+---------------------+--------------------+----------------------+------------------+
| Fedora 37           | PASS               | SKIPPED              | PASS             |
+---------------------+--------------------+----------------------+------------------+
| Fedora 39           | PASS               | SKIPPED              | PASS             |
+---------------------+--------------------+----------------------+------------------+
| Ubuntu 20.04        | PASS               | SKIPPED              | PASS             |
+---------------------+--------------------+----------------------+------------------+
| Debian 12           | PASS               | SKIPPED              | PASS             |
+---------------------+--------------------+----------------------+------------------+
| Ubuntu 24.04        | PASS               | SKIPPED              | PASS             |
+---------------------+--------------------+----------------------+------------------+
| Ubuntu 22.04        | PASS               | SKIPPED              | PASS             |
+---------------------+--------------------+----------------------+------------------+
| RHEL8               | PASS               | SKIPPED              | PASS             |
+---------------------+--------------------+----------------------+------------------+
| Alpine              | PASS               | SKIPPED              | SKIPPED          |
+---------------------+--------------------+----------------------+------------------+
| openSUSE Leap 15    | PASS               | SKIPPED              | PASS             |
+---------------------+--------------------+----------------------+------------------+
| Debian Bullseye     | PASS               | SKIPPED              | PASS             |
+---------------------+--------------------+----------------------+------------------+


FreeBSD 13.3
	Kernel: 13.3-RELEASE-p1
	Compiler: clang 17.0.6

Windows Server 2022
	Kernel: 10.0.20348.2031
	Compiler: clang 15.0.7, gcc 8.1.0 (MinGW), and MSVC VS 17.9

Windows Server 2019
	Kernel: 10.0.17763
	Compiler: clang 14.0 and gcc 8.1.0 (MinGW)

CentOS Stream 9
	Kernel: 5.4.0-167-generic
	Compiler: gcc 11.4.1 20230605

CentOS Stream 8
	Kernel: 5.4.0-167-generic
	Compiler: gcc 8.5.0 20210514

FreeBSD 14.0
	Kernel: 14.0
	Compiler: clang 16.0.6

Fedora 38
	Kernel: Depends on container host
	Compiler: gcc 13.2.1

Fedora 37
	Kernel: Depends on container host system
	Compiler: gcc 12.3.1

Fedora 39
	Kernel: Depends on container host
	Compiler: gcc 13.2.1

Ubuntu 20.04
	Kernel: 5.4.0-167-generic
	Compiler: gcc 9.4.0-1ubuntu1~20.04.1

Debian 12
	Kernel: Container Host Kernel
	Compiler: gcc 10.2.1

Ubuntu 24.04
	Kernel: 5.4.0-167-generic
	Compiler: gcc 13.2.0

Ubuntu 22.04
	Kernel: 5.4.0-167-generic
	Compiler: gcc 11.4.0

RHEL8
	Kernel: 5.4.0-167-generic
	Compiler: gcc 8.5.0 20210514 (Red Hat 8.5.0-20)

Alpine
	Kernel: 5.4.0-167-generic
	Compiler: gcc (Alpine 13.2.1_git20231014) 13.2.1 20231014

openSUSE Leap 15
	Kernel: 5.4.0-167-generic
	Compiler: gcc 7.5.0

Debian Bullseye
	Kernel: 5.4.0-167-generic
	Compiler: gcc 10.2.1-6

To view detailed results, visit:
https://lab.dpdk.org/results/dashboard/patchsets/30049/

UNH-IOL DPDK Community Lab

To manage your email subscriptions, visit: 
https://lab.dpdk.org/results/dashboard/preferences/subscriptions/