From mboxrd@z Thu Jan  1 00:00:00 1970
Return-Path: <test-report-bounces@dpdk.org>
Received: from mails.dpdk.org (mails.dpdk.org [217.70.189.124])
	by inbox.dpdk.org (Postfix) with ESMTP id 07F9E44114
	for <public@inbox.dpdk.org>; Thu, 30 May 2024 18:08:33 +0200 (CEST)
Received: from mails.dpdk.org (localhost [127.0.0.1])
	by mails.dpdk.org (Postfix) with ESMTP id 6FB4541153;
	Thu, 30 May 2024 18:08:31 +0200 (CEST)
Received: from mail-yw1-f226.google.com (mail-yw1-f226.google.com
 [209.85.128.226])
 by mails.dpdk.org (Postfix) with ESMTP id E3CF441140
 for <test-report@dpdk.org>; Thu, 30 May 2024 18:08:29 +0200 (CEST)
Received: by mail-yw1-f226.google.com with SMTP id
 00721157ae682-62a0827316eso506687b3.1
 for <test-report@dpdk.org>; Thu, 30 May 2024 09:08:29 -0700 (PDT)
DKIM-Signature: v=1; a=rsa-sha256; c=relaxed/relaxed;
 d=iol.unh.edu; s=unh-iol; t=1717085309; x=1717690109; darn=dpdk.org;
 h=references:in-reply-to:cc:to:from:subject:message-id:date:from:to
 :cc:subject:date:message-id:reply-to;
 bh=mrR+Iw4rvaApx7grrBTiHA5QfqH7qw85c0lHh5S02QI=;
 b=JpCrV2Ey4iEEPKiUpN/AhqgZZ6r5370juXN6vVB6G9Vpabt2WFMIp7soBsXWVkgOlr
 f4uZqTrkeH/8nyb2YAr/46k1u0Dz/i6gpYE3uHXi+8Nj9dq3IAam6wgVg2otN9DfVqn7
 v57CUH+o1yocHXOjNKcgEC1MADsvSXscchhRo=
X-Google-DKIM-Signature: v=1; a=rsa-sha256; c=relaxed/relaxed;
 d=1e100.net; s=20230601; t=1717085309; x=1717690109;
 h=references:in-reply-to:cc:to:from:subject:message-id:date
 :x-gm-message-state:from:to:cc:subject:date:message-id:reply-to;
 bh=mrR+Iw4rvaApx7grrBTiHA5QfqH7qw85c0lHh5S02QI=;
 b=LaxYKhqEsqqCrfq3Z4yhIC/mveXG4lSQSJkbLcKfT986hmqk0oDqNneLlzy6e/gmTv
 wSXYsK5TOEBItQ8Aj+TGuH5IyptPUzgsNxkdDFuiMQ8gMr1WtMhRzPxzgaUq/RBtZarE
 llpIlFfsy0+RJ/msfP31WJnzijkf3cWf58fnsFIMyMKHSJUe1xjdHuoUUtlnoWkpx4Md
 OZBQylC+F1OQajmQa4alcuBKi/dM6TGYTGi1WYC+br4JrK4s+b0bQpHifjMmfTjWiJ2z
 aPJi3YHkE0QXQW6QmbYN9N9VF1hE9uq6SHNtIOSS3SH1yUoyC88CxhdEtt2C1fJt+h9e
 8CLQ==
X-Gm-Message-State: AOJu0YwwrNFLlV2zAgdIT2nORPMEkj15jxjCt3Rqy2NdBaFv708LHR6D
 jYI8kWx07wLT3gPtU4AVAk5RnwF4hPRPt4FIV1lbeU74lehZqKBSObcdYGot4zVNlHchVyg9hwH
 jkw45qL/eXZ0b4z0r5EVTPuqk5jUhF0wEXZcd+PpSjTNiXX5z6d4GZUXG
X-Google-Smtp-Source: AGHT+IE8lZf6mbPb4X8YcTfT+h+Y8TZ/JENn1AGRy04qtZwPGNCoi92cjQkfknACNyJ8BNSPGZQPHVTirDkj
X-Received: by 2002:a0d:dac1:0:b0:627:7f2a:3b0a with SMTP id
 00721157ae682-62c75bf7e47mr4882417b3.31.1717085309225; 
 Thu, 30 May 2024 09:08:29 -0700 (PDT)
Received: from postal.iol.unh.edu (postal.iol.unh.edu.
 [2606:4100:3880:1234::84]) by smtp-relay.gmail.com with ESMTPS id
 00721157ae682-62a0a5115a8sm10258747b3.74.2024.05.30.09.08.29
 (version=TLS1_2 cipher=ECDHE-ECDSA-AES128-GCM-SHA256 bits=128/128);
 Thu, 30 May 2024 09:08:29 -0700 (PDT)
X-Relaying-Domain: iol.unh.edu
Date: Thu, 30 May 2024 09:08:29 -0700 (PDT)
Message-ID: <6658a47d.050a0220.d75e3.f67eSMTPIN_ADDED_MISSING@mx.google.com>
Received: from [172.21.0.6] (unknown [172.18.0.240])
 by postal.iol.unh.edu (Postfix) with ESMTP id D5779605C373;
 Thu, 30 May 2024 12:08:28 -0400 (EDT)
Subject: |SUCCESS| pw140433-140437 [PATCH] [v13,6/6] test: add unit test for 
From: dpdklab@iol.unh.edu
To: Test Report <test-report@dpdk.org>
Cc: dpdk-test-reports@iol.unh.edu
In-Reply-To: <20240530094042.1960212-7-paul.szczepanek@arm.com>
References: <20240530094042.1960212-7-paul.szczepanek@arm.com>
Content-Type: text/plain
X-BeenThere: test-report@dpdk.org
X-Mailman-Version: 2.1.29
Precedence: list
List-Id: automatic DPDK test reports <test-report.dpdk.org>
List-Unsubscribe: <https://mails.dpdk.org/options/test-report>,
 <mailto:test-report-request@dpdk.org?subject=unsubscribe>
List-Archive: <http://mails.dpdk.org/archives/test-report/>
List-Post: <mailto:test-report@dpdk.org>
List-Help: <mailto:test-report-request@dpdk.org?subject=help>
List-Subscribe: <https://mails.dpdk.org/listinfo/test-report>,
 <mailto:test-report-request@dpdk.org?subject=subscribe>
Errors-To: test-report-bounces@dpdk.org

Test-Label: iol-compile-amd64-testing
Test-Status: SUCCESS
http://dpdk.org/patch/140437

_Testing PASS_

Submitter: Paul Szczepanek <paul.szczepanek@arm.com>
Date: Thursday, May 30 2024 09:40:42 
DPDK git baseline: Repo:dpdk
  Branch: master
  CommitID:76cef1af8bdaeaf67a5c4ca5df3f221df994dc46

140433-140437 --> testing pass

Test environment and result as below:

+----------------------------------------+--------------------+
|              Environment               | dpdk_meson_compile |
+========================================+====================+
| Ubuntu 20.04 ARM SVE                   | PASS               |
+----------------------------------------+--------------------+
| Debian 12 with MUSDK                   | PASS               |
+----------------------------------------+--------------------+
| Debian 12 (arm)                        | PASS               |
+----------------------------------------+--------------------+
| Fedora 37 (ARM)                        | PASS               |
+----------------------------------------+--------------------+
| Ubuntu 20.04 aarch32 GCC Cross Compile | PASS               |
+----------------------------------------+--------------------+


Ubuntu 20.04 ARM SVE
	Kernel: 5.4.0-167-generic
	Compiler: gcc (Ubuntu 10.5.0-1ubuntu1~20.04) 10.5.0

Debian 12 with MUSDK
	Kernel: Container Host Kernel
	Compiler: gcc 12.2.0

Debian 12 (arm)
	Kernel: Container Host Kernel
	Compiler: gcc 12.2.0

Fedora 37 (ARM)
	Kernel: Depends on container host
	Compiler: gcc 12.3.1

Ubuntu 20.04 aarch32 GCC Cross Compile
	Kernel: 5.4.0-167-generic
	Compiler: gcc 9.4.0

To view detailed results, visit:
https://lab.dpdk.org/results/dashboard/patchsets/30048/

UNH-IOL DPDK Community Lab

To manage your email subscriptions, visit: 
https://lab.dpdk.org/results/dashboard/preferences/subscriptions/