From mboxrd@z Thu Jan  1 00:00:00 1970
Return-Path: <test-report-bounces@dpdk.org>
Received: from mails.dpdk.org (mails.dpdk.org [217.70.189.124])
	by inbox.dpdk.org (Postfix) with ESMTP id 2061A44114
	for <public@inbox.dpdk.org>; Thu, 30 May 2024 18:28:02 +0200 (CEST)
Received: from mails.dpdk.org (localhost [127.0.0.1])
	by mails.dpdk.org (Postfix) with ESMTP id 15CB54064A;
	Thu, 30 May 2024 18:28:02 +0200 (CEST)
Received: from mail-il1-f227.google.com (mail-il1-f227.google.com
 [209.85.166.227])
 by mails.dpdk.org (Postfix) with ESMTP id D9A6E40608
 for <test-report@dpdk.org>; Thu, 30 May 2024 18:27:42 +0200 (CEST)
Received: by mail-il1-f227.google.com with SMTP id
 e9e14a558f8ab-3738e997e35so4177675ab.2
 for <test-report@dpdk.org>; Thu, 30 May 2024 09:27:42 -0700 (PDT)
DKIM-Signature: v=1; a=rsa-sha256; c=relaxed/relaxed;
 d=iol.unh.edu; s=unh-iol; t=1717086462; x=1717691262; darn=dpdk.org;
 h=references:in-reply-to:cc:to:from:subject:message-id:date:from:to
 :cc:subject:date:message-id:reply-to;
 bh=j5r/xDO1BATABr8zkf+drV1d2o29bd4R0K3InC3HyIQ=;
 b=jIFakroz6+V+lqZ75uXkEG7B8t5nZC4YBSkngY4j7SO7MRXShZ758+sGVbzWMgGRoI
 82K2a4BGaiA4PDAz6UIDsjLPZ2bnT0BnUuoBkJ//v63gayETka4BAR7nXkZLPnkywvge
 mkwWVbR+gSTTkj3tqlNQD+ap/uV81RMlKkDbE=
X-Google-DKIM-Signature: v=1; a=rsa-sha256; c=relaxed/relaxed;
 d=1e100.net; s=20230601; t=1717086462; x=1717691262;
 h=references:in-reply-to:cc:to:from:subject:message-id:date
 :x-gm-message-state:from:to:cc:subject:date:message-id:reply-to;
 bh=j5r/xDO1BATABr8zkf+drV1d2o29bd4R0K3InC3HyIQ=;
 b=YiZIHfyXeYnVM8+wZPYaH7wxCOQX4pTv8EcaLdExIwQub5RA5BC2+NQxTUHDYQFmrL
 z8D/ywtkK6hyujaAH8C6uXpbykfPrad/OSXhh2XM0Oo/qdkC0sw5AkEoQR2HzX21H1VZ
 iCj1W/fyydt++essIEaqF4aKh6GE7lMD3hXTtJyIeiPqAi5fQ4BgW7ksjh7bP4Mhgyvj
 LIFZD1BYQNFw8+s8B8KWD7Dq9N/40Up9mGp0JiR19ZLlhoyz6Z7CyOWJq9cHYdI3hzDb
 HA4dF/Uuj/poJqGo/dG7wJttKgtHCZFcUSINQwt4xUTsPYrUQWYy/i4iOHNMhUWC75/b
 rYFA==
X-Gm-Message-State: AOJu0YzjSxokPhj78qm3OhHnlCnKyWZUpuScjoIeRf4xrJqgNV0gpLMb
 XLM3b4Vv8RFLZIAjyHppwwzTG1Wkit7VI/NbVag6cyAmyAY42VqFC/feblm+NSS06vwzGw8R0WP
 LLJcJxuvESzEKEtVpXBwB4nU0tQKN7Sq8377OzRDZaU/rz9dr42F3ucIc
X-Google-Smtp-Source: AGHT+IGVkzZ/cdbAyM1AiP5rFfywrPogZIPN4T2YWEUu9i89UkEi4TDOkJotxZ3zVLwErOKq9OAx84K6RepI
X-Received: by 2002:a92:c54f:0:b0:373:7578:740e with SMTP id
 e9e14a558f8ab-3747dfb6392mr28288885ab.10.1717086462345; 
 Thu, 30 May 2024 09:27:42 -0700 (PDT)
Received: from postal.iol.unh.edu (postal.iol.unh.edu.
 [2606:4100:3880:1234::84]) by smtp-relay.gmail.com with ESMTPS id
 e9e14a558f8ab-3748a27633csm40445ab.60.2024.05.30.09.27.42
 (version=TLS1_2 cipher=ECDHE-ECDSA-AES128-GCM-SHA256 bits=128/128);
 Thu, 30 May 2024 09:27:42 -0700 (PDT)
X-Relaying-Domain: iol.unh.edu
Date: Thu, 30 May 2024 09:27:42 -0700 (PDT)
Message-ID: <6658a8fe.050a0220.3fdfa.0352SMTPIN_ADDED_MISSING@mx.google.com>
Received: from [172.21.0.6] (unknown [172.18.0.240])
 by postal.iol.unh.edu (Postfix) with ESMTP id CD1C0605C373;
 Thu, 30 May 2024 12:27:41 -0400 (EDT)
Subject: |SUCCESS| pw140433-140437 [PATCH] [v13,6/6] test: add unit test for 
From: dpdklab@iol.unh.edu
To: Test Report <test-report@dpdk.org>
Cc: dpdk-test-reports@iol.unh.edu
In-Reply-To: <20240530094042.1960212-7-paul.szczepanek@arm.com>
References: <20240530094042.1960212-7-paul.szczepanek@arm.com>
Content-Type: text/plain
X-BeenThere: test-report@dpdk.org
X-Mailman-Version: 2.1.29
Precedence: list
List-Id: automatic DPDK test reports <test-report.dpdk.org>
List-Unsubscribe: <https://mails.dpdk.org/options/test-report>,
 <mailto:test-report-request@dpdk.org?subject=unsubscribe>
List-Archive: <http://mails.dpdk.org/archives/test-report/>
List-Post: <mailto:test-report@dpdk.org>
List-Help: <mailto:test-report-request@dpdk.org?subject=help>
List-Subscribe: <https://mails.dpdk.org/listinfo/test-report>,
 <mailto:test-report-request@dpdk.org?subject=subscribe>
Errors-To: test-report-bounces@dpdk.org

Test-Label: iol-unit-amd64-testing
Test-Status: SUCCESS
http://dpdk.org/patch/140437

_Testing PASS_

Submitter: Paul Szczepanek <paul.szczepanek@arm.com>
Date: Thursday, May 30 2024 09:40:42 
DPDK git baseline: Repo:dpdk
  Branch: master
  CommitID:76cef1af8bdaeaf67a5c4ca5df3f221df994dc46

140433-140437 --> testing pass

Test environment and result as below:

+-----------------------------+----------------+--------------+
|         Environment         | dpdk_unit_test | lpm_autotest |
+=============================+================+==============+
| CentOS Stream 9 (ARM)       | PASS           | SKIPPED      |
+-----------------------------+----------------+--------------+
| 32-bit Ubuntu 20.04.4 (ARM) | PASS           | SKIPPED      |
+-----------------------------+----------------+--------------+
| Debian 12 (arm)             | PASS           | SKIPPED      |
+-----------------------------+----------------+--------------+
| Fedora 37 (ARM)             | PASS           | SKIPPED      |
+-----------------------------+----------------+--------------+
| Debian 11 (Buster) (ARM)    | PASS           | SKIPPED      |
+-----------------------------+----------------+--------------+
| Fedora 38 (ARM Clang)       | PASS           | SKIPPED      |
+-----------------------------+----------------+--------------+
| Fedora 39 (ARM Clang)       | PASS           | SKIPPED      |
+-----------------------------+----------------+--------------+
| Ubuntu 20.04 ARM SVE        | SKIPPED        | PASS         |
+-----------------------------+----------------+--------------+


CentOS Stream 9 (ARM)
	Kernel: Container Host Kernel
	Compiler: gcc 11.4.1

32-bit Ubuntu 20.04.4 (ARM)
	Kernel: 5.4.0-155-generic aarch64
	Compiler: gcc 9.4

Debian 12 (arm)
	Kernel: Container Host Kernel
	Compiler: gcc 12.2.0

Fedora 37 (ARM)
	Kernel: Depends on container host
	Compiler: gcc 12.3.1

Debian 11 (Buster) (ARM)
	Kernel: Container Host Kernel
	Compiler: gcc 10.2.1

Fedora 38 (ARM Clang)
	Kernel: Depends on container host
	Compiler: clang 16.0.6

Fedora 39 (ARM Clang)
	Kernel: Depends on container host
	Compiler: clang 17.0.6

Ubuntu 20.04 ARM SVE
	Kernel: 5.4.0-167-generic
	Compiler: gcc (Ubuntu 10.5.0-1ubuntu1~20.04) 10.5.0

To view detailed results, visit:
https://lab.dpdk.org/results/dashboard/patchsets/30048/

UNH-IOL DPDK Community Lab

To manage your email subscriptions, visit: 
https://lab.dpdk.org/results/dashboard/preferences/subscriptions/