From mboxrd@z Thu Jan  1 00:00:00 1970
Return-Path: <test-report-bounces@dpdk.org>
Received: from mails.dpdk.org (mails.dpdk.org [217.70.189.124])
	by inbox.dpdk.org (Postfix) with ESMTP id EE26344114
	for <public@inbox.dpdk.org>; Thu, 30 May 2024 19:32:38 +0200 (CEST)
Received: from mails.dpdk.org (localhost [127.0.0.1])
	by mails.dpdk.org (Postfix) with ESMTP id E961040608;
	Thu, 30 May 2024 19:32:38 +0200 (CEST)
Received: from mail-oo1-f98.google.com (mail-oo1-f98.google.com
 [209.85.161.98]) by mails.dpdk.org (Postfix) with ESMTP id 0170D402F0
 for <test-report@dpdk.org>; Thu, 30 May 2024 19:32:06 +0200 (CEST)
Received: by mail-oo1-f98.google.com with SMTP id
 006d021491bc7-5b9c7ae2c98so629919eaf.3
 for <test-report@dpdk.org>; Thu, 30 May 2024 10:32:05 -0700 (PDT)
DKIM-Signature: v=1; a=rsa-sha256; c=relaxed/relaxed;
 d=iol.unh.edu; s=unh-iol; t=1717090325; x=1717695125; darn=dpdk.org;
 h=references:in-reply-to:cc:to:from:subject:message-id:date:from:to
 :cc:subject:date:message-id:reply-to;
 bh=HPXwZKrjOe2mUt1OqvcXhv5RHt+4nB8jRZh2mplA3go=;
 b=Ff+2+NeiFbxK7eySE+TttCUZ/Xc2L+hNoIlmnUVv5CCGczCVZrDDAxPrAbg+BSSX9x
 1rL/fbvTIBi7U2UNgXDWpu86nfn//Mc1NO7NLpZ3w7ZAy21nJsZsbBBw8UGwWxSwEDwC
 5RJjpT5J6q9Md5OgL8FtGv8H4tArMRkGU9WXg=
X-Google-DKIM-Signature: v=1; a=rsa-sha256; c=relaxed/relaxed;
 d=1e100.net; s=20230601; t=1717090325; x=1717695125;
 h=references:in-reply-to:cc:to:from:subject:message-id:date
 :x-gm-message-state:from:to:cc:subject:date:message-id:reply-to;
 bh=HPXwZKrjOe2mUt1OqvcXhv5RHt+4nB8jRZh2mplA3go=;
 b=MKbj5x8iX/YzPpSi8cSP+9oyQiXx4U7sePoL+BHWoSAhvhHCHaJaKARnZCQyvnNg1G
 4gnfwgXeApdHC/vJtT8YBjB9ZfKpZ6dsmT7ZPD22n2FlEJM3bafBAL+EBJW033vPClcY
 eOZvoe/OMrf1trR5hdIG3G9gCWhtC9G+8o7x6H95XbsNNDmIh/Ne3nUHqosJdz4tAOre
 w8E2GHev8c1F6ZE6ZnXQ2DdepI1ii8vwc6jo1CPN3ZIgdvux9Wui5+cwkbFkogzM29Bl
 b009xSnGRdyr5eeCENAX8tqsXYvQglNQEhLe3UUrhG/y6L5bFpaqfHxOUlL9RCxeWyHH
 SVCg==
X-Gm-Message-State: AOJu0YwGUrMosr4SSrtJlBvcRHL4gdzMch7rerKtC/Q85rVPKOz81pg/
 5zUPDK9y2LwljPa9sRLlb/3tzoHXn22M+mRiWubZ7RylnAVOuQ1bwNgjF9C5Zhvd/SYbiYqKKkg
 5WGRUK6pT10gok+g9rb31/r1gr1GHyx3h0OHiq2yeb0a4AhM5OEje2Dt6
X-Google-Smtp-Source: AGHT+IFEUS8zOKi/aOnME4oF2xvotY4ZjEbjz4CKOxTtw8lCe7orMD/c6DoBS3jvrHG1/xRgtzN0neowiire
X-Received: by 2002:a05:6359:5b0b:b0:193:f885:fe8e with SMTP id
 e5c5f4694b2df-199b9861380mr297590755d.27.1717090325204; 
 Thu, 30 May 2024 10:32:05 -0700 (PDT)
Received: from postal.iol.unh.edu (postal.iol.unh.edu.
 [2606:4100:3880:1234::84]) by smtp-relay.gmail.com with ESMTPS id
 6a1803df08f44-6ae4a741e7bsm78996d6.31.2024.05.30.10.32.05
 (version=TLS1_2 cipher=ECDHE-ECDSA-AES128-GCM-SHA256 bits=128/128);
 Thu, 30 May 2024 10:32:05 -0700 (PDT)
X-Relaying-Domain: iol.unh.edu
Date: Thu, 30 May 2024 10:32:05 -0700 (PDT)
Message-ID: <6658b815.d40a0220.e4f67.07beSMTPIN_ADDED_MISSING@mx.google.com>
Received: from [172.21.0.7] (unknown [172.18.0.240])
 by postal.iol.unh.edu (Postfix) with ESMTP id DF91D605C373;
 Thu, 30 May 2024 13:32:04 -0400 (EDT)
Subject: |SUCCESS| pw140480-140483 [PATCH] [v1,17/17] net/ntnic: add NIM modu
From: dpdklab@iol.unh.edu
To: Test Report <test-report@dpdk.org>
Cc: dpdk-test-reports@iol.unh.edu
In-Reply-To: <20240530144929.4127931-17-sil-plv@napatech.com>
References: <20240530144929.4127931-17-sil-plv@napatech.com>
Content-Type: text/plain
X-BeenThere: test-report@dpdk.org
X-Mailman-Version: 2.1.29
Precedence: list
List-Id: automatic DPDK test reports <test-report.dpdk.org>
List-Unsubscribe: <https://mails.dpdk.org/options/test-report>,
 <mailto:test-report-request@dpdk.org?subject=unsubscribe>
List-Archive: <http://mails.dpdk.org/archives/test-report/>
List-Post: <mailto:test-report@dpdk.org>
List-Help: <mailto:test-report-request@dpdk.org?subject=help>
List-Subscribe: <https://mails.dpdk.org/listinfo/test-report>,
 <mailto:test-report-request@dpdk.org?subject=subscribe>
Errors-To: test-report-bounces@dpdk.org

Test-Label: iol-unit-amd64-testing
Test-Status: SUCCESS
http://dpdk.org/patch/140483

_Testing PASS_

Submitter: Serhii Iliushyk <sil-plv@napatech.com>
Date: Thursday, May 30 2024 14:49:14 
DPDK git baseline: Repo:dpdk
  Branch: master
  CommitID:2dbb63594a9a985e2c8639b57f9fcd1468b9de97

140480-140483 --> testing pass

Test environment and result as below:

+-----------------------------+----------------+--------------+
|         Environment         | dpdk_unit_test | lpm_autotest |
+=============================+================+==============+
| 32-bit Ubuntu 20.04.4 (ARM) | PASS           | SKIPPED      |
+-----------------------------+----------------+--------------+
| Debian 11 (Buster) (ARM)    | PASS           | SKIPPED      |
+-----------------------------+----------------+--------------+
| CentOS Stream 9 (ARM)       | PASS           | SKIPPED      |
+-----------------------------+----------------+--------------+
| Ubuntu 20.04 ARM SVE        | SKIPPED        | PASS         |
+-----------------------------+----------------+--------------+


32-bit Ubuntu 20.04.4 (ARM)
	Kernel: 5.4.0-155-generic aarch64
	Compiler: gcc 9.4

Debian 11 (Buster) (ARM)
	Kernel: Container Host Kernel
	Compiler: gcc 10.2.1

CentOS Stream 9 (ARM)
	Kernel: Container Host Kernel
	Compiler: gcc 11.4.1

Ubuntu 20.04 ARM SVE
	Kernel: 5.4.0-167-generic
	Compiler: gcc (Ubuntu 10.5.0-1ubuntu1~20.04) 10.5.0

To view detailed results, visit:
https://lab.dpdk.org/results/dashboard/patchsets/30052/

UNH-IOL DPDK Community Lab

To manage your email subscriptions, visit: 
https://lab.dpdk.org/results/dashboard/preferences/subscriptions/