From mboxrd@z Thu Jan  1 00:00:00 1970
Return-Path: <test-report-bounces@dpdk.org>
Received: from mails.dpdk.org (mails.dpdk.org [217.70.189.124])
	by inbox.dpdk.org (Postfix) with ESMTP id 6240644117
	for <public@inbox.dpdk.org>; Fri, 31 May 2024 00:28:43 +0200 (CEST)
Received: from mails.dpdk.org (localhost [127.0.0.1])
	by mails.dpdk.org (Postfix) with ESMTP id 5F06A4027D;
	Fri, 31 May 2024 00:28:43 +0200 (CEST)
Received: from mail-pf1-f226.google.com (mail-pf1-f226.google.com
 [209.85.210.226])
 by mails.dpdk.org (Postfix) with ESMTP id C7C674027C
 for <test-report@dpdk.org>; Fri, 31 May 2024 00:28:41 +0200 (CEST)
Received: by mail-pf1-f226.google.com with SMTP id
 d2e1a72fcca58-70224f928edso414801b3a.0
 for <test-report@dpdk.org>; Thu, 30 May 2024 15:28:41 -0700 (PDT)
DKIM-Signature: v=1; a=rsa-sha256; c=relaxed/relaxed;
 d=iol.unh.edu; s=unh-iol; t=1717108121; x=1717712921; darn=dpdk.org;
 h=references:in-reply-to:cc:to:from:subject:message-id:date:from:to
 :cc:subject:date:message-id:reply-to;
 bh=0X6wDgPGJ1MEt0O7n83rWlczzYOQEuQgOHNtls/6Pc0=;
 b=gbY0PeeBMeCxjcY1VM+da4OdoD7ehJsXQvrLhUogsJJGyzytbf3TcPWQcx+Wg/Rp4E
 6HwNd0CTMrKd1MFrljtizQqfkPkPFTEqQC2BHPvavqACbR7rLWr9U/5Oy01G+fKXc0YN
 NaXGw1Lf2Ugitd7py9taLTNXdVii11dwcgvvk=
X-Google-DKIM-Signature: v=1; a=rsa-sha256; c=relaxed/relaxed;
 d=1e100.net; s=20230601; t=1717108121; x=1717712921;
 h=references:in-reply-to:cc:to:from:subject:message-id:date
 :x-gm-message-state:from:to:cc:subject:date:message-id:reply-to;
 bh=0X6wDgPGJ1MEt0O7n83rWlczzYOQEuQgOHNtls/6Pc0=;
 b=sSw2JR7/c7VpkQkwL96D8Fm5szisVbYevxCZliTLL8+xg3lPNCNSjYe/sC+2ur/fOp
 AIvT4SlhnH9V2JXqQ4okXs5Jj3WJqkI8gZAFljVtz7C1R76lLbB/UmA4tqL4USKCT7xm
 fib2PepRkuHnyDyiCHLFzzH8mVp2fvegrzvStmpZTS8DD/+8JRgQsYjo3OMj6Vd0lS/t
 uxO0AZhMwPyGGazp8Dz6OcfpGzWYVm+qrgDtAzM+Z2bKHpgmKtjZDkSO0yllPOrs/cMd
 SG+YkUjoAlKg7BW/m6caNeR3tr44bhtnSD2jKgPa2zk5NH+cl8mvmBcHNh2RQxh2q847
 0sbQ==
X-Gm-Message-State: AOJu0Yy2uxYG9EegzmOJ811p0m27Q460M1tZFFEcQ6jA/WFstMmLQr8i
 3BKDQaKbei1j++DyDgbX6SomQE3LT21oXjFjLiPxDmcQxtWm54zjewNSU0av0TPJO8bx0QkT0te
 Awrv52dsC+3sEluj6iCmakV9eViX3lNCvVjAHotdx
X-Google-Smtp-Source: AGHT+IE963mdHUNdtjJ8GjoUFBVVWdmVm+dhGOkt+wQRaxlnpERGW8y27N98MO+TKFULAahKa+9Pgzw3+hmD
X-Received: by 2002:a05:6a20:3946:b0:1b0:119c:7587 with SMTP id
 adf61e73a8af0-1b26f30d7e6mr296659637.51.1717108120988; 
 Thu, 30 May 2024 15:28:40 -0700 (PDT)
Received: from postal.iol.unh.edu (postal.iol.unh.edu. [132.177.123.84])
 by smtp-relay.gmail.com with ESMTPS id
 d9443c01a7336-1f63213d91csm195025ad.0.2024.05.30.15.28.40
 (version=TLS1_2 cipher=ECDHE-ECDSA-AES128-GCM-SHA256 bits=128/128);
 Thu, 30 May 2024 15:28:40 -0700 (PDT)
X-Relaying-Domain: iol.unh.edu
Date: Thu, 30 May 2024 15:28:40 -0700 (PDT)
Message-ID: <6658fd98.170a0220.95af5.1327SMTPIN_ADDED_MISSING@mx.google.com>
Received: from [172.17.0.2] (unknown [172.18.0.217])
 by postal.iol.unh.edu (Postfix) with ESMTP id ECFA1605C373;
 Thu, 30 May 2024 18:28:39 -0400 (EDT)
Subject: |SUCCESS| pw140489-140490 [PATCH] [v3,2/2] dts: clean up config type
From: dpdklab@iol.unh.edu
To: Test Report <test-report@dpdk.org>
Cc: dpdk-test-reports@iol.unh.edu
In-Reply-To: <20240530151951.388179-3-luca.vizzarro@arm.com>
References: <20240530151951.388179-3-luca.vizzarro@arm.com>
Content-Type: text/plain
X-BeenThere: test-report@dpdk.org
X-Mailman-Version: 2.1.29
Precedence: list
List-Id: automatic DPDK test reports <test-report.dpdk.org>
List-Unsubscribe: <https://mails.dpdk.org/options/test-report>,
 <mailto:test-report-request@dpdk.org?subject=unsubscribe>
List-Archive: <http://mails.dpdk.org/archives/test-report/>
List-Post: <mailto:test-report@dpdk.org>
List-Help: <mailto:test-report-request@dpdk.org?subject=help>
List-Subscribe: <https://mails.dpdk.org/listinfo/test-report>,
 <mailto:test-report-request@dpdk.org?subject=subscribe>
Errors-To: test-report-bounces@dpdk.org

Test-Label: iol-compile-arm64-testing
Test-Status: SUCCESS
http://dpdk.org/patch/140490

_Testing PASS_

Submitter: Luca Vizzarro <luca.vizzarro@arm.com>
Date: Thursday, May 30 2024 15:19:51 
DPDK git baseline: Repo:dpdk
  Branch: master
  CommitID:76cef1af8bdaeaf67a5c4ca5df3f221df994dc46

140489-140490 --> testing pass

Test environment and result as below:

+---------------------+--------------------+------------------+----------------------+
|     Environment     | dpdk_meson_compile | dpdk_compile_ovs | dpdk_mingw64_compile |
+=====================+====================+==================+======================+
| Debian 12           | PASS               | PASS             | SKIPPED              |
+---------------------+--------------------+------------------+----------------------+
| CentOS Stream 9     | PASS               | PASS             | SKIPPED              |
+---------------------+--------------------+------------------+----------------------+
| Fedora 37           | PASS               | PASS             | SKIPPED              |
+---------------------+--------------------+------------------+----------------------+
| FreeBSD 13.3        | PASS               | SKIPPED          | SKIPPED              |
+---------------------+--------------------+------------------+----------------------+
| Windows Server 2019 | PASS               | SKIPPED          | PASS                 |
+---------------------+--------------------+------------------+----------------------+
| Windows Server 2022 | PASS               | SKIPPED          | PASS                 |
+---------------------+--------------------+------------------+----------------------+
| FreeBSD 14.0        | PASS               | SKIPPED          | SKIPPED              |
+---------------------+--------------------+------------------+----------------------+
| RHEL8               | PASS               | PASS             | SKIPPED              |
+---------------------+--------------------+------------------+----------------------+
| Fedora 38           | PASS               | PASS             | SKIPPED              |
+---------------------+--------------------+------------------+----------------------+
| Fedora 39           | PASS               | PASS             | SKIPPED              |
+---------------------+--------------------+------------------+----------------------+
| Ubuntu 20.04        | PASS               | PASS             | SKIPPED              |
+---------------------+--------------------+------------------+----------------------+
| Alpine              | PASS               | SKIPPED          | SKIPPED              |
+---------------------+--------------------+------------------+----------------------+
| CentOS Stream 8     | PASS               | PASS             | SKIPPED              |
+---------------------+--------------------+------------------+----------------------+
| openSUSE Leap 15    | PASS               | PASS             | SKIPPED              |
+---------------------+--------------------+------------------+----------------------+
| Debian Bullseye     | PASS               | PASS             | SKIPPED              |
+---------------------+--------------------+------------------+----------------------+
| Ubuntu 22.04        | PASS               | PASS             | SKIPPED              |
+---------------------+--------------------+------------------+----------------------+


Debian 12
	Kernel: Container Host Kernel
	Compiler: gcc 10.2.1

CentOS Stream 9
	Kernel: 5.4.0-167-generic
	Compiler: gcc 11.4.1 20230605

Fedora 37
	Kernel: Depends on container host system
	Compiler: gcc 12.3.1

FreeBSD 13.3
	Kernel: 13.3-RELEASE-p1
	Compiler: clang 17.0.6

Windows Server 2019
	Kernel: 10.0.17763
	Compiler: clang 14.0 and gcc 8.1.0 (MinGW)

Windows Server 2022
	Kernel: 10.0.20348.2031
	Compiler: clang 15.0.7, gcc 8.1.0 (MinGW), and MSVC VS 17.9

FreeBSD 14.0
	Kernel: 14.0
	Compiler: clang 16.0.6

RHEL8
	Kernel: 5.4.0-167-generic
	Compiler: gcc 8.5.0 20210514 (Red Hat 8.5.0-20)

Fedora 38
	Kernel: Depends on container host
	Compiler: gcc 13.2.1

Fedora 39
	Kernel: Depends on container host
	Compiler: gcc 13.2.1

Ubuntu 20.04
	Kernel: 5.4.0-167-generic
	Compiler: gcc 9.4.0-1ubuntu1~20.04.1

Alpine
	Kernel: 5.4.0-167-generic
	Compiler: gcc (Alpine 13.2.1_git20231014) 13.2.1 20231014

CentOS Stream 8
	Kernel: 5.4.0-167-generic
	Compiler: gcc 8.5.0 20210514

openSUSE Leap 15
	Kernel: 5.4.0-167-generic
	Compiler: gcc 7.5.0

Debian Bullseye
	Kernel: 5.4.0-167-generic
	Compiler: gcc 10.2.1-6

Ubuntu 22.04
	Kernel: 5.4.0-167-generic
	Compiler: gcc 11.4.0

To view detailed results, visit:
https://lab.dpdk.org/results/dashboard/patchsets/30053/

UNH-IOL DPDK Community Lab

To manage your email subscriptions, visit: 
https://lab.dpdk.org/results/dashboard/preferences/subscriptions/