From mboxrd@z Thu Jan  1 00:00:00 1970
Return-Path: <test-report-bounces@dpdk.org>
Received: from mails.dpdk.org (mails.dpdk.org [217.70.189.124])
	by inbox.dpdk.org (Postfix) with ESMTP id 2F7D3440CE
	for <public@inbox.dpdk.org>; Fri, 31 May 2024 03:22:56 +0200 (CEST)
Received: from mails.dpdk.org (localhost [127.0.0.1])
	by mails.dpdk.org (Postfix) with ESMTP id 2809C4027D;
	Fri, 31 May 2024 03:22:56 +0200 (CEST)
Received: from mail-oo1-f97.google.com (mail-oo1-f97.google.com
 [209.85.161.97]) by mails.dpdk.org (Postfix) with ESMTP id 64FBB4027C
 for <test-report@dpdk.org>; Fri, 31 May 2024 03:22:54 +0200 (CEST)
Received: by mail-oo1-f97.google.com with SMTP id
 006d021491bc7-5b5254f9c32so873151eaf.0
 for <test-report@dpdk.org>; Thu, 30 May 2024 18:22:54 -0700 (PDT)
DKIM-Signature: v=1; a=rsa-sha256; c=relaxed/relaxed;
 d=iol.unh.edu; s=unh-iol; t=1717118573; x=1717723373; darn=dpdk.org;
 h=references:in-reply-to:cc:to:from:subject:message-id:date:from:to
 :cc:subject:date:message-id:reply-to;
 bh=lygpNzaHyIRHDwIwY/otHH1U4dWpPy4e7z/JGKJ+RWc=;
 b=F7r7FnSayqmdcaM7C+OK4Zk3v9oymkUNEpbYvAv/kAQjYxlqM5Y0xWBYfWhvHqdZ75
 TNREMH1vhj+O6rOnHs6a8S6roHkeNJRu4oOs6pPX+WSxH2VDTqgjdTIgMfn5EuOUzR7w
 U6gbV55/QJLrUJ4cdUYU0qQZvRk0MkW1+ssz0=
X-Google-DKIM-Signature: v=1; a=rsa-sha256; c=relaxed/relaxed;
 d=1e100.net; s=20230601; t=1717118573; x=1717723373;
 h=references:in-reply-to:cc:to:from:subject:message-id:date
 :x-gm-message-state:from:to:cc:subject:date:message-id:reply-to;
 bh=lygpNzaHyIRHDwIwY/otHH1U4dWpPy4e7z/JGKJ+RWc=;
 b=JZssF4JGbVsfvVdtdg3vzNJc10zjMLoX4FPfPJsBIwphX2jtdI2cohGu6wuf9fLUW7
 Fj3K/mLbSKq+bVUrgYFi4GlDnqRbxZPOQTH6njM8aXz+9lbphusJ9KL0TLpRAch8suhf
 Gji9LeHShWdPZjG89rLjFELWsJaSruCAqoJIaZ/4nRLA0baOpNSV2G3b3+iIa09zEj5y
 LecD/H1WnHtJ0IO45saX8I3SPz3zGduo2EYKXvS1IqbZMsUdRF+WE67wBtCExb8KuuhE
 bsNqYjomnojMU0nGao22NGYhRQU/tAqr1+12EO90+qPda/Zm0BCMlyRXrr7EAvOKIJ1s
 VHXA==
X-Gm-Message-State: AOJu0Yw5GP3Q9u36ECCox1Dn8+Ff/r6pgP7tajxtod1+I7yg/jvOnqhX
 AehABojncbiX0uvvqon02l4y1wDoKhloWqFmIUYIZdwah8wbu6JWG4L9jUmM5OEHUJj5NUu3xoh
 E2E3Hm+ABQ5EH6BMLl2TIWl0kP189UXESFUnjOEfym/p2OpVyEa1pZBcR
X-Google-Smtp-Source: AGHT+IGG/3JWoTwmAaHajlzVrtI0BxxF8ROGHOw6xOaDLaYsB8gcXfaAbjz7ZCXWTPnUis3CRa1pmkCYTw3P
X-Received: by 2002:a05:6358:4a3:b0:17e:89bb:e545 with SMTP id
 e5c5f4694b2df-19b48d5d605mr72919855d.19.1717118573564; 
 Thu, 30 May 2024 18:22:53 -0700 (PDT)
Received: from postal.iol.unh.edu (postal.iol.unh.edu.
 [2606:4100:3880:1234::84]) by smtp-relay.gmail.com with ESMTPS id
 41be03b00d2f7-6c35bbbec86sm31762a12.30.2024.05.30.18.22.53
 (version=TLS1_2 cipher=ECDHE-ECDSA-AES128-GCM-SHA256 bits=128/128);
 Thu, 30 May 2024 18:22:53 -0700 (PDT)
X-Relaying-Domain: iol.unh.edu
Date: Thu, 30 May 2024 18:22:53 -0700 (PDT)
Message-ID: <6659266d.630a0220.cc676.2181SMTPIN_ADDED_MISSING@mx.google.com>
Received: from [172.17.0.2] (unknown [172.18.0.217])
 by postal.iol.unh.edu (Postfix) with ESMTP id 93604605C373;
 Thu, 30 May 2024 21:22:52 -0400 (EDT)
Subject: |SUCCESS| pw140510-140511 [PATCH] [v8,2/2] dts: Change hugepage 'amo
From: dpdklab@iol.unh.edu
To: Test Report <test-report@dpdk.org>
Cc: dpdk-test-reports@iol.unh.edu
In-Reply-To: <20240530193801.11867-3-npratte@iol.unh.edu>
References: <20240530193801.11867-3-npratte@iol.unh.edu>
Content-Type: text/plain
X-BeenThere: test-report@dpdk.org
X-Mailman-Version: 2.1.29
Precedence: list
List-Id: automatic DPDK test reports <test-report.dpdk.org>
List-Unsubscribe: <https://mails.dpdk.org/options/test-report>,
 <mailto:test-report-request@dpdk.org?subject=unsubscribe>
List-Archive: <http://mails.dpdk.org/archives/test-report/>
List-Post: <mailto:test-report@dpdk.org>
List-Help: <mailto:test-report-request@dpdk.org?subject=help>
List-Subscribe: <https://mails.dpdk.org/listinfo/test-report>,
 <mailto:test-report-request@dpdk.org?subject=subscribe>
Errors-To: test-report-bounces@dpdk.org

Test-Label: iol-unit-arm64-testing
Test-Status: SUCCESS
http://dpdk.org/patch/140511

_Testing PASS_

Submitter: Nicholas Pratte <npratte@iol.unh.edu>
Date: Thursday, May 30 2024 19:38:00 
DPDK git baseline: Repo:dpdk
  Branch: master
  CommitID:76cef1af8bdaeaf67a5c4ca5df3f221df994dc46

140510-140511 --> testing pass

Test environment and result as below:

+------------------+----------------+
|   Environment    | dpdk_unit_test |
+==================+================+
| CentOS Stream 8  | PASS           |
+------------------+----------------+
| CentOS Stream 9  | PASS           |
+------------------+----------------+
| Debian Bullseye  | PASS           |
+------------------+----------------+
| Fedora 37        | PASS           |
+------------------+----------------+
| Fedora 39        | PASS           |
+------------------+----------------+
| Fedora 38        | PASS           |
+------------------+----------------+
| Debian 12        | PASS           |
+------------------+----------------+
| openSUSE Leap 15 | PASS           |
+------------------+----------------+
| RHEL8            | PASS           |
+------------------+----------------+
| Ubuntu 24.04     | PASS           |
+------------------+----------------+
| Ubuntu 20.04     | PASS           |
+------------------+----------------+
| Ubuntu 22.04     | PASS           |
+------------------+----------------+


CentOS Stream 8
	Kernel: 5.4.0-167-generic
	Compiler: gcc 8.5.0 20210514

CentOS Stream 9
	Kernel: 5.4.0-167-generic
	Compiler: gcc 11.4.1 20230605

Debian Bullseye
	Kernel: 5.4.0-167-generic
	Compiler: gcc 10.2.1-6

Fedora 37
	Kernel: Depends on container host system
	Compiler: gcc 12.3.1

Fedora 39
	Kernel: Depends on container host
	Compiler: gcc 13.2.1

Fedora 38
	Kernel: Depends on container host
	Compiler: clang 16.0.6

Debian 12
	Kernel: Container Host Kernel
	Compiler: gcc 10.2.1

openSUSE Leap 15
	Kernel: 5.4.0-167-generic
	Compiler: gcc 7.5.0

RHEL8
	Kernel: 5.4.0-167-generic
	Compiler: gcc 8.5.0 20210514 (Red Hat 8.5.0-20)

Ubuntu 24.04
	Kernel: 5.4.0-167-generic
	Compiler: gcc 13.2.0

Ubuntu 20.04
	Kernel: 5.4.0-167-generic
	Compiler: gcc 9.4.0-1ubuntu1~20.04.1

Ubuntu 22.04
	Kernel: 5.4.0-167-generic
	Compiler: gcc 11.4.0

To view detailed results, visit:
https://lab.dpdk.org/results/dashboard/patchsets/30061/

UNH-IOL DPDK Community Lab

To manage your email subscriptions, visit: 
https://lab.dpdk.org/results/dashboard/preferences/subscriptions/