From mboxrd@z Thu Jan  1 00:00:00 1970
Return-Path: <test-report-bounces@dpdk.org>
Received: from mails.dpdk.org (mails.dpdk.org [217.70.189.124])
	by inbox.dpdk.org (Postfix) with ESMTP id 96590440CE
	for <public@inbox.dpdk.org>; Fri, 31 May 2024 03:26:47 +0200 (CEST)
Received: from mails.dpdk.org (localhost [127.0.0.1])
	by mails.dpdk.org (Postfix) with ESMTP id 92C5E40695;
	Fri, 31 May 2024 03:26:47 +0200 (CEST)
Received: from mail-yw1-f228.google.com (mail-yw1-f228.google.com
 [209.85.128.228])
 by mails.dpdk.org (Postfix) with ESMTP id B01E94027C
 for <test-report@dpdk.org>; Fri, 31 May 2024 03:26:13 +0200 (CEST)
Received: by mail-yw1-f228.google.com with SMTP id
 00721157ae682-62a052f74c1so11225427b3.1
 for <test-report@dpdk.org>; Thu, 30 May 2024 18:26:13 -0700 (PDT)
DKIM-Signature: v=1; a=rsa-sha256; c=relaxed/relaxed;
 d=iol.unh.edu; s=unh-iol; t=1717118773; x=1717723573; darn=dpdk.org;
 h=references:in-reply-to:cc:to:from:subject:message-id:date:from:to
 :cc:subject:date:message-id:reply-to;
 bh=lygpNzaHyIRHDwIwY/otHH1U4dWpPy4e7z/JGKJ+RWc=;
 b=NGYBButz21/gKwyvAGrzMRjOUnqYU5LZ99HS6UJce5uBNzXaBmzjXc5+Dg9NGxXq5e
 glNJn6wEpclz4UqwEd039h5jUO3Na4VAU2jGGOT9bZbaqwdPdZ+pY8ODYkpBYJwfcq8P
 MG1YicDPK0j3l9YHZmE9zIxB9aL0HoG1MuVc8=
X-Google-DKIM-Signature: v=1; a=rsa-sha256; c=relaxed/relaxed;
 d=1e100.net; s=20230601; t=1717118773; x=1717723573;
 h=references:in-reply-to:cc:to:from:subject:message-id:date
 :x-gm-message-state:from:to:cc:subject:date:message-id:reply-to;
 bh=lygpNzaHyIRHDwIwY/otHH1U4dWpPy4e7z/JGKJ+RWc=;
 b=VnMqbQV7Ib0zWT7RWT6e0FvOix1/WMKCBoAf08wP8hCgr5w+Ty903+qvqZQaZpEURb
 s10Llfso/BFymBnZOWM9Wlr/jKX3ySB2TNWh0IrwohiqaIcCWNBHQ5FPTDFuCi8nCVqM
 TtxUQMu8BT0WSLWsMKfz+tQ20lQ+7Ek1Nmo9v/dnzBfQ6KXvKXfjWw+Bo/sQxiZTb6qP
 S8IuUhwMje578AhAgcHvqfyPqqeqMXtCzTsgXtMlyFK7SJ18YK8b+/YkyXgr757KazF+
 1Nkc299nIRSc1Euhp75lW79QH7GG4Jmns4FxNv65dY0PE26Voi4iVX0OVg2i8ad9hIqc
 bN8g==
X-Gm-Message-State: AOJu0YxFtPyHeyRcDIwDwdYE4Bujm0avvW0E8sqFVFP/qgXunsVA8fRX
 1iLyjBOjqBHmGVCiyWwoh57zug26fHfK9+oNvAveEmACyjGmGJFedrHr+aYWwLZrRO6geFlBm+3
 KClHx7XfEj2dyff0o10fODrIxPrOgwp+xmiYT1BzZVZNSOxlFcg6XL97l
X-Google-Smtp-Source: AGHT+IGq/Gs59Oy9TkCe9TaIVyl3try1uz0hilTh5NynWJIacca5DgxCcDTj9XadLNXwEvYYmhMl1g4Tt7be
X-Received: by 2002:a05:690c:3747:b0:627:eb46:636a with SMTP id
 00721157ae682-62c6cc80e4bmr23014427b3.3.1717118773179; 
 Thu, 30 May 2024 18:26:13 -0700 (PDT)
Received: from postal.iol.unh.edu (postal.iol.unh.edu.
 [2606:4100:3880:1234::84]) by smtp-relay.gmail.com with ESMTPS id
 00721157ae682-62c76620446sm349607b3.25.2024.05.30.18.26.13
 (version=TLS1_2 cipher=ECDHE-ECDSA-AES128-GCM-SHA256 bits=128/128);
 Thu, 30 May 2024 18:26:13 -0700 (PDT)
X-Relaying-Domain: iol.unh.edu
Date: Thu, 30 May 2024 18:26:13 -0700 (PDT)
Message-ID: <66592735.050a0220.f8ec9.3092SMTPIN_ADDED_MISSING@mx.google.com>
Received: from [172.17.0.3] (unknown [172.18.0.217])
 by postal.iol.unh.edu (Postfix) with ESMTP id C27B5605C373;
 Thu, 30 May 2024 21:26:12 -0400 (EDT)
Subject: |SUCCESS| pw140510-140511 [PATCH] [v8,2/2] dts: Change hugepage 'amo
From: dpdklab@iol.unh.edu
To: Test Report <test-report@dpdk.org>
Cc: dpdk-test-reports@iol.unh.edu
In-Reply-To: <20240530193801.11867-3-npratte@iol.unh.edu>
References: <20240530193801.11867-3-npratte@iol.unh.edu>
Content-Type: text/plain
X-BeenThere: test-report@dpdk.org
X-Mailman-Version: 2.1.29
Precedence: list
List-Id: automatic DPDK test reports <test-report.dpdk.org>
List-Unsubscribe: <https://mails.dpdk.org/options/test-report>,
 <mailto:test-report-request@dpdk.org?subject=unsubscribe>
List-Archive: <http://mails.dpdk.org/archives/test-report/>
List-Post: <mailto:test-report@dpdk.org>
List-Help: <mailto:test-report-request@dpdk.org?subject=help>
List-Subscribe: <https://mails.dpdk.org/listinfo/test-report>,
 <mailto:test-report-request@dpdk.org?subject=subscribe>
Errors-To: test-report-bounces@dpdk.org

Test-Label: iol-unit-arm64-testing
Test-Status: SUCCESS
http://dpdk.org/patch/140511

_Testing PASS_

Submitter: Nicholas Pratte <npratte@iol.unh.edu>
Date: Thursday, May 30 2024 19:38:00 
DPDK git baseline: Repo:dpdk
  Branch: master
  CommitID:76cef1af8bdaeaf67a5c4ca5df3f221df994dc46

140510-140511 --> testing pass

Test environment and result as below:

+------------------+----------------+
|   Environment    | dpdk_unit_test |
+==================+================+
| CentOS Stream 8  | PASS           |
+------------------+----------------+
| CentOS Stream 9  | PASS           |
+------------------+----------------+
| Debian Bullseye  | PASS           |
+------------------+----------------+
| Fedora 37        | PASS           |
+------------------+----------------+
| Fedora 39        | PASS           |
+------------------+----------------+
| Fedora 38        | PASS           |
+------------------+----------------+
| Debian 12        | PASS           |
+------------------+----------------+
| openSUSE Leap 15 | PASS           |
+------------------+----------------+
| RHEL8            | PASS           |
+------------------+----------------+
| Ubuntu 24.04     | PASS           |
+------------------+----------------+
| Ubuntu 20.04     | PASS           |
+------------------+----------------+
| Ubuntu 22.04     | PASS           |
+------------------+----------------+


CentOS Stream 8
	Kernel: 5.4.0-167-generic
	Compiler: gcc 8.5.0 20210514

CentOS Stream 9
	Kernel: 5.4.0-167-generic
	Compiler: gcc 11.4.1 20230605

Debian Bullseye
	Kernel: 5.4.0-167-generic
	Compiler: gcc 10.2.1-6

Fedora 37
	Kernel: Depends on container host system
	Compiler: gcc 12.3.1

Fedora 39
	Kernel: Depends on container host
	Compiler: gcc 13.2.1

Fedora 38
	Kernel: Depends on container host
	Compiler: clang 16.0.6

Debian 12
	Kernel: Container Host Kernel
	Compiler: gcc 10.2.1

openSUSE Leap 15
	Kernel: 5.4.0-167-generic
	Compiler: gcc 7.5.0

RHEL8
	Kernel: 5.4.0-167-generic
	Compiler: gcc 8.5.0 20210514 (Red Hat 8.5.0-20)

Ubuntu 24.04
	Kernel: 5.4.0-167-generic
	Compiler: gcc 13.2.0

Ubuntu 20.04
	Kernel: 5.4.0-167-generic
	Compiler: gcc 9.4.0-1ubuntu1~20.04.1

Ubuntu 22.04
	Kernel: 5.4.0-167-generic
	Compiler: gcc 11.4.0

To view detailed results, visit:
https://lab.dpdk.org/results/dashboard/patchsets/30061/

UNH-IOL DPDK Community Lab

To manage your email subscriptions, visit: 
https://lab.dpdk.org/results/dashboard/preferences/subscriptions/