From mboxrd@z Thu Jan  1 00:00:00 1970
Return-Path: <test-report-bounces@dpdk.org>
Received: from mails.dpdk.org (mails.dpdk.org [217.70.189.124])
	by inbox.dpdk.org (Postfix) with ESMTP id EBB7C44119
	for <public@inbox.dpdk.org>; Fri, 31 May 2024 04:04:19 +0200 (CEST)
Received: from mails.dpdk.org (localhost [127.0.0.1])
	by mails.dpdk.org (Postfix) with ESMTP id D863840693;
	Fri, 31 May 2024 04:04:19 +0200 (CEST)
Received: from mail-il1-f227.google.com (mail-il1-f227.google.com
 [209.85.166.227])
 by mails.dpdk.org (Postfix) with ESMTP id 6C27A4027C
 for <test-report@dpdk.org>; Fri, 31 May 2024 04:04:18 +0200 (CEST)
Received: by mail-il1-f227.google.com with SMTP id
 e9e14a558f8ab-374528b81ddso6030225ab.2
 for <test-report@dpdk.org>; Thu, 30 May 2024 19:04:18 -0700 (PDT)
DKIM-Signature: v=1; a=rsa-sha256; c=relaxed/relaxed;
 d=iol.unh.edu; s=unh-iol; t=1717121058; x=1717725858; darn=dpdk.org;
 h=references:in-reply-to:cc:to:from:subject:message-id:date:from:to
 :cc:subject:date:message-id:reply-to;
 bh=lygpNzaHyIRHDwIwY/otHH1U4dWpPy4e7z/JGKJ+RWc=;
 b=WayvrVveStmIKdTCZ8MVV1C0yhiLD1oKw6+VEkMy1k5dO8C3JyyWXtPANpmIc1Ebwm
 H9xYY4K9/X1GNnUHPAcQ4561aQmMcVUoTFFuoLMLY/+nzqhyM7BY2h3ckCpuwVyIxNbe
 5hajoFaMWRNTj4dIn3N3MyOGeAh0TiT194/ls=
X-Google-DKIM-Signature: v=1; a=rsa-sha256; c=relaxed/relaxed;
 d=1e100.net; s=20230601; t=1717121058; x=1717725858;
 h=references:in-reply-to:cc:to:from:subject:message-id:date
 :x-gm-message-state:from:to:cc:subject:date:message-id:reply-to;
 bh=lygpNzaHyIRHDwIwY/otHH1U4dWpPy4e7z/JGKJ+RWc=;
 b=lrbAdnunMV8iEn0cn7gxslYbyZC/L1fPt4BMN/OwTB1MADzCLOqwr5gfKAL/N7kOCe
 aP6NECUoQQTyCf7rgY8n6B5vVRm+9YxJuh8f2NoHzkU4/uQya6D0u4eianP8o/Lr2YnI
 FEqKFtFEGN1gmlR8nZSKzGazGx0/04KCGIAZQtieUlEanMStuxwgPn6Hy+AZVDKJ7TAw
 gN7o4Wm5cOuf5fsadtPjgVNCNns12vkj1ZFdhrposzh7tAgWnaTlJX4WDHpxsjDNNps/
 qOmua6jXuUefTWFcUPHIVjouA3HcyhL7MEvTDNow2g0bLDGeAD74QNJL4iK85p/4KmcI
 KYuw==
X-Gm-Message-State: AOJu0YxgQ6ps5WyYgLdisiTOtT8Cka7AoGwGfsUydkTHlwryG100HQEC
 JzwS1xcxme5nutkeNHvuwVwmJJTnhgd3JcLzmbvDGXAIO+sNjqkLsXl9p7tHQUrccdH8Qwwj/wf
 Vdfka1Pm0P5hTIw8ytwuImYyNU9vZNZJVtUYrs/R8nE6l1g1OBbXLmVDC
X-Google-Smtp-Source: AGHT+IFj+8NxFsZad4JRjh6pAXIYJW4Wlw8FQs3c5M7wge1rfap4zxlUkhNBfvF4D/NCxZr76AVkc8R5GOss
X-Received: by 2002:a05:6e02:b4f:b0:36c:a46:e018 with SMTP id
 e9e14a558f8ab-3748b9d435emr7061445ab.24.1717121057842; 
 Thu, 30 May 2024 19:04:17 -0700 (PDT)
Received: from postal.iol.unh.edu (postal.iol.unh.edu.
 [2606:4100:3880:1234::84]) by smtp-relay.gmail.com with ESMTPS id
 e9e14a558f8ab-3748a234a1csm592005ab.46.2024.05.30.19.04.17
 (version=TLS1_2 cipher=ECDHE-ECDSA-AES128-GCM-SHA256 bits=128/128);
 Thu, 30 May 2024 19:04:17 -0700 (PDT)
X-Relaying-Domain: iol.unh.edu
Date: Thu, 30 May 2024 19:04:17 -0700 (PDT)
Message-ID: <66593021.050a0220.ba0fe.3ebbSMTPIN_ADDED_MISSING@mx.google.com>
Received: from [172.17.0.5] (unknown [172.18.0.217])
 by postal.iol.unh.edu (Postfix) with ESMTP id 59477605C373;
 Thu, 30 May 2024 22:04:17 -0400 (EDT)
Subject: |SUCCESS| pw140510-140511 [PATCH] [v8,2/2] dts: Change hugepage 'amo
From: dpdklab@iol.unh.edu
To: Test Report <test-report@dpdk.org>
Cc: dpdk-test-reports@iol.unh.edu
In-Reply-To: <20240530193801.11867-3-npratte@iol.unh.edu>
References: <20240530193801.11867-3-npratte@iol.unh.edu>
Content-Type: text/plain
X-BeenThere: test-report@dpdk.org
X-Mailman-Version: 2.1.29
Precedence: list
List-Id: automatic DPDK test reports <test-report.dpdk.org>
List-Unsubscribe: <https://mails.dpdk.org/options/test-report>,
 <mailto:test-report-request@dpdk.org?subject=unsubscribe>
List-Archive: <http://mails.dpdk.org/archives/test-report/>
List-Post: <mailto:test-report@dpdk.org>
List-Help: <mailto:test-report-request@dpdk.org?subject=help>
List-Subscribe: <https://mails.dpdk.org/listinfo/test-report>,
 <mailto:test-report-request@dpdk.org?subject=subscribe>
Errors-To: test-report-bounces@dpdk.org

Test-Label: iol-unit-arm64-testing
Test-Status: SUCCESS
http://dpdk.org/patch/140511

_Testing PASS_

Submitter: Nicholas Pratte <npratte@iol.unh.edu>
Date: Thursday, May 30 2024 19:38:00 
DPDK git baseline: Repo:dpdk
  Branch: master
  CommitID:76cef1af8bdaeaf67a5c4ca5df3f221df994dc46

140510-140511 --> testing pass

Test environment and result as below:

+------------------+----------------+
|   Environment    | dpdk_unit_test |
+==================+================+
| CentOS Stream 8  | PASS           |
+------------------+----------------+
| CentOS Stream 9  | PASS           |
+------------------+----------------+
| Debian Bullseye  | PASS           |
+------------------+----------------+
| Fedora 37        | PASS           |
+------------------+----------------+
| Fedora 39        | PASS           |
+------------------+----------------+
| Fedora 38        | PASS           |
+------------------+----------------+
| Debian 12        | PASS           |
+------------------+----------------+
| openSUSE Leap 15 | PASS           |
+------------------+----------------+
| RHEL8            | PASS           |
+------------------+----------------+
| Ubuntu 24.04     | PASS           |
+------------------+----------------+
| Ubuntu 20.04     | PASS           |
+------------------+----------------+
| Ubuntu 22.04     | PASS           |
+------------------+----------------+


CentOS Stream 8
	Kernel: 5.4.0-167-generic
	Compiler: gcc 8.5.0 20210514

CentOS Stream 9
	Kernel: 5.4.0-167-generic
	Compiler: gcc 11.4.1 20230605

Debian Bullseye
	Kernel: 5.4.0-167-generic
	Compiler: gcc 10.2.1-6

Fedora 37
	Kernel: Depends on container host system
	Compiler: gcc 12.3.1

Fedora 39
	Kernel: Depends on container host
	Compiler: gcc 13.2.1

Fedora 38
	Kernel: Depends on container host
	Compiler: clang 16.0.6

Debian 12
	Kernel: Container Host Kernel
	Compiler: gcc 10.2.1

openSUSE Leap 15
	Kernel: 5.4.0-167-generic
	Compiler: gcc 7.5.0

RHEL8
	Kernel: 5.4.0-167-generic
	Compiler: gcc 8.5.0 20210514 (Red Hat 8.5.0-20)

Ubuntu 24.04
	Kernel: 5.4.0-167-generic
	Compiler: gcc 13.2.0

Ubuntu 20.04
	Kernel: 5.4.0-167-generic
	Compiler: gcc 9.4.0-1ubuntu1~20.04.1

Ubuntu 22.04
	Kernel: 5.4.0-167-generic
	Compiler: gcc 11.4.0

To view detailed results, visit:
https://lab.dpdk.org/results/dashboard/patchsets/30061/

UNH-IOL DPDK Community Lab

To manage your email subscriptions, visit: 
https://lab.dpdk.org/results/dashboard/preferences/subscriptions/