From mboxrd@z Thu Jan  1 00:00:00 1970
Return-Path: <test-report-bounces@dpdk.org>
Received: from mails.dpdk.org (mails.dpdk.org [217.70.189.124])
	by inbox.dpdk.org (Postfix) with ESMTP id 45E4944119
	for <public@inbox.dpdk.org>; Fri, 31 May 2024 04:34:15 +0200 (CEST)
Received: from mails.dpdk.org (localhost [127.0.0.1])
	by mails.dpdk.org (Postfix) with ESMTP id 3CBC840695;
	Fri, 31 May 2024 04:34:15 +0200 (CEST)
Received: from mail-qv1-f98.google.com (mail-qv1-f98.google.com
 [209.85.219.98]) by mails.dpdk.org (Postfix) with ESMTP id B3E574027C
 for <test-report@dpdk.org>; Fri, 31 May 2024 04:34:13 +0200 (CEST)
Received: by mail-qv1-f98.google.com with SMTP id
 6a1803df08f44-6ae0abdf095so8174876d6.2
 for <test-report@dpdk.org>; Thu, 30 May 2024 19:34:13 -0700 (PDT)
DKIM-Signature: v=1; a=rsa-sha256; c=relaxed/relaxed;
 d=iol.unh.edu; s=unh-iol; t=1717122853; x=1717727653; darn=dpdk.org;
 h=references:in-reply-to:cc:to:from:subject:message-id:date:from:to
 :cc:subject:date:message-id:reply-to;
 bh=sph8n0DRjp7BBBEqTiOXedLmJqW8bkaRdNx+785eHq8=;
 b=f8xFGyj1WiL6BfH7uHPvEtEvzQCMniqvde3y/RoelvxOKrvDFpjaFz/vbZpnA/9TrX
 A+AvVIE0SKk9KC7q8n/e9Z9vhbCf6lZCSFK00nOH3lbtl7VxxYQ/9IY90k9RKi13EvT3
 ChQhS9/VBxlwiBP25PZT691l1F/bB+Y8pibl8=
X-Google-DKIM-Signature: v=1; a=rsa-sha256; c=relaxed/relaxed;
 d=1e100.net; s=20230601; t=1717122853; x=1717727653;
 h=references:in-reply-to:cc:to:from:subject:message-id:date
 :x-gm-message-state:from:to:cc:subject:date:message-id:reply-to;
 bh=sph8n0DRjp7BBBEqTiOXedLmJqW8bkaRdNx+785eHq8=;
 b=CMze0JVhn7//qPAHhCKbpqW81SERhvgGCZbCp/yClkleg40YAP0XB+RQgzPKxT8h/r
 V42Tgn5bOFJ68zoVOoHsagc/wmHosIVQP5LbP9Br6SbE7zfaZrX61VZYVVrHZJScIEPo
 9/pA7PH95Pi5Y6SlSbClaxqvATKNcMPT0R2teS1gbuHoVlgR9psRKrmt57LmbUgQXdB1
 9ZfzZzZHs2LwJXTEOzKDrI5VPH7ZXebjMvNQOyblFJ+NMvMqEXMLnYnt+otSKvPxRcA5
 /Om2oojGrSwthVQ4jNVeEVIHrq5iQGL+0N6EsqM6bmC4QYo507I2U/AukecyxsccW1TE
 HAww==
X-Gm-Message-State: AOJu0Yz1Y37Phx7edyCCj5vh+rAkek8pDnlamOZ9qtG5E87B0haunqlw
 1D/zvSE2QDqM3vJrYNVlNL135r584EeeMkJR4zWTw+tOHZ5krcuDUY1xGV5B4WwKShqg+ziUaVS
 xbFMlURT3qVubtBNpWIuzikAwokQpfaKwYDtJVB2U
X-Google-Smtp-Source: AGHT+IEA1LRhVnQmtjcA5dB1z56XekjRXKBxn5uyi/r+vnSW+flyD6reDM3FHzB9Pz/bUBgbPYv1mysXGhTq
X-Received: by 2002:a05:6214:468f:b0:6aa:dc36:5cb1 with SMTP id
 6a1803df08f44-6aecd6b11c9mr7383586d6.25.1717122853175; 
 Thu, 30 May 2024 19:34:13 -0700 (PDT)
Received: from postal.iol.unh.edu (postal.iol.unh.edu. [132.177.123.84])
 by smtp-relay.gmail.com with ESMTPS id
 6a1803df08f44-6ae4a740294sm459036d6.19.2024.05.30.19.34.13
 (version=TLS1_2 cipher=ECDHE-ECDSA-AES128-GCM-SHA256 bits=128/128);
 Thu, 30 May 2024 19:34:13 -0700 (PDT)
X-Relaying-Domain: iol.unh.edu
Date: Thu, 30 May 2024 19:34:13 -0700 (PDT)
Message-ID: <66593725.050a0220.1815cf.2f92SMTPIN_ADDED_MISSING@mx.google.com>
Received: from [172.17.0.3] (unknown [172.18.0.217])
 by postal.iol.unh.edu (Postfix) with ESMTP id D5B37605C373;
 Thu, 30 May 2024 22:34:12 -0400 (EDT)
Subject: |SUCCESS| pw140508-140509 [PATCH] [v7,2/2] dts: Change hugepage 'amo
From: dpdklab@iol.unh.edu
To: Test Report <test-report@dpdk.org>
Cc: dpdk-test-reports@iol.unh.edu
In-Reply-To: <20240530175852.7382-3-npratte@iol.unh.edu>
References: <20240530175852.7382-3-npratte@iol.unh.edu>
Content-Type: text/plain
X-BeenThere: test-report@dpdk.org
X-Mailman-Version: 2.1.29
Precedence: list
List-Id: automatic DPDK test reports <test-report.dpdk.org>
List-Unsubscribe: <https://mails.dpdk.org/options/test-report>,
 <mailto:test-report-request@dpdk.org?subject=unsubscribe>
List-Archive: <http://mails.dpdk.org/archives/test-report/>
List-Post: <mailto:test-report@dpdk.org>
List-Help: <mailto:test-report-request@dpdk.org?subject=help>
List-Subscribe: <https://mails.dpdk.org/listinfo/test-report>,
 <mailto:test-report-request@dpdk.org?subject=subscribe>
Errors-To: test-report-bounces@dpdk.org

Test-Label: iol-unit-amd64-testing
Test-Status: SUCCESS
http://dpdk.org/patch/140509

_Testing PASS_

Submitter: Nicholas Pratte <npratte@iol.unh.edu>
Date: Thursday, May 30 2024 17:58:49 
DPDK git baseline: Repo:dpdk
  Branch: master
  CommitID:76cef1af8bdaeaf67a5c4ca5df3f221df994dc46

140508-140509 --> testing pass

Test environment and result as below:

+-----------------------------+------------------------------+---------------------------+--------------+----------------+
|         Environment         | cryptodev_sw_snow3g_autotest | cryptodev_sw_zuc_autotest | lpm_autotest | dpdk_unit_test |
+=============================+==============================+===========================+==============+================+
| Debian 12 (arm)             | PASS                         | PASS                      | SKIPPED      | PASS           |
+-----------------------------+------------------------------+---------------------------+--------------+----------------+
| Ubuntu 20.04 ARM SVE        | SKIPPED                      | SKIPPED                   | PASS         | SKIPPED        |
+-----------------------------+------------------------------+---------------------------+--------------+----------------+
| 32-bit Ubuntu 20.04.4 (ARM) | SKIPPED                      | SKIPPED                   | SKIPPED      | PASS           |
+-----------------------------+------------------------------+---------------------------+--------------+----------------+
| Fedora 38 (ARM)             | SKIPPED                      | SKIPPED                   | SKIPPED      | PASS           |
+-----------------------------+------------------------------+---------------------------+--------------+----------------+
| CentOS Stream 9 (ARM)       | SKIPPED                      | SKIPPED                   | SKIPPED      | PASS           |
+-----------------------------+------------------------------+---------------------------+--------------+----------------+
| Debian 11 (Buster) (ARM)    | SKIPPED                      | SKIPPED                   | SKIPPED      | PASS           |
+-----------------------------+------------------------------+---------------------------+--------------+----------------+
| Fedora 37 (ARM)             | SKIPPED                      | SKIPPED                   | SKIPPED      | PASS           |
+-----------------------------+------------------------------+---------------------------+--------------+----------------+
| Ubuntu 20.04 (ARM)          | SKIPPED                      | SKIPPED                   | SKIPPED      | PASS           |
+-----------------------------+------------------------------+---------------------------+--------------+----------------+
| Fedora 39 (ARM)             | SKIPPED                      | SKIPPED                   | SKIPPED      | PASS           |
+-----------------------------+------------------------------+---------------------------+--------------+----------------+
| Fedora 38 (ARM Clang)       | SKIPPED                      | SKIPPED                   | SKIPPED      | PASS           |
+-----------------------------+------------------------------+---------------------------+--------------+----------------+


Debian 12 (arm)
	Kernel: Container Host Kernel
	Compiler: gcc 12.2.0

Ubuntu 20.04 ARM SVE
	Kernel: 5.4.0-167-generic
	Compiler: gcc (Ubuntu 10.5.0-1ubuntu1~20.04) 10.5.0

32-bit Ubuntu 20.04.4 (ARM)
	Kernel: 5.4.0-155-generic aarch64
	Compiler: gcc 9.4

Fedora 38 (ARM)
	Kernel: Depends on container host
	Compiler: gcc 13.2.1

CentOS Stream 9 (ARM)
	Kernel: Container Host Kernel
	Compiler: gcc 11.4.1

Debian 11 (Buster) (ARM)
	Kernel: Container Host Kernel
	Compiler: gcc 10.2.1

Fedora 37 (ARM)
	Kernel: Depends on container host
	Compiler: gcc 12.3.1

Ubuntu 20.04 (ARM)
	Kernel: Container Host Kernel
	Compiler: gcc 9.4.0

Fedora 39 (ARM)
	Kernel: Depends on container host
	Compiler: gcc 13.2.1

Fedora 38 (ARM Clang)
	Kernel: Depends on container host
	Compiler: clang 16.0.6

To view detailed results, visit:
https://lab.dpdk.org/results/dashboard/patchsets/30060/

UNH-IOL DPDK Community Lab

To manage your email subscriptions, visit: 
https://lab.dpdk.org/results/dashboard/preferences/subscriptions/