From mboxrd@z Thu Jan  1 00:00:00 1970
Return-Path: <test-report-bounces@dpdk.org>
Received: from mails.dpdk.org (mails.dpdk.org [217.70.189.124])
	by inbox.dpdk.org (Postfix) with ESMTP id D1A7A44119
	for <public@inbox.dpdk.org>; Fri, 31 May 2024 04:36:49 +0200 (CEST)
Received: from mails.dpdk.org (localhost [127.0.0.1])
	by mails.dpdk.org (Postfix) with ESMTP id C87F94027D;
	Fri, 31 May 2024 04:36:49 +0200 (CEST)
Received: from mail-oa1-f100.google.com (mail-oa1-f100.google.com
 [209.85.160.100])
 by mails.dpdk.org (Postfix) with ESMTP id F25714027C
 for <test-report@dpdk.org>; Fri, 31 May 2024 04:36:47 +0200 (CEST)
Received: by mail-oa1-f100.google.com with SMTP id
 586e51a60fabf-24ca2f48031so792052fac.0
 for <test-report@dpdk.org>; Thu, 30 May 2024 19:36:47 -0700 (PDT)
DKIM-Signature: v=1; a=rsa-sha256; c=relaxed/relaxed;
 d=iol.unh.edu; s=unh-iol; t=1717123007; x=1717727807; darn=dpdk.org;
 h=references:in-reply-to:cc:to:from:subject:message-id:date:from:to
 :cc:subject:date:message-id:reply-to;
 bh=sph8n0DRjp7BBBEqTiOXedLmJqW8bkaRdNx+785eHq8=;
 b=JuZ9TzVuK9AZmjud5ghb2CW6I4iMrIKHpn439AWQLDZOQImJ3l3q+bT526hUy/awAU
 ntv57kaDx/5PAdTTLFMqmwjvpb8LfubdXrBjmH/mLqn5lPllovFfVg8vYPGIiXwzY8Ve
 ystSK18Xivb7hszLiSHCYskrRfFDWuuvN7YD8=
X-Google-DKIM-Signature: v=1; a=rsa-sha256; c=relaxed/relaxed;
 d=1e100.net; s=20230601; t=1717123007; x=1717727807;
 h=references:in-reply-to:cc:to:from:subject:message-id:date
 :x-gm-message-state:from:to:cc:subject:date:message-id:reply-to;
 bh=sph8n0DRjp7BBBEqTiOXedLmJqW8bkaRdNx+785eHq8=;
 b=sxynd1AnlZ4HcYxCh63NXkL9tWErE4O/pGLdRc9145M5/F6jB7oPe3IAFKsOxfcN9T
 2WmV8gRMgFrvKtpGNLwSytfa2SI010HDUwU7iUFC/yBjikV6IcW8pbENnxipMfJfubdN
 xbH1T4ePeXZRo40x1C6sP6Rz/wHIB40G+PvZ4TG6AEsipDhrESAvbOgCvIuEnDnk986K
 KGab5r2HWN3XvyyW3njcVQUF6HVv0LWqvTrEDuaxf2cKZQc/F2Gi4rxaNo32EacWJ7wn
 zk3RRQMSpJsNTuz81W8/MDw9oKiGvvNOQHNnRjq34cGMiYN+aA7yVzXxEC9cWaIkaSom
 pZBA==
X-Gm-Message-State: AOJu0YwZ4pZubEuZiLw31yXzojA8jozIYkGTLQIElZm2mjYoNwo6syWA
 gRkP3Bz04xilkStHza9HaeElwzKs7vJRkoi5ZLS6ZNFFja+Gd7X419vEEimGgQLBmqIJsEKRCn7
 lH2e0cmlN3O/iGcsOt/VjB1UzyuC9nMZcBETSRzhTuiLtXtZj6qh0uAYn
X-Google-Smtp-Source: AGHT+IFgVwYysBTTybFAOqnyMegZXXiv18oPi5YfAsnseywThL79NdgVdk8wa1tDlPqgvcU55sZ+2clNYgnT
X-Received: by 2002:a05:6870:1690:b0:250:79f9:b918 with SMTP id
 586e51a60fabf-2508bbe680bmr782989fac.42.1717123007364; 
 Thu, 30 May 2024 19:36:47 -0700 (PDT)
Received: from postal.iol.unh.edu (postal.iol.unh.edu.
 [2606:4100:3880:1234::84]) by smtp-relay.gmail.com with ESMTPS id
 586e51a60fabf-250854129cbsm27229fac.48.2024.05.30.19.36.47
 (version=TLS1_2 cipher=ECDHE-ECDSA-AES128-GCM-SHA256 bits=128/128);
 Thu, 30 May 2024 19:36:47 -0700 (PDT)
X-Relaying-Domain: iol.unh.edu
Date: Thu, 30 May 2024 19:36:47 -0700 (PDT)
Message-ID: <665937bf.050a0220.1f1519.1b5eSMTPIN_ADDED_MISSING@mx.google.com>
Received: from [172.21.0.7] (unknown [172.18.0.240])
 by postal.iol.unh.edu (Postfix) with ESMTP id C2B61605C373;
 Thu, 30 May 2024 22:36:46 -0400 (EDT)
Subject: |SUCCESS| pw140508-140509 [PATCH] [v7,2/2] dts: Change hugepage 'amo
From: dpdklab@iol.unh.edu
To: Test Report <test-report@dpdk.org>
Cc: dpdk-test-reports@iol.unh.edu
In-Reply-To: <20240530175852.7382-3-npratte@iol.unh.edu>
References: <20240530175852.7382-3-npratte@iol.unh.edu>
Content-Type: text/plain
X-BeenThere: test-report@dpdk.org
X-Mailman-Version: 2.1.29
Precedence: list
List-Id: automatic DPDK test reports <test-report.dpdk.org>
List-Unsubscribe: <https://mails.dpdk.org/options/test-report>,
 <mailto:test-report-request@dpdk.org?subject=unsubscribe>
List-Archive: <http://mails.dpdk.org/archives/test-report/>
List-Post: <mailto:test-report@dpdk.org>
List-Help: <mailto:test-report-request@dpdk.org?subject=help>
List-Subscribe: <https://mails.dpdk.org/listinfo/test-report>,
 <mailto:test-report-request@dpdk.org?subject=subscribe>
Errors-To: test-report-bounces@dpdk.org

Test-Label: iol-unit-amd64-testing
Test-Status: SUCCESS
http://dpdk.org/patch/140509

_Testing PASS_

Submitter: Nicholas Pratte <npratte@iol.unh.edu>
Date: Thursday, May 30 2024 17:58:49 
DPDK git baseline: Repo:dpdk
  Branch: master
  CommitID:76cef1af8bdaeaf67a5c4ca5df3f221df994dc46

140508-140509 --> testing pass

Test environment and result as below:

+-----------------------------+------------------------------+---------------------------+--------------+----------------+
|         Environment         | cryptodev_sw_snow3g_autotest | cryptodev_sw_zuc_autotest | lpm_autotest | dpdk_unit_test |
+=============================+==============================+===========================+==============+================+
| Debian 12 (arm)             | PASS                         | PASS                      | SKIPPED      | PASS           |
+-----------------------------+------------------------------+---------------------------+--------------+----------------+
| Ubuntu 20.04 ARM SVE        | SKIPPED                      | SKIPPED                   | PASS         | SKIPPED        |
+-----------------------------+------------------------------+---------------------------+--------------+----------------+
| 32-bit Ubuntu 20.04.4 (ARM) | SKIPPED                      | SKIPPED                   | SKIPPED      | PASS           |
+-----------------------------+------------------------------+---------------------------+--------------+----------------+
| Fedora 38 (ARM)             | SKIPPED                      | SKIPPED                   | SKIPPED      | PASS           |
+-----------------------------+------------------------------+---------------------------+--------------+----------------+
| CentOS Stream 9 (ARM)       | SKIPPED                      | SKIPPED                   | SKIPPED      | PASS           |
+-----------------------------+------------------------------+---------------------------+--------------+----------------+
| Debian 11 (Buster) (ARM)    | SKIPPED                      | SKIPPED                   | SKIPPED      | PASS           |
+-----------------------------+------------------------------+---------------------------+--------------+----------------+
| Fedora 37 (ARM)             | SKIPPED                      | SKIPPED                   | SKIPPED      | PASS           |
+-----------------------------+------------------------------+---------------------------+--------------+----------------+
| Ubuntu 20.04 (ARM)          | SKIPPED                      | SKIPPED                   | SKIPPED      | PASS           |
+-----------------------------+------------------------------+---------------------------+--------------+----------------+
| Fedora 39 (ARM)             | SKIPPED                      | SKIPPED                   | SKIPPED      | PASS           |
+-----------------------------+------------------------------+---------------------------+--------------+----------------+
| Fedora 38 (ARM Clang)       | SKIPPED                      | SKIPPED                   | SKIPPED      | PASS           |
+-----------------------------+------------------------------+---------------------------+--------------+----------------+


Debian 12 (arm)
	Kernel: Container Host Kernel
	Compiler: gcc 12.2.0

Ubuntu 20.04 ARM SVE
	Kernel: 5.4.0-167-generic
	Compiler: gcc (Ubuntu 10.5.0-1ubuntu1~20.04) 10.5.0

32-bit Ubuntu 20.04.4 (ARM)
	Kernel: 5.4.0-155-generic aarch64
	Compiler: gcc 9.4

Fedora 38 (ARM)
	Kernel: Depends on container host
	Compiler: gcc 13.2.1

CentOS Stream 9 (ARM)
	Kernel: Container Host Kernel
	Compiler: gcc 11.4.1

Debian 11 (Buster) (ARM)
	Kernel: Container Host Kernel
	Compiler: gcc 10.2.1

Fedora 37 (ARM)
	Kernel: Depends on container host
	Compiler: gcc 12.3.1

Ubuntu 20.04 (ARM)
	Kernel: Container Host Kernel
	Compiler: gcc 9.4.0

Fedora 39 (ARM)
	Kernel: Depends on container host
	Compiler: gcc 13.2.1

Fedora 38 (ARM Clang)
	Kernel: Depends on container host
	Compiler: clang 16.0.6

To view detailed results, visit:
https://lab.dpdk.org/results/dashboard/patchsets/30060/

UNH-IOL DPDK Community Lab

To manage your email subscriptions, visit: 
https://lab.dpdk.org/results/dashboard/preferences/subscriptions/