From mboxrd@z Thu Jan  1 00:00:00 1970
Return-Path: <test-report-bounces@dpdk.org>
Received: from mails.dpdk.org (mails.dpdk.org [217.70.189.124])
	by inbox.dpdk.org (Postfix) with ESMTP id 89B1344119
	for <public@inbox.dpdk.org>; Fri, 31 May 2024 04:51:20 +0200 (CEST)
Received: from mails.dpdk.org (localhost [127.0.0.1])
	by mails.dpdk.org (Postfix) with ESMTP id 86D5B4027D;
	Fri, 31 May 2024 04:51:20 +0200 (CEST)
Received: from mail-qt1-f226.google.com (mail-qt1-f226.google.com
 [209.85.160.226])
 by mails.dpdk.org (Postfix) with ESMTP id 52B7B4027C
 for <test-report@dpdk.org>; Fri, 31 May 2024 04:51:19 +0200 (CEST)
Received: by mail-qt1-f226.google.com with SMTP id
 d75a77b69052e-43f87ba7d3eso8555101cf.0
 for <test-report@dpdk.org>; Thu, 30 May 2024 19:51:19 -0700 (PDT)
DKIM-Signature: v=1; a=rsa-sha256; c=relaxed/relaxed;
 d=iol.unh.edu; s=unh-iol; t=1717123878; x=1717728678; darn=dpdk.org;
 h=references:in-reply-to:cc:to:from:subject:message-id:date:from:to
 :cc:subject:date:message-id:reply-to;
 bh=sph8n0DRjp7BBBEqTiOXedLmJqW8bkaRdNx+785eHq8=;
 b=AkRdgQxrK3vWnL4Iqs5L+oPn64xiqpRdDpGfptKgFY4XFRtjRB0EQvIZMdGJZJA/zE
 HqNWIQIQ0VddxdMa6hp5K3ZI4LlpZMod4F4M4/OY+wTbR5ZxH98JCZd8zLW2iYXB6SRA
 Ilt6zocE6qB+RlAbspuSQOHo8pXIyjkK51wMI=
X-Google-DKIM-Signature: v=1; a=rsa-sha256; c=relaxed/relaxed;
 d=1e100.net; s=20230601; t=1717123878; x=1717728678;
 h=references:in-reply-to:cc:to:from:subject:message-id:date
 :x-gm-message-state:from:to:cc:subject:date:message-id:reply-to;
 bh=sph8n0DRjp7BBBEqTiOXedLmJqW8bkaRdNx+785eHq8=;
 b=wZD+qZAkeRzIzhVjYD6VcSRzhzTWtZ9Mkqav6gsbxMzqD5UrWkdUrAZA9l+q1BkOWy
 ohRP7Fbd4Mp1a0U7HiLBZwuxqfrUMXkFHIYf2+PKPaQanID0rz853+7ll/BYE3qkoB1E
 bI5DB2nbLF8bV/UDD9A4wGeU+WcVaKpfOE8dqPEJPez3ZQCZB4SlQu7ZqEOBKm0lZ0JF
 IZHh2TG0k3MXpxDwyvZ5lkXGR09kLmIUP+NOphQn5hYHCWbyJAG0Bs8CTwHhtxJaWmiT
 uh9UR+xCbXhGmjOZ/p5Llb0W/Me6lit1Q9A2iuqT3sk9nsA/aSSN1+HVXQcZC9bypsQU
 ePRA==
X-Gm-Message-State: AOJu0Yzt3TzI0KZGQ7ObPc39GIUF/UAcr6VEm1NCPUea6AgCjTg7WRY1
 xQdo7ZnmylfWaUaG05nAH1xlDr1tM9CT4v0eswVz9fDjojib4QOUIcDrW3HuyjTO+uUOfIpfxL1
 JIZuQsitN0OrOpOMJwPq9rjmF8zrTgQw8jZGgZfwS
X-Google-Smtp-Source: AGHT+IH8pX+W/Hjo5STSU+VNBWjXG9NpBLTMkZNXO6eJsiyT1hyyZf+YxXm0FkDySt74Mu1j4qxDuQgwbl+M
X-Received: by 2002:a05:622a:20b:b0:43e:f5b:7a78 with SMTP id
 d75a77b69052e-43ff54f73c3mr6357441cf.43.1717123878795; 
 Thu, 30 May 2024 19:51:18 -0700 (PDT)
Received: from postal.iol.unh.edu (postal.iol.unh.edu. [132.177.123.84])
 by smtp-relay.gmail.com with ESMTPS id
 d75a77b69052e-43ff23cd22esm385531cf.11.2024.05.30.19.51.18
 (version=TLS1_2 cipher=ECDHE-ECDSA-AES128-GCM-SHA256 bits=128/128);
 Thu, 30 May 2024 19:51:18 -0700 (PDT)
X-Relaying-Domain: iol.unh.edu
Date: Thu, 30 May 2024 19:51:18 -0700 (PDT)
Message-ID: <66593b26.050a0220.bc64a.2a37SMTPIN_ADDED_MISSING@mx.google.com>
Received: from [172.17.0.2] (unknown [172.18.0.217])
 by postal.iol.unh.edu (Postfix) with ESMTP id 77158605C373;
 Thu, 30 May 2024 22:51:18 -0400 (EDT)
Subject: |SUCCESS| pw140508-140509 [PATCH] [v7,2/2] dts: Change hugepage 'amo
From: dpdklab@iol.unh.edu
To: Test Report <test-report@dpdk.org>
Cc: dpdk-test-reports@iol.unh.edu
In-Reply-To: <20240530175852.7382-3-npratte@iol.unh.edu>
References: <20240530175852.7382-3-npratte@iol.unh.edu>
Content-Type: text/plain
X-BeenThere: test-report@dpdk.org
X-Mailman-Version: 2.1.29
Precedence: list
List-Id: automatic DPDK test reports <test-report.dpdk.org>
List-Unsubscribe: <https://mails.dpdk.org/options/test-report>,
 <mailto:test-report-request@dpdk.org?subject=unsubscribe>
List-Archive: <http://mails.dpdk.org/archives/test-report/>
List-Post: <mailto:test-report@dpdk.org>
List-Help: <mailto:test-report-request@dpdk.org?subject=help>
List-Subscribe: <https://mails.dpdk.org/listinfo/test-report>,
 <mailto:test-report-request@dpdk.org?subject=subscribe>
Errors-To: test-report-bounces@dpdk.org

Test-Label: iol-unit-amd64-testing
Test-Status: SUCCESS
http://dpdk.org/patch/140509

_Testing PASS_

Submitter: Nicholas Pratte <npratte@iol.unh.edu>
Date: Thursday, May 30 2024 17:58:49 
DPDK git baseline: Repo:dpdk
  Branch: master
  CommitID:76cef1af8bdaeaf67a5c4ca5df3f221df994dc46

140508-140509 --> testing pass

Test environment and result as below:

+-----------------------------+------------------------------+---------------------------+--------------+----------------+
|         Environment         | cryptodev_sw_snow3g_autotest | cryptodev_sw_zuc_autotest | lpm_autotest | dpdk_unit_test |
+=============================+==============================+===========================+==============+================+
| Debian 12 (arm)             | PASS                         | PASS                      | SKIPPED      | PASS           |
+-----------------------------+------------------------------+---------------------------+--------------+----------------+
| Ubuntu 20.04 ARM SVE        | SKIPPED                      | SKIPPED                   | PASS         | SKIPPED        |
+-----------------------------+------------------------------+---------------------------+--------------+----------------+
| 32-bit Ubuntu 20.04.4 (ARM) | SKIPPED                      | SKIPPED                   | SKIPPED      | PASS           |
+-----------------------------+------------------------------+---------------------------+--------------+----------------+
| Fedora 38 (ARM)             | SKIPPED                      | SKIPPED                   | SKIPPED      | PASS           |
+-----------------------------+------------------------------+---------------------------+--------------+----------------+
| CentOS Stream 9 (ARM)       | SKIPPED                      | SKIPPED                   | SKIPPED      | PASS           |
+-----------------------------+------------------------------+---------------------------+--------------+----------------+
| Debian 11 (Buster) (ARM)    | SKIPPED                      | SKIPPED                   | SKIPPED      | PASS           |
+-----------------------------+------------------------------+---------------------------+--------------+----------------+
| Fedora 37 (ARM)             | SKIPPED                      | SKIPPED                   | SKIPPED      | PASS           |
+-----------------------------+------------------------------+---------------------------+--------------+----------------+
| Ubuntu 20.04 (ARM)          | SKIPPED                      | SKIPPED                   | SKIPPED      | PASS           |
+-----------------------------+------------------------------+---------------------------+--------------+----------------+
| Fedora 39 (ARM)             | SKIPPED                      | SKIPPED                   | SKIPPED      | PASS           |
+-----------------------------+------------------------------+---------------------------+--------------+----------------+
| Fedora 38 (ARM Clang)       | SKIPPED                      | SKIPPED                   | SKIPPED      | PASS           |
+-----------------------------+------------------------------+---------------------------+--------------+----------------+


Debian 12 (arm)
	Kernel: Container Host Kernel
	Compiler: gcc 12.2.0

Ubuntu 20.04 ARM SVE
	Kernel: 5.4.0-167-generic
	Compiler: gcc (Ubuntu 10.5.0-1ubuntu1~20.04) 10.5.0

32-bit Ubuntu 20.04.4 (ARM)
	Kernel: 5.4.0-155-generic aarch64
	Compiler: gcc 9.4

Fedora 38 (ARM)
	Kernel: Depends on container host
	Compiler: gcc 13.2.1

CentOS Stream 9 (ARM)
	Kernel: Container Host Kernel
	Compiler: gcc 11.4.1

Debian 11 (Buster) (ARM)
	Kernel: Container Host Kernel
	Compiler: gcc 10.2.1

Fedora 37 (ARM)
	Kernel: Depends on container host
	Compiler: gcc 12.3.1

Ubuntu 20.04 (ARM)
	Kernel: Container Host Kernel
	Compiler: gcc 9.4.0

Fedora 39 (ARM)
	Kernel: Depends on container host
	Compiler: gcc 13.2.1

Fedora 38 (ARM Clang)
	Kernel: Depends on container host
	Compiler: clang 16.0.6

To view detailed results, visit:
https://lab.dpdk.org/results/dashboard/patchsets/30060/

UNH-IOL DPDK Community Lab

To manage your email subscriptions, visit: 
https://lab.dpdk.org/results/dashboard/preferences/subscriptions/