From mboxrd@z Thu Jan  1 00:00:00 1970
Return-Path: <test-report-bounces@dpdk.org>
Received: from mails.dpdk.org (mails.dpdk.org [217.70.189.124])
	by inbox.dpdk.org (Postfix) with ESMTP id 1E59644119
	for <public@inbox.dpdk.org>; Fri, 31 May 2024 05:17:03 +0200 (CEST)
Received: from mails.dpdk.org (localhost [127.0.0.1])
	by mails.dpdk.org (Postfix) with ESMTP id 1A3104027D;
	Fri, 31 May 2024 05:17:03 +0200 (CEST)
Received: from mail-qv1-f99.google.com (mail-qv1-f99.google.com
 [209.85.219.99]) by mails.dpdk.org (Postfix) with ESMTP id 11E324027C
 for <test-report@dpdk.org>; Fri, 31 May 2024 05:17:02 +0200 (CEST)
Received: by mail-qv1-f99.google.com with SMTP id
 6a1803df08f44-6ad881cce98so7621656d6.1
 for <test-report@dpdk.org>; Thu, 30 May 2024 20:17:02 -0700 (PDT)
DKIM-Signature: v=1; a=rsa-sha256; c=relaxed/relaxed;
 d=iol.unh.edu; s=unh-iol; t=1717125421; x=1717730221; darn=dpdk.org;
 h=references:in-reply-to:cc:to:from:subject:message-id:date:from:to
 :cc:subject:date:message-id:reply-to;
 bh=k+q3YV/b3VN6DEe+At6MPDl+RbXqQVS/gYOc0RT9Axw=;
 b=jrHfhbhq0ANe7SoPBbEJJRGWrz7HeGY/xpyT0dc1LyLtcxxjkuJmo/H9KlnWVCKF+e
 00hU/9oRFQ/DQyczDwNl0IJdtbYp1D4Ep6nggcUhPEvd0CPkwOxMNteP5VTPl3FKWrKS
 y7a6wk2xjmI8tf42KxFbKeWhp81mPiNFE1BjE=
X-Google-DKIM-Signature: v=1; a=rsa-sha256; c=relaxed/relaxed;
 d=1e100.net; s=20230601; t=1717125421; x=1717730221;
 h=references:in-reply-to:cc:to:from:subject:message-id:date
 :x-gm-message-state:from:to:cc:subject:date:message-id:reply-to;
 bh=k+q3YV/b3VN6DEe+At6MPDl+RbXqQVS/gYOc0RT9Axw=;
 b=vsBXTp0+WTKSuuXU7Z2YJVxOrGYopU3REZf9VtJhWdg2npwbbJ3wzL6LseHNwxWv+w
 Jl+rd2tekdhIeUGkSc6a2EXh9gjQ5Fh9+zNgofX7Sj7b8190mT6LayCMi3gEP5yFcQqB
 LtojT18mx2frGBo0RuZGDqsvNjhfbzMwjHtaSbrKgHnQLv3EWQJBlweP7YD4P5b9hdIx
 EsqoQ9oy2M9H2oKzBKXr+ib9+gk/pb+cMc2edgTh33Hks9kwKYYO3O16TrNBS/VOT2UA
 fxEdoHb5+1h3vFMIeZUsIOYmtHYzVygJXOpLQcaLuPaXUUq1DIG5m5gvlJbEgpiqOp0B
 79nQ==
X-Gm-Message-State: AOJu0Yxf6SLQKMT+DKDN4L07uoQkHpJesTnx+LKv7G6V56zlFACD4Zbx
 wyOpPws9DBRrXdOThOoq4XQimzmJM8tOcG0ULj12nnv/QxbmYTSn6Lqleut0v8faiV2vSX+8pLz
 /WkJcCxN2xuLWENMXN21WxG1B0WEecvPlpT3mp6EZ
X-Google-Smtp-Source: AGHT+IFKWUOPAKUUlzS325WDP8rE3R9JfTek1iW8Mvms1YUolbo0qg2TvmmE/DKIiNCbrYO9rL0dzTULJlCX
X-Received: by 2002:a05:6214:570f:b0:6ad:8316:4cb7 with SMTP id
 6a1803df08f44-6aecd6f7b78mr6447606d6.41.1717125421495; 
 Thu, 30 May 2024 20:17:01 -0700 (PDT)
Received: from postal.iol.unh.edu (postal.iol.unh.edu. [132.177.123.84])
 by smtp-relay.gmail.com with ESMTPS id
 6a1803df08f44-6ae4a731df9sm497506d6.5.2024.05.30.20.17.01
 (version=TLS1_2 cipher=ECDHE-ECDSA-AES128-GCM-SHA256 bits=128/128);
 Thu, 30 May 2024 20:17:01 -0700 (PDT)
X-Relaying-Domain: iol.unh.edu
Date: Thu, 30 May 2024 20:17:01 -0700 (PDT)
Message-ID: <6659412d.d40a0220.8fa19.3663SMTPIN_ADDED_MISSING@mx.google.com>
Received: from [172.17.0.3] (unknown [172.18.0.217])
 by postal.iol.unh.edu (Postfix) with ESMTP id 29394605C373;
 Thu, 30 May 2024 23:17:01 -0400 (EDT)
Subject: |SUCCESS| pw140507 [PATCH] net/virtio: fix MAC table update
From: dpdklab@iol.unh.edu
To: Test Report <test-report@dpdk.org>
Cc: dpdk-test-reports@iol.unh.edu
In-Reply-To: <1717090840-12170-1-git-send-email-skoteshwar@marvell.com>
References: <1717090840-12170-1-git-send-email-skoteshwar@marvell.com>
Content-Type: text/plain
X-BeenThere: test-report@dpdk.org
X-Mailman-Version: 2.1.29
Precedence: list
List-Id: automatic DPDK test reports <test-report.dpdk.org>
List-Unsubscribe: <https://mails.dpdk.org/options/test-report>,
 <mailto:test-report-request@dpdk.org?subject=unsubscribe>
List-Archive: <http://mails.dpdk.org/archives/test-report/>
List-Post: <mailto:test-report@dpdk.org>
List-Help: <mailto:test-report-request@dpdk.org?subject=help>
List-Subscribe: <https://mails.dpdk.org/listinfo/test-report>,
 <mailto:test-report-request@dpdk.org?subject=subscribe>
Errors-To: test-report-bounces@dpdk.org

Test-Label: iol-compile-amd64-testing
Test-Status: SUCCESS
http://dpdk.org/patch/140507

_Testing PASS_

Submitter: Satha Koteswara Rao Kottidi <skoteshwar@marvell.com>
Date: Thursday, May 30 2024 17:40:39 
DPDK git baseline: Repo:dpdk
  Branch: master
  CommitID:6f80df8cb0f889203d7cd27766abcc6ebc720e33

140507 --> testing pass

Test environment and result as below:

+----------------------------------------+--------------------+
|              Environment               | dpdk_meson_compile |
+========================================+====================+
| Ubuntu 20.04 ARM SVE                   | PASS               |
+----------------------------------------+--------------------+
| Ubuntu 20.04 ARM GCC Cross Compile     | PASS               |
+----------------------------------------+--------------------+
| Debian 12 with MUSDK                   | PASS               |
+----------------------------------------+--------------------+
| Ubuntu 20.04 ARM Clang Cross Compile   | PASS               |
+----------------------------------------+--------------------+
| Fedora 37 (ARM)                        | PASS               |
+----------------------------------------+--------------------+
| Fedora 39 (ARM)                        | PASS               |
+----------------------------------------+--------------------+
| Debian 11 (Buster) (ARM)               | PASS               |
+----------------------------------------+--------------------+
| Debian 12 (arm)                        | PASS               |
+----------------------------------------+--------------------+
| Ubuntu 20.04 (ARM)                     | PASS               |
+----------------------------------------+--------------------+
| Fedora 38 (ARM)                        | PASS               |
+----------------------------------------+--------------------+
| Ubuntu 20.04 aarch32 GCC Cross Compile | PASS               |
+----------------------------------------+--------------------+
| CentOS Stream 9 (ARM)                  | PASS               |
+----------------------------------------+--------------------+


Ubuntu 20.04 ARM SVE
	Kernel: 5.4.0-167-generic
	Compiler: gcc (Ubuntu 10.5.0-1ubuntu1~20.04) 10.5.0

Ubuntu 20.04 ARM GCC Cross Compile
	Kernel: 5.4.0-167-generic
	Compiler: aarch64-linux-gnu-gcc (Ubuntu 9.4.0-1ubuntu1~20.04.2) 9.4.0

Debian 12 with MUSDK
	Kernel: Container Host Kernel
	Compiler: gcc 12.2.0

Ubuntu 20.04 ARM Clang Cross Compile
	Kernel: 5.4.0-72-generic
	Compiler: clang 10.0.0-4ubuntu1

Fedora 37 (ARM)
	Kernel: Depends on container host
	Compiler: gcc 12.3.1

Fedora 39 (ARM)
	Kernel: Depends on container host
	Compiler: gcc 13.2.1

Debian 11 (Buster) (ARM)
	Kernel: Container Host Kernel
	Compiler: gcc 10.2.1

Debian 12 (arm)
	Kernel: Container Host Kernel
	Compiler: gcc 12.2.0

Ubuntu 20.04 (ARM)
	Kernel: Container Host Kernel
	Compiler: gcc 9.4.0

Fedora 38 (ARM)
	Kernel: Depends on container host
	Compiler: gcc 13.2.1

Ubuntu 20.04 aarch32 GCC Cross Compile
	Kernel: 5.4.0-167-generic
	Compiler: gcc 9.4.0

CentOS Stream 9 (ARM)
	Kernel: Container Host Kernel
	Compiler: gcc 11.4.1

To view detailed results, visit:
https://lab.dpdk.org/results/dashboard/patchsets/30059/

UNH-IOL DPDK Community Lab

To manage your email subscriptions, visit: 
https://lab.dpdk.org/results/dashboard/preferences/subscriptions/