From mboxrd@z Thu Jan  1 00:00:00 1970
Return-Path: <test-report-bounces@dpdk.org>
Received: from mails.dpdk.org (mails.dpdk.org [217.70.189.124])
	by inbox.dpdk.org (Postfix) with ESMTP id 0EBA14411C
	for <public@inbox.dpdk.org>; Fri, 31 May 2024 08:30:55 +0200 (CEST)
Received: from mails.dpdk.org (localhost [127.0.0.1])
	by mails.dpdk.org (Postfix) with ESMTP id 0B23E40A87;
	Fri, 31 May 2024 08:30:55 +0200 (CEST)
Received: from mail-yw1-f227.google.com (mail-yw1-f227.google.com
 [209.85.128.227])
 by mails.dpdk.org (Postfix) with ESMTP id 1F48A4027C
 for <test-report@dpdk.org>; Fri, 31 May 2024 08:29:55 +0200 (CEST)
Received: by mail-yw1-f227.google.com with SMTP id
 00721157ae682-627efad69b4so6488637b3.3
 for <test-report@dpdk.org>; Thu, 30 May 2024 23:29:55 -0700 (PDT)
DKIM-Signature: v=1; a=rsa-sha256; c=relaxed/relaxed;
 d=iol.unh.edu; s=unh-iol; t=1717136994; x=1717741794; darn=dpdk.org;
 h=references:in-reply-to:cc:to:from:subject:message-id:date:from:to
 :cc:subject:date:message-id:reply-to;
 bh=HwpH/OBdfD1UQXD4Io374oUHqZ1Fl6QtOZFQfiSTE2c=;
 b=fcAcQ00+53inc9vflyzHa5hGnC742Fe+O3f354mdcyIK0/0IpglnDkD9Pp8Mu90Awf
 L9IlimRiXk7hDLprc8+Lczda3Lp5/STscaCNfBOki70jpnV7NFaAFqnRJB55D4uEdkaf
 PJMqBXFH6tyQC55WXNBcvbBNaIyVIEQyAMBgQ=
X-Google-DKIM-Signature: v=1; a=rsa-sha256; c=relaxed/relaxed;
 d=1e100.net; s=20230601; t=1717136994; x=1717741794;
 h=references:in-reply-to:cc:to:from:subject:message-id:date
 :x-gm-message-state:from:to:cc:subject:date:message-id:reply-to;
 bh=HwpH/OBdfD1UQXD4Io374oUHqZ1Fl6QtOZFQfiSTE2c=;
 b=jwEmkGCEyF74t2T5usqYdFrFif0QlHhYfeUGQE6hQknjv4oqEwF5u6T2RY/5XHCdwK
 gLoHqmlLpioiI6sNuePdJmb05XDpgdcIyFu0Wdstjzt6gl5MoqqUZun4Gb24s70LrRc/
 xbMr7hsC9UciKvFMc8j/LWT2CCAfosvntZh95xRxUozap168hn7203kweMAii9dN50pM
 bVJIrMGS8wIZ5ikmUzxhvJMnuPHZSqj0HgqYfAY8TB8vz3QgtSTgzBrFExbd+hbv/ify
 HdhBnRY8FnmIXwHR0PY6zz3tzj73sSw+9kXo+w/nHrwav65nefen8i4FN4nebR7BGwSJ
 nJ6g==
X-Gm-Message-State: AOJu0Ywo/0TktneoTOvOlPzyaTmTtYxMwZrsqluWdkYcQQU6kL0LSb+b
 8uwaWnxrHczPep3pKe0+3M2qei3J7l+Z+3K2nWBt7Zumk8qc/iJyBorDydunURh7QOumwOxGQk3
 YjfC+HppRw9F/d6ra+6igslU0om+Uy8xWzV93GgeSQ+kgUxK0RxQklPQh
X-Google-Smtp-Source: AGHT+IF3Ud6piRasodHR6IhZxK4Z/K/YoNWjJnDK6wobyMorOwDQypoe2FzXIY+axvsH3Zg00FdXGRWP+fRm
X-Received: by 2002:a81:4415:0:b0:62a:530:472f with SMTP id
 00721157ae682-62c797d4854mr8472907b3.32.1717136994562; 
 Thu, 30 May 2024 23:29:54 -0700 (PDT)
Received: from postal.iol.unh.edu (postal.iol.unh.edu.
 [2606:4100:3880:1234::84]) by smtp-relay.gmail.com with ESMTPS id
 00721157ae682-62c766c7059sm448477b3.62.2024.05.30.23.29.54
 (version=TLS1_2 cipher=ECDHE-ECDSA-AES128-GCM-SHA256 bits=128/128);
 Thu, 30 May 2024 23:29:54 -0700 (PDT)
X-Relaying-Domain: iol.unh.edu
Date: Thu, 30 May 2024 23:29:54 -0700 (PDT)
Message-ID: <66596e62.050a0220.ca8f1.322dSMTPIN_ADDED_MISSING@mx.google.com>
Received: from [172.21.0.7] (unknown [172.18.0.240])
 by postal.iol.unh.edu (Postfix) with ESMTP id 30AAE605C373;
 Fri, 31 May 2024 02:29:54 -0400 (EDT)
Subject: |SUCCESS| pw140512-140514 [PATCH] [3/3] net/mlx5: add external Tx qu
From: dpdklab@iol.unh.edu
To: Test Report <test-report@dpdk.org>
Cc: dpdk-test-reports@iol.unh.edu
In-Reply-To: <20240531035034.1731943-3-suanmingm@nvidia.com>
References: <20240531035034.1731943-3-suanmingm@nvidia.com>
Content-Type: text/plain
X-BeenThere: test-report@dpdk.org
X-Mailman-Version: 2.1.29
Precedence: list
List-Id: automatic DPDK test reports <test-report.dpdk.org>
List-Unsubscribe: <https://mails.dpdk.org/options/test-report>,
 <mailto:test-report-request@dpdk.org?subject=unsubscribe>
List-Archive: <http://mails.dpdk.org/archives/test-report/>
List-Post: <mailto:test-report@dpdk.org>
List-Help: <mailto:test-report-request@dpdk.org?subject=help>
List-Subscribe: <https://mails.dpdk.org/listinfo/test-report>,
 <mailto:test-report-request@dpdk.org?subject=subscribe>
Errors-To: test-report-bounces@dpdk.org

Test-Label: iol-compile-amd64-testing
Test-Status: SUCCESS
http://dpdk.org/patch/140514

_Testing PASS_

Submitter: Suanming Mou <suanmingm@nvidia.com>
Date: Friday, May 31 2024 03:50:34 
DPDK git baseline: Repo:dpdk
  Branch: master
  CommitID:5d185b9afaca3c98d8fd779e97d83e571660f4cf

140512-140514 --> testing pass

Test environment and result as below:

+----------------------+--------------------+
|     Environment      | dpdk_meson_compile |
+======================+====================+
| Ubuntu 20.04 ARM SVE | PASS               |
+----------------------+--------------------+
| Debian 12 with MUSDK | PASS               |
+----------------------+--------------------+
| Fedora 37 (ARM)      | PASS               |
+----------------------+--------------------+
| Fedora 38 (ARM)      | PASS               |
+----------------------+--------------------+
| Fedora 39 (ARM)      | PASS               |
+----------------------+--------------------+
| Ubuntu 20.04 (ARM)   | PASS               |
+----------------------+--------------------+


Ubuntu 20.04 ARM SVE
	Kernel: 5.4.0-167-generic
	Compiler: gcc (Ubuntu 10.5.0-1ubuntu1~20.04) 10.5.0

Debian 12 with MUSDK
	Kernel: Container Host Kernel
	Compiler: gcc 12.2.0

Fedora 37 (ARM)
	Kernel: Depends on container host
	Compiler: gcc 12.3.1

Fedora 38 (ARM)
	Kernel: Depends on container host
	Compiler: gcc 13.2.1

Fedora 39 (ARM)
	Kernel: Depends on container host
	Compiler: gcc 13.2.1

Ubuntu 20.04 (ARM)
	Kernel: Container Host Kernel
	Compiler: gcc 9.4.0

To view detailed results, visit:
https://lab.dpdk.org/results/dashboard/patchsets/30062/

UNH-IOL DPDK Community Lab

To manage your email subscriptions, visit: 
https://lab.dpdk.org/results/dashboard/preferences/subscriptions/