From mboxrd@z Thu Jan  1 00:00:00 1970
Return-Path: <test-report-bounces@dpdk.org>
Received: from mails.dpdk.org (mails.dpdk.org [217.70.189.124])
	by inbox.dpdk.org (Postfix) with ESMTP id 76B324411C
	for <public@inbox.dpdk.org>; Fri, 31 May 2024 08:30:55 +0200 (CEST)
Received: from mails.dpdk.org (localhost [127.0.0.1])
	by mails.dpdk.org (Postfix) with ESMTP id 58D9F4114B;
	Fri, 31 May 2024 08:30:55 +0200 (CEST)
Received: from mail-qt1-f228.google.com (mail-qt1-f228.google.com
 [209.85.160.228])
 by mails.dpdk.org (Postfix) with ESMTP id B2D684027C
 for <test-report@dpdk.org>; Fri, 31 May 2024 08:30:44 +0200 (CEST)
Received: by mail-qt1-f228.google.com with SMTP id
 d75a77b69052e-43fdf8a6437so3542851cf.0
 for <test-report@dpdk.org>; Thu, 30 May 2024 23:30:44 -0700 (PDT)
DKIM-Signature: v=1; a=rsa-sha256; c=relaxed/relaxed;
 d=iol.unh.edu; s=unh-iol; t=1717137044; x=1717741844; darn=dpdk.org;
 h=references:in-reply-to:cc:to:from:subject:message-id:date:from:to
 :cc:subject:date:message-id:reply-to;
 bh=BcHrLRNhxa1ywM0wbLSG5LzV3cg1dbTn+JW3fCbj4xc=;
 b=Fm6ZsHwVP4aIguZr+j3JUE3QSrsCtemAyOFiZ589GW+3scGQrW9BvcMfcJfd6Ilfiz
 Qzlp2bfZP7o643Jb7Cb+H4vp0qKNGoIyI32p5cc4RGBTi5tDDAUQQ8PaPHXkwG/3zzcs
 WHiG3bv9Ek6rJEWd39rh5QOpnHHDe35tXenBg=
X-Google-DKIM-Signature: v=1; a=rsa-sha256; c=relaxed/relaxed;
 d=1e100.net; s=20230601; t=1717137044; x=1717741844;
 h=references:in-reply-to:cc:to:from:subject:message-id:date
 :x-gm-message-state:from:to:cc:subject:date:message-id:reply-to;
 bh=BcHrLRNhxa1ywM0wbLSG5LzV3cg1dbTn+JW3fCbj4xc=;
 b=DQfzzNaDKEA24ligFe7oOvvgN9XCOMroxxZUxmTTy9GRkvcNxluXe7R5gR/3k7nQDl
 J4Ub2xPNU4TIUCVbfNzf92RcCIVg/Dpf4NWlraYTomps698hgbdpXOK3qrBrBTh07QG4
 AAUC0RxEsLNNMCgesEjJVL8JUbKTh7TfNFD7FToBC1rIH4o+NrhVc+dwcvu5HpFZau1h
 KKH1XwfBcD1jMle4T2Dz4jNqf2aBtHGkOyX+Mcb8j1lDy/HNQSAZyyQH5Tl3akHxijzO
 NNPsOoMQGPb3rO9TOLUF2F4SzBJI4cub4BgaTpeGVSQyFWA2PQxpiKOX22RWOZv4S0o8
 thUQ==
X-Gm-Message-State: AOJu0Yw2R/8hl1dWEB/bQplMt85slhz0dBYa0jF4QgbL1/+cHwy8OOMX
 3ieIQUKjWRNFVzK2//uI+secbZvTVIrEB2bJdBdaCCF8B2KGJHOvuGimHfpj1i9+GPPkMLaRnAu
 kHO/xTprpYyJFxWuK4rGDRM9uL9W+6KedpkM6S5StGB60pU8DbWknHyqB
X-Google-Smtp-Source: AGHT+IGNUcCvLd60orgpVDu+TxUoH0vd8jHsiIu0LKohsRRcm3aNpFVdyLHOQSc3z6F8gRhAYgsr4ieSnW/j
X-Received: by 2002:a05:6214:5501:b0:6ae:101f:2ef1 with SMTP id
 6a1803df08f44-6aecd5761cemr12864626d6.22.1717137044142; 
 Thu, 30 May 2024 23:30:44 -0700 (PDT)
Received: from postal.iol.unh.edu (postal.iol.unh.edu.
 [2606:4100:3880:1234::84]) by smtp-relay.gmail.com with ESMTPS id
 6a1803df08f44-6ae4a748096sm550656d6.37.2024.05.30.23.30.44
 (version=TLS1_2 cipher=ECDHE-ECDSA-AES128-GCM-SHA256 bits=128/128);
 Thu, 30 May 2024 23:30:44 -0700 (PDT)
X-Relaying-Domain: iol.unh.edu
Date: Thu, 30 May 2024 23:30:44 -0700 (PDT)
Message-ID: <66596e94.050a0220.3a3a5f.3c7bSMTPIN_ADDED_MISSING@mx.google.com>
Received: from [172.21.0.6] (unknown [172.18.0.240])
 by postal.iol.unh.edu (Postfix) with ESMTP id CEC06605C373;
 Fri, 31 May 2024 02:30:43 -0400 (EDT)
Subject: |SUCCESS| pw140512-140514 [PATCH] [3/3] net/mlx5: add external Tx qu
From: dpdklab@iol.unh.edu
To: Test Report <test-report@dpdk.org>
Cc: dpdk-test-reports@iol.unh.edu
In-Reply-To: <20240531035034.1731943-3-suanmingm@nvidia.com>
References: <20240531035034.1731943-3-suanmingm@nvidia.com>
Content-Type: text/plain
X-BeenThere: test-report@dpdk.org
X-Mailman-Version: 2.1.29
Precedence: list
List-Id: automatic DPDK test reports <test-report.dpdk.org>
List-Unsubscribe: <https://mails.dpdk.org/options/test-report>,
 <mailto:test-report-request@dpdk.org?subject=unsubscribe>
List-Archive: <http://mails.dpdk.org/archives/test-report/>
List-Post: <mailto:test-report@dpdk.org>
List-Help: <mailto:test-report-request@dpdk.org?subject=help>
List-Subscribe: <https://mails.dpdk.org/listinfo/test-report>,
 <mailto:test-report-request@dpdk.org?subject=subscribe>
Errors-To: test-report-bounces@dpdk.org

Test-Label: iol-compile-arm64-testing
Test-Status: SUCCESS
http://dpdk.org/patch/140514

_Testing PASS_

Submitter: Suanming Mou <suanmingm@nvidia.com>
Date: Friday, May 31 2024 03:50:34 
DPDK git baseline: Repo:dpdk
  Branch: master
  CommitID:5d185b9afaca3c98d8fd779e97d83e571660f4cf

140512-140514 --> testing pass

Test environment and result as below:

+---------------------+--------------------+----------------------+
|     Environment     | dpdk_meson_compile | dpdk_mingw64_compile |
+=====================+====================+======================+
| FreeBSD 13.3        | PASS               | SKIPPED              |
+---------------------+--------------------+----------------------+
| FreeBSD 14.0        | PASS               | SKIPPED              |
+---------------------+--------------------+----------------------+
| Windows Server 2022 | PASS               | PASS                 |
+---------------------+--------------------+----------------------+
| Windows Server 2019 | PASS               | SKIPPED              |
+---------------------+--------------------+----------------------+


FreeBSD 13.3
	Kernel: 13.3-RELEASE-p1
	Compiler: clang 17.0.6

FreeBSD 14.0
	Kernel: 14.0
	Compiler: clang 16.0.6

Windows Server 2022
	Kernel: 10.0.20348.2031
	Compiler: clang 15.0.7, gcc 8.1.0 (MinGW), and MSVC VS 17.9

Windows Server 2019
	Kernel: 10.0.17763
	Compiler: clang 14.0 and gcc 8.1.0 (MinGW)

To view detailed results, visit:
https://lab.dpdk.org/results/dashboard/patchsets/30062/

UNH-IOL DPDK Community Lab

To manage your email subscriptions, visit: 
https://lab.dpdk.org/results/dashboard/preferences/subscriptions/