From mboxrd@z Thu Jan  1 00:00:00 1970
Return-Path: <test-report-bounces@dpdk.org>
Received: from mails.dpdk.org (mails.dpdk.org [217.70.189.124])
	by inbox.dpdk.org (Postfix) with ESMTP id AF44F44120
	for <public@inbox.dpdk.org>; Fri, 31 May 2024 23:06:10 +0200 (CEST)
Received: from mails.dpdk.org (localhost [127.0.0.1])
	by mails.dpdk.org (Postfix) with ESMTP id AB8D340C35;
	Fri, 31 May 2024 23:06:10 +0200 (CEST)
Received: from mail-io1-f100.google.com (mail-io1-f100.google.com
 [209.85.166.100])
 by mails.dpdk.org (Postfix) with ESMTP id A859E402D0
 for <test-report@dpdk.org>; Fri, 31 May 2024 23:06:08 +0200 (CEST)
Received: by mail-io1-f100.google.com with SMTP id
 ca18e2360f4ac-7eac76bec3aso104240339f.1
 for <test-report@dpdk.org>; Fri, 31 May 2024 14:06:08 -0700 (PDT)
DKIM-Signature: v=1; a=rsa-sha256; c=relaxed/relaxed;
 d=iol.unh.edu; s=unh-iol; t=1717189568; x=1717794368; darn=dpdk.org;
 h=references:in-reply-to:cc:to:from:subject:message-id:date:from:to
 :cc:subject:date:message-id:reply-to;
 bh=TjbqtBunX1KqndlKOOVCyQgikTpQX8smaFpwHB2oXws=;
 b=KzNX8r9+EEoUgMp8q+NwBzgLQuvb3py48qjVV1scbQ0M36gSfvQVmpyvYfV9jsHfkx
 ZObehpy1BAppPigpDkPVgTQUIWkH0uNFudehzsjkxgaA/plVsyNBlXEVHAReSo1YzHYK
 myBuQIXRedRMtIr66hbvOpdIWX13Jd39UbN34=
X-Google-DKIM-Signature: v=1; a=rsa-sha256; c=relaxed/relaxed;
 d=1e100.net; s=20230601; t=1717189568; x=1717794368;
 h=references:in-reply-to:cc:to:from:subject:message-id:date
 :x-gm-message-state:from:to:cc:subject:date:message-id:reply-to;
 bh=TjbqtBunX1KqndlKOOVCyQgikTpQX8smaFpwHB2oXws=;
 b=hfL/pSlq12xY/olY1ief+/rdBB7pIRaDKsA6ZIj93Khv6U9PjWakM4mdxNwdhkPSgD
 71951qFRes8wN9LUkoqSfPs8/9Ummz/BHUkDkjtPxstTNfbibLUW7tzPcJhh+qnL5+5b
 kEgYSMlDFE1Ras0xU1BMFh5y+mPtpb4rRusWMQKO47LkgjUSYNreGYXBg2VNz0gYdB5Q
 n0ANpml1HGco4EIBXxBr00I0jKLdgND/Lc2K5AKOgPDqi+5HJ3zV4I70Sycj6ti9Bfus
 nNE813e2bkaM5HsvzuN/2rOfGoWSyDPq84JLE0aBjq/XjfAyXfKGsRPfgTjC/u4QaIEN
 jVDQ==
X-Gm-Message-State: AOJu0YyQcGDqzmZhN8Ebu6yqQMhv/S21TtjZYHnD4TCV+JpLgBCz3OY5
 W/Dgwa+LWsKKizN1u2li7fBlcd/fLGeDHkbgSxRzgzLuWcKVyXV+j8yEFRIaeVo9rIG+mkVNUtS
 okfTa8DNSCpEakrMzyoXo8UJjBbAJ+/jeY5ShmI3Q
X-Google-Smtp-Source: AGHT+IHsmp7u199bRGGhH9GfrroChqQ67lRCIVXUtEMbFl6vEfQEzzPsrRM4qrOtb2cUOiUzQRPmTQax2x10
X-Received: by 2002:a05:6602:15ce:b0:7ea:feba:6d29 with SMTP id
 ca18e2360f4ac-7eaffe776a7mr416740539f.1.1717189567541; 
 Fri, 31 May 2024 14:06:07 -0700 (PDT)
Received: from postal.iol.unh.edu (postal.iol.unh.edu. [132.177.123.84])
 by smtp-relay.gmail.com with ESMTPS id
 ca18e2360f4ac-7eafe64678bsm11273139f.33.2024.05.31.14.06.07
 (version=TLS1_2 cipher=ECDHE-ECDSA-AES128-GCM-SHA256 bits=128/128);
 Fri, 31 May 2024 14:06:07 -0700 (PDT)
X-Relaying-Domain: iol.unh.edu
Date: Fri, 31 May 2024 14:06:07 -0700 (PDT)
Message-ID: <665a3bbf.050a0220.f61c6.7d76SMTPIN_ADDED_MISSING@mx.google.com>
Received: from [172.21.0.6] (unknown [172.18.0.240])
 by postal.iol.unh.edu (Postfix) with ESMTP id 07D60605C373;
 Fri, 31 May 2024 17:06:07 -0400 (EDT)
Subject: |SUCCESS| pw140517-140519 [PATCH] [v6,3/3] dts: store stderr in Remo
From: dpdklab@iol.unh.edu
To: Test Report <test-report@dpdk.org>
Cc: dpdk-test-reports@iol.unh.edu
In-Reply-To: <20240531112042.18736-4-luca.vizzarro@arm.com>
References: <20240531112042.18736-4-luca.vizzarro@arm.com>
Content-Type: text/plain
X-BeenThere: test-report@dpdk.org
X-Mailman-Version: 2.1.29
Precedence: list
List-Id: automatic DPDK test reports <test-report.dpdk.org>
List-Unsubscribe: <https://mails.dpdk.org/options/test-report>,
 <mailto:test-report-request@dpdk.org?subject=unsubscribe>
List-Archive: <http://mails.dpdk.org/archives/test-report/>
List-Post: <mailto:test-report@dpdk.org>
List-Help: <mailto:test-report-request@dpdk.org?subject=help>
List-Subscribe: <https://mails.dpdk.org/listinfo/test-report>,
 <mailto:test-report-request@dpdk.org?subject=subscribe>
Errors-To: test-report-bounces@dpdk.org

Test-Label: iol-unit-amd64-testing
Test-Status: SUCCESS
http://dpdk.org/patch/140519

_Testing PASS_

Submitter: Luca Vizzarro <luca.vizzarro@arm.com>
Date: Friday, May 31 2024 11:20:42 
DPDK git baseline: Repo:dpdk
  Branch: master
  CommitID:76cef1af8bdaeaf67a5c4ca5df3f221df994dc46

140517-140519 --> testing pass

Test environment and result as below:

+---------------------+----------------+
|     Environment     | dpdk_unit_test |
+=====================+================+
| Windows Server 2019 | PASS           |
+---------------------+----------------+
| CentOS Stream 8     | PASS           |
+---------------------+----------------+
| Debian Bullseye     | PASS           |
+---------------------+----------------+
| Debian 12           | PASS           |
+---------------------+----------------+
| CentOS Stream 9     | PASS           |
+---------------------+----------------+
| Fedora 37           | PASS           |
+---------------------+----------------+
| Fedora 38           | PASS           |
+---------------------+----------------+
| Windows Server 2022 | PASS           |
+---------------------+----------------+
| Ubuntu 22.04        | PASS           |
+---------------------+----------------+
| Fedora 39           | PASS           |
+---------------------+----------------+
| Ubuntu 20.04        | PASS           |
+---------------------+----------------+
| openSUSE Leap 15    | PASS           |
+---------------------+----------------+
| RHEL8               | PASS           |
+---------------------+----------------+
| Ubuntu 24.04        | PASS           |
+---------------------+----------------+


Windows Server 2019
	Kernel: 10.0.17763
	Compiler: clang 14.0 and gcc 8.1.0 (MinGW)

CentOS Stream 8
	Kernel: 5.4.0-167-generic
	Compiler: gcc 8.5.0 20210514

Debian Bullseye
	Kernel: 5.4.0-167-generic
	Compiler: gcc 10.2.1-6

Debian 12
	Kernel: Container Host Kernel
	Compiler: gcc 10.2.1

CentOS Stream 9
	Kernel: 5.4.0-167-generic
	Compiler: gcc 11.4.1 20230605

Fedora 37
	Kernel: Depends on container host system
	Compiler: gcc 12.3.1

Fedora 38
	Kernel: Depends on container host
	Compiler: gcc 13.2.1

Windows Server 2022
	Kernel: 10.0.20348.2031
	Compiler: clang 15.0.7, gcc 8.1.0 (MinGW), and MSVC VS 17.9

Ubuntu 22.04
	Kernel: 5.4.0-167-generic
	Compiler: gcc 11.4.0

Fedora 39
	Kernel: Depends on container host
	Compiler: clang 17.0.6

Ubuntu 20.04
	Kernel: 5.4.0-167-generic
	Compiler: gcc 9.4.0-1ubuntu1~20.04.1

openSUSE Leap 15
	Kernel: 5.4.0-167-generic
	Compiler: gcc 7.5.0

RHEL8
	Kernel: 5.4.0-167-generic
	Compiler: gcc 8.5.0 20210514 (Red Hat 8.5.0-20)

Ubuntu 24.04
	Kernel: 5.4.0-167-generic
	Compiler: gcc 13.2.0

To view detailed results, visit:
https://lab.dpdk.org/results/dashboard/patchsets/30064/

UNH-IOL DPDK Community Lab

To manage your email subscriptions, visit: 
https://lab.dpdk.org/results/dashboard/preferences/subscriptions/