From mboxrd@z Thu Jan  1 00:00:00 1970
Return-Path: <test-report-bounces@dpdk.org>
Received: from mails.dpdk.org (mails.dpdk.org [217.70.189.124])
	by inbox.dpdk.org (Postfix) with ESMTP id 5DAA744121
	for <public@inbox.dpdk.org>; Sat,  1 Jun 2024 00:15:11 +0200 (CEST)
Received: from mails.dpdk.org (localhost [127.0.0.1])
	by mails.dpdk.org (Postfix) with ESMTP id 41FE3402A7;
	Sat,  1 Jun 2024 00:15:11 +0200 (CEST)
Received: from mail-pl1-f225.google.com (mail-pl1-f225.google.com
 [209.85.214.225])
 by mails.dpdk.org (Postfix) with ESMTP id C1D0E40299
 for <test-report@dpdk.org>; Sat,  1 Jun 2024 00:15:08 +0200 (CEST)
Received: by mail-pl1-f225.google.com with SMTP id
 d9443c01a7336-1f480624d0dso20914245ad.1
 for <test-report@dpdk.org>; Fri, 31 May 2024 15:15:08 -0700 (PDT)
DKIM-Signature: v=1; a=rsa-sha256; c=relaxed/relaxed;
 d=iol.unh.edu; s=unh-iol; t=1717193708; x=1717798508; darn=dpdk.org;
 h=references:in-reply-to:cc:to:from:subject:message-id:date:from:to
 :cc:subject:date:message-id:reply-to;
 bh=teOQkV2ATZvR3og5sfd9sQ+FBf5BYGDAeT1ABnPNLG4=;
 b=FfUVd0HEcoKdhtug941oORhkq8YBdr2yi0231MNsc8f0LTPhPRXdYvPgA3W3C5B1RD
 wvsftGIbU/qmdScE7KkXGPoFC17dD0ayMz+tFa6ey0B9Zx110ECq2dc/vivsmTPc03WP
 ypOZf0QMk2cEdvd8G9gy55iKFKpZXtk2DxH/Y=
X-Google-DKIM-Signature: v=1; a=rsa-sha256; c=relaxed/relaxed;
 d=1e100.net; s=20230601; t=1717193708; x=1717798508;
 h=references:in-reply-to:cc:to:from:subject:message-id:date
 :x-gm-message-state:from:to:cc:subject:date:message-id:reply-to;
 bh=teOQkV2ATZvR3og5sfd9sQ+FBf5BYGDAeT1ABnPNLG4=;
 b=qYgp4N918HWfdM72zMwarRk3f4TfH1t+yyA4GOKk+R3pyOswdOhCFuFP6WDKk/CO6h
 AaVUDs96I+XsyfVU+xg5q3YWoUdSmcQtyxFCmHiQESo95AJd0Ij6P9r8KYibjMZnRvRW
 SoX8qWlkQjg4SPkt0ZJPx6tKZy3hYG3z0KbHQXKPayjn080iMWj0SQv61WfU1gIs7eTK
 zZP+MdMp/jWtC6JJuB84IaRh0wSUwHU94EJyW4J3EHMcxeQNBHWJQ8pHYXU1N3OKI7KQ
 Qka+6RqxOgVuFJNz74BhSTpDASbWT6lU00rzuHPK6Jj/UJo42jg26F7S/szIpEXzN9ia
 kurQ==
X-Gm-Message-State: AOJu0Yx/zTpHenxTSoisUahk+aS/xlxn3i+BMzoNyMgzEIyrOeL89ctV
 EWt+5pSgRLSZHqfqRH5NKUVmpRZ2UD9F5bPAJdyRv7Wqhvy8AvG41XEqYAv/TRB2apVQ2MKfRYu
 7s47mszEEaWJhyHe1pQP5Wk2gFaJHf9XFP6728Ujc
X-Google-Smtp-Source: AGHT+IH7X31NTole3dS4bCWOneL7loxfbsLjzJStDOkFFVZq08Whs56QxbA8jo0mvEXSRu3XawIA0RmmmUF6
X-Received: by 2002:a17:902:d492:b0:1f6:38ba:ef42 with SMTP id
 d9443c01a7336-1f638baf270mr38952545ad.25.1717193707300; 
 Fri, 31 May 2024 15:15:07 -0700 (PDT)
Received: from postal.iol.unh.edu (postal.iol.unh.edu. [132.177.123.84])
 by smtp-relay.gmail.com with ESMTPS id
 d9443c01a7336-1f6323e3088sm682965ad.110.2024.05.31.15.15.07
 (version=TLS1_2 cipher=ECDHE-ECDSA-AES128-GCM-SHA256 bits=128/128);
 Fri, 31 May 2024 15:15:07 -0700 (PDT)
X-Relaying-Domain: iol.unh.edu
Date: Fri, 31 May 2024 15:15:07 -0700 (PDT)
Message-ID: <665a4beb.170a0220.30d392.5431SMTPIN_ADDED_MISSING@mx.google.com>
Received: from [172.21.0.6] (unknown [172.18.0.240])
 by postal.iol.unh.edu (Postfix) with ESMTP id 4FEB2605C373;
 Fri, 31 May 2024 18:15:06 -0400 (EDT)
Subject: |SUCCESS| pw140507 [PATCH] net/virtio: fix MAC table update
From: dpdklab@iol.unh.edu
To: Test Report <test-report@dpdk.org>
Cc: dpdk-test-reports@iol.unh.edu
In-Reply-To: <1717090840-12170-1-git-send-email-skoteshwar@marvell.com>
References: <1717090840-12170-1-git-send-email-skoteshwar@marvell.com>
Content-Type: text/plain
X-BeenThere: test-report@dpdk.org
X-Mailman-Version: 2.1.29
Precedence: list
List-Id: automatic DPDK test reports <test-report.dpdk.org>
List-Unsubscribe: <https://mails.dpdk.org/options/test-report>,
 <mailto:test-report-request@dpdk.org?subject=unsubscribe>
List-Archive: <http://mails.dpdk.org/archives/test-report/>
List-Post: <mailto:test-report@dpdk.org>
List-Help: <mailto:test-report-request@dpdk.org?subject=help>
List-Subscribe: <https://mails.dpdk.org/listinfo/test-report>,
 <mailto:test-report-request@dpdk.org?subject=subscribe>
Errors-To: test-report-bounces@dpdk.org

Test-Label: iol-abi-testing
Test-Status: SUCCESS
http://dpdk.org/patch/140507

_Testing PASS_

Submitter: Satha Koteswara Rao Kottidi <skoteshwar@marvell.com>
Date: Thursday, May 30 2024 17:40:39 
DPDK git baseline: Repo:dpdk
  Branch: master
  CommitID:6f80df8cb0f889203d7cd27766abcc6ebc720e33

140507 --> testing pass

Test environment and result as below:

+------------------+----------+
|   Environment    | abi_test |
+==================+==========+
| CentOS Stream 9  | PASS     |
+------------------+----------+
| Fedora 38        | PASS     |
+------------------+----------+
| Ubuntu 22.04     | PASS     |
+------------------+----------+
| Fedora 39        | PASS     |
+------------------+----------+
| CentOS Stream 8  | PASS     |
+------------------+----------+
| Debian Bullseye  | PASS     |
+------------------+----------+
| Debian 12        | PASS     |
+------------------+----------+
| RHEL8            | PASS     |
+------------------+----------+
| openSUSE Leap 15 | PASS     |
+------------------+----------+
| Fedora 37        | PASS     |
+------------------+----------+
| Ubuntu 24.04     | PASS     |
+------------------+----------+


CentOS Stream 9
	Kernel: 5.4.0-167-generic
	Compiler: gcc 11.4.1 20230605

Fedora 38
	Kernel: Depends on container host
	Compiler: gcc 13.2.1

Ubuntu 22.04
	Kernel: 5.4.0-167-generic
	Compiler: gcc 11.4.0

Fedora 39
	Kernel: Depends on container host
	Compiler: clang 17.0.6

CentOS Stream 8
	Kernel: 5.4.0-167-generic
	Compiler: gcc 8.5.0 20210514

Debian Bullseye
	Kernel: 5.4.0-167-generic
	Compiler: gcc 10.2.1-6

Debian 12
	Kernel: Container Host Kernel
	Compiler: gcc 10.2.1

RHEL8
	Kernel: 5.4.0-167-generic
	Compiler: gcc 8.5.0 20210514 (Red Hat 8.5.0-20)

openSUSE Leap 15
	Kernel: 5.4.0-167-generic
	Compiler: gcc 7.5.0

Fedora 37
	Kernel: Depends on container host system
	Compiler: gcc 12.3.1

Ubuntu 24.04
	Kernel: 5.4.0-167-generic
	Compiler: gcc 13.2.0

To view detailed results, visit:
https://lab.dpdk.org/results/dashboard/patchsets/30059/

UNH-IOL DPDK Community Lab

To manage your email subscriptions, visit: 
https://lab.dpdk.org/results/dashboard/preferences/subscriptions/