From mboxrd@z Thu Jan  1 00:00:00 1970
Return-Path: <test-report-bounces@dpdk.org>
Received: from mails.dpdk.org (mails.dpdk.org [217.70.189.124])
	by inbox.dpdk.org (Postfix) with ESMTP id EA02644121
	for <public@inbox.dpdk.org>; Sat,  1 Jun 2024 00:22:25 +0200 (CEST)
Received: from mails.dpdk.org (localhost [127.0.0.1])
	by mails.dpdk.org (Postfix) with ESMTP id E256D402A7;
	Sat,  1 Jun 2024 00:22:25 +0200 (CEST)
Received: from mail-qv1-f99.google.com (mail-qv1-f99.google.com
 [209.85.219.99]) by mails.dpdk.org (Postfix) with ESMTP id 548E740299
 for <test-report@dpdk.org>; Sat,  1 Jun 2024 00:22:24 +0200 (CEST)
Received: by mail-qv1-f99.google.com with SMTP id
 6a1803df08f44-6af25fd44e9so1673316d6.0
 for <test-report@dpdk.org>; Fri, 31 May 2024 15:22:24 -0700 (PDT)
DKIM-Signature: v=1; a=rsa-sha256; c=relaxed/relaxed;
 d=iol.unh.edu; s=unh-iol; t=1717194144; x=1717798944; darn=dpdk.org;
 h=references:in-reply-to:cc:to:from:subject:message-id:date:from:to
 :cc:subject:date:message-id:reply-to;
 bh=OxQIbDT7i7AVTnT3UBdM3Lf9o8gEv7ZHaVIk9xdzjGM=;
 b=bNunEsLdcue9CVITr5Y/1VarcpAHNAi12fGAXgH4R1T7Kyfnn42INrMbHOiIKCcCmg
 D9T1t5vTYexE2vBEA8KvXeYtem6S5uiPl8MAmDoHF3e2EQbfoSbZgFFxvK/dnyGbNAgE
 hLgZaaTzFNjANVR0StvEzHX8bNdKrMDd+gpGs=
X-Google-DKIM-Signature: v=1; a=rsa-sha256; c=relaxed/relaxed;
 d=1e100.net; s=20230601; t=1717194144; x=1717798944;
 h=references:in-reply-to:cc:to:from:subject:message-id:date
 :x-gm-message-state:from:to:cc:subject:date:message-id:reply-to;
 bh=OxQIbDT7i7AVTnT3UBdM3Lf9o8gEv7ZHaVIk9xdzjGM=;
 b=bJWWO21j2EtQgdXUAMBs7v0H1a5QuJ4/ostuKlZ9evtQXLqBQMDcJrj9vRI9R8/clg
 w3WTckTA1+siYcnlDsVh47G74YYP8m5WTojy5inZt3exJYRMdRtSZaSTXDpaC+U60S/M
 q/myZhBUHNJJtIk47ZgkhGuo+YPLvf4w3ifznMlFujDNa/qpo8IQQP1bc10dzQsjW4SA
 IOuL2HH937uQn+vGQZE9ImAMt9k/nx5hQb7TRLM7Mg4owt6fiHtj6NYVDekuYKvoKkX+
 Wvl5+3h8pfHFt3nu9sDFepS3/UIzNSIrF5pPr2XKyov7IgsGOWSB4+2z72hXf3qPR1fg
 +SsQ==
X-Gm-Message-State: AOJu0YwbjqKZRr/jg2Y6ryw/COKwEevXFemtx+KxU+ZKcbqj3DZeJKEo
 EnYoXvfIkFCrdEYzpf85HvRplkYlVkMGecZiWKgvTQJrVRQmj4xFH5t6VPHg5UjEn/WLkF/8UYM
 nuEtYi/XQPZdJW4I4N7Pyww83hCoxZZHqr37exVj2
X-Google-Smtp-Source: AGHT+IGSUFuNu6cl8sPr45EhYbzQDMRnWg9rhthaWnk5VYybUpi9pPv/cQ7SMRcwOrjycZNRlOyXwFDgJlrs
X-Received: by 2002:a05:6214:4489:b0:6ae:53b2:212f with SMTP id
 6a1803df08f44-6aecd6efdd9mr36636746d6.62.1717194143790; 
 Fri, 31 May 2024 15:22:23 -0700 (PDT)
Received: from postal.iol.unh.edu (postal.iol.unh.edu. [132.177.123.84])
 by smtp-relay.gmail.com with ESMTPS id
 6a1803df08f44-6ae4b404a7fsm1693236d6.70.2024.05.31.15.22.23
 (version=TLS1_2 cipher=ECDHE-ECDSA-AES128-GCM-SHA256 bits=128/128);
 Fri, 31 May 2024 15:22:23 -0700 (PDT)
X-Relaying-Domain: iol.unh.edu
Date: Fri, 31 May 2024 15:22:23 -0700 (PDT)
Message-ID: <665a4d9f.050a0220.c83e0.dc0bSMTPIN_ADDED_MISSING@mx.google.com>
Received: from [172.21.0.7] (unknown [172.18.0.240])
 by postal.iol.unh.edu (Postfix) with ESMTP id 7CD5F605C373;
 Fri, 31 May 2024 18:22:23 -0400 (EDT)
Subject: |SUCCESS| pw140508-140509 [PATCH] [v7,2/2] dts: Change hugepage 'amo
From: dpdklab@iol.unh.edu
To: Test Report <test-report@dpdk.org>
Cc: dpdk-test-reports@iol.unh.edu
In-Reply-To: <20240530175852.7382-3-npratte@iol.unh.edu>
References: <20240530175852.7382-3-npratte@iol.unh.edu>
Content-Type: text/plain
X-BeenThere: test-report@dpdk.org
X-Mailman-Version: 2.1.29
Precedence: list
List-Id: automatic DPDK test reports <test-report.dpdk.org>
List-Unsubscribe: <https://mails.dpdk.org/options/test-report>,
 <mailto:test-report-request@dpdk.org?subject=unsubscribe>
List-Archive: <http://mails.dpdk.org/archives/test-report/>
List-Post: <mailto:test-report@dpdk.org>
List-Help: <mailto:test-report-request@dpdk.org?subject=help>
List-Subscribe: <https://mails.dpdk.org/listinfo/test-report>,
 <mailto:test-report-request@dpdk.org?subject=subscribe>
Errors-To: test-report-bounces@dpdk.org

Test-Label: iol-compile-amd64-testing
Test-Status: SUCCESS
http://dpdk.org/patch/140509

_Testing PASS_

Submitter: Nicholas Pratte <npratte@iol.unh.edu>
Date: Thursday, May 30 2024 17:58:49 
DPDK git baseline: Repo:dpdk
  Branch: master
  CommitID:76cef1af8bdaeaf67a5c4ca5df3f221df994dc46

140508-140509 --> testing pass

Test environment and result as below:

+---------------------+--------------------+-------------------+----------------------+
|     Environment     | dpdk_meson_compile | dpdk_msvc_compile | dpdk_mingw64_compile |
+=====================+====================+===================+======================+
| FreeBSD 13.3        | PASS               | SKIPPED           | SKIPPED              |
+---------------------+--------------------+-------------------+----------------------+
| Windows Server 2019 | PASS               | SKIPPED           | PASS                 |
+---------------------+--------------------+-------------------+----------------------+
| FreeBSD 14.0        | PASS               | SKIPPED           | SKIPPED              |
+---------------------+--------------------+-------------------+----------------------+
| Windows Server 2022 | PASS               | PASS              | PASS                 |
+---------------------+--------------------+-------------------+----------------------+


FreeBSD 13.3
	Kernel: 13.3-RELEASE-p1
	Compiler: clang 17.0.6

Windows Server 2019
	Kernel: 10.0.17763
	Compiler: clang 14.0 and gcc 8.1.0 (MinGW)

FreeBSD 14.0
	Kernel: 14.0
	Compiler: clang 16.0.6

Windows Server 2022
	Kernel: 10.0.20348.2031
	Compiler: clang 15.0.7, gcc 8.1.0 (MinGW), and MSVC VS 17.9

To view detailed results, visit:
https://lab.dpdk.org/results/dashboard/patchsets/30060/

UNH-IOL DPDK Community Lab

To manage your email subscriptions, visit: 
https://lab.dpdk.org/results/dashboard/preferences/subscriptions/