From mboxrd@z Thu Jan  1 00:00:00 1970
Return-Path: <test-report-bounces@dpdk.org>
Received: from mails.dpdk.org (mails.dpdk.org [217.70.189.124])
	by inbox.dpdk.org (Postfix) with ESMTP id 27A7E44121
	for <public@inbox.dpdk.org>; Sat,  1 Jun 2024 01:02:16 +0200 (CEST)
Received: from mails.dpdk.org (localhost [127.0.0.1])
	by mails.dpdk.org (Postfix) with ESMTP id 20723402A7;
	Sat,  1 Jun 2024 01:02:16 +0200 (CEST)
Received: from mail-pj1-f99.google.com (mail-pj1-f99.google.com
 [209.85.216.99]) by mails.dpdk.org (Postfix) with ESMTP id 1816640299
 for <test-report@dpdk.org>; Sat,  1 Jun 2024 01:02:15 +0200 (CEST)
Received: by mail-pj1-f99.google.com with SMTP id
 98e67ed59e1d1-2bf5ee192b1so1764634a91.1
 for <test-report@dpdk.org>; Fri, 31 May 2024 16:02:15 -0700 (PDT)
DKIM-Signature: v=1; a=rsa-sha256; c=relaxed/relaxed;
 d=iol.unh.edu; s=unh-iol; t=1717196534; x=1717801334; darn=dpdk.org;
 h=references:in-reply-to:cc:to:from:subject:message-id:date:from:to
 :cc:subject:date:message-id:reply-to;
 bh=as5Mk7hHedhTcSq8s6CpBNLhckpEB/7QJ4pNT8izLxw=;
 b=RzZvM+Y13odbj/6zlmsNKWCf1lK8hrcyVLQ/zbC9D021NXCHUB/LM888B9F+JiG8fg
 /F6p+odztR26+HSoK+i4npoGjfVUNqwrTy13rY7BPnxM3xI7SZ4tNJ7YEV4xvqCeFfGq
 a8TjK250gOzyc0xrrN2hubHW2qzrtiIR+jaZ8=
X-Google-DKIM-Signature: v=1; a=rsa-sha256; c=relaxed/relaxed;
 d=1e100.net; s=20230601; t=1717196534; x=1717801334;
 h=references:in-reply-to:cc:to:from:subject:message-id:date
 :x-gm-message-state:from:to:cc:subject:date:message-id:reply-to;
 bh=as5Mk7hHedhTcSq8s6CpBNLhckpEB/7QJ4pNT8izLxw=;
 b=BtcP6NDP6eSCTBps6RRyowvqWKTT5kxdYqxt9sWhtNlQumaoDhpomOPVWV6k6D//3e
 lqwIpVLISLK/5krZbdaIWYy6J6NJ+0JbwXaZdBKsb3gisbyMiDeXnXfLQzcovLAylckp
 oWzaqD7VvxugjFqf9Oh40x8W3Cb+3cq8IV6tT3kARkbErm745qIe4XfHhHceyGjAXBpl
 LpMtsk6iROTBh/hnY6l1+ijhwBXBmYAljGudK/QhEi0PTB4igLjKRTe1VfNtlrmC4IFg
 OYSaxvmWJ8Zy9c6r5lyB+4NWitMFv0wbahJ7ShzfrSsib1UtX5SGMtiez06FgfaQKjeY
 fLZg==
X-Gm-Message-State: AOJu0Yz11/2m8tAtkbYB/KdnfAtY1g3b4ALgokI54dfDGK2ytFsj01Da
 8TdD7CVpnNreSQtsdG3+EOSj2xpmPzjXg5cfN4t2x2BwXnWeG7gjh+f9y1GdnTjq1XaMfiyST3N
 IxOWCTzWlYw6GiICoQxJbtkiifGaKa3SlJ9N5BA8hAsX5l/y0LpiTu/Kv
X-Google-Smtp-Source: AGHT+IF/MO683cOAbrajkIXcXYHjcbyd9CFkVZMYXSIB/YRglvYpcIr+IMWsraSqA3zqgD1VJW17JIiEwvZt
X-Received: by 2002:a17:90b:4d85:b0:2bd:fe71:14f3 with SMTP id
 98e67ed59e1d1-2c1acd998f2mr8734547a91.22.1717196534346; 
 Fri, 31 May 2024 16:02:14 -0700 (PDT)
Received: from postal.iol.unh.edu (postal.iol.unh.edu.
 [2606:4100:3880:1234::84]) by smtp-relay.gmail.com with ESMTPS id
 98e67ed59e1d1-2c1c2799e70sm148584a91.2.2024.05.31.16.02.14
 (version=TLS1_2 cipher=ECDHE-ECDSA-AES128-GCM-SHA256 bits=128/128);
 Fri, 31 May 2024 16:02:14 -0700 (PDT)
X-Relaying-Domain: iol.unh.edu
Date: Fri, 31 May 2024 16:02:14 -0700 (PDT)
Message-ID: <665a56f6.170a0220.331a4.ab35SMTPIN_ADDED_MISSING@mx.google.com>
Received: from [172.21.0.6] (unknown [172.18.0.240])
 by postal.iol.unh.edu (Postfix) with ESMTP id 80232605C373;
 Fri, 31 May 2024 19:02:13 -0400 (EDT)
Subject: |SUCCESS| pw140508-140509 [PATCH] [v7,2/2] dts: Change hugepage 'amo
From: dpdklab@iol.unh.edu
To: Test Report <test-report@dpdk.org>
Cc: dpdk-test-reports@iol.unh.edu
In-Reply-To: <20240530175852.7382-3-npratte@iol.unh.edu>
References: <20240530175852.7382-3-npratte@iol.unh.edu>
Content-Type: text/plain
X-BeenThere: test-report@dpdk.org
X-Mailman-Version: 2.1.29
Precedence: list
List-Id: automatic DPDK test reports <test-report.dpdk.org>
List-Unsubscribe: <https://mails.dpdk.org/options/test-report>,
 <mailto:test-report-request@dpdk.org?subject=unsubscribe>
List-Archive: <http://mails.dpdk.org/archives/test-report/>
List-Post: <mailto:test-report@dpdk.org>
List-Help: <mailto:test-report-request@dpdk.org?subject=help>
List-Subscribe: <https://mails.dpdk.org/listinfo/test-report>,
 <mailto:test-report-request@dpdk.org?subject=subscribe>
Errors-To: test-report-bounces@dpdk.org

Test-Label: iol-compile-arm64-testing
Test-Status: SUCCESS
http://dpdk.org/patch/140509

_Testing PASS_

Submitter: Nicholas Pratte <npratte@iol.unh.edu>
Date: Thursday, May 30 2024 17:58:49 
DPDK git baseline: Repo:dpdk
  Branch: master
  CommitID:76cef1af8bdaeaf67a5c4ca5df3f221df994dc46

140508-140509 --> testing pass

Test environment and result as below:

+--------------------------+--------------------+
|       Environment        | dpdk_meson_compile |
+==========================+====================+
| Ubuntu 20.04 ARM SVE     | PASS               |
+--------------------------+--------------------+
| Fedora 37 (ARM)          | PASS               |
+--------------------------+--------------------+
| Fedora 38 (ARM)          | PASS               |
+--------------------------+--------------------+
| Fedora 39 (ARM)          | PASS               |
+--------------------------+--------------------+
| Ubuntu 24.04 (ARM)       | PASS               |
+--------------------------+--------------------+
| Ubuntu 22.04 (ARM)       | PASS               |
+--------------------------+--------------------+
| Ubuntu 20.04 (ARM)       | PASS               |
+--------------------------+--------------------+
| CentOS Stream 9 (ARM)    | PASS               |
+--------------------------+--------------------+
| Debian 12 (arm)          | PASS               |
+--------------------------+--------------------+
| Debian 11 (Buster) (ARM) | PASS               |
+--------------------------+--------------------+
| Debian 12 with MUSDK     | PASS               |
+--------------------------+--------------------+


Ubuntu 20.04 ARM SVE
	Kernel: 5.4.0-167-generic
	Compiler: gcc (Ubuntu 10.5.0-1ubuntu1~20.04) 10.5.0

Fedora 37 (ARM)
	Kernel: Depends on container host
	Compiler: gcc 12.3.1

Fedora 38 (ARM)
	Kernel: Depends on container host
	Compiler: gcc 13.2.1

Fedora 39 (ARM)
	Kernel: Depends on container host
	Compiler: gcc 13.2.1

Ubuntu 24.04 (ARM)
	Kernel: 5.4.0-167-generic
	Compiler: gcc 13.2.0

Ubuntu 22.04 (ARM)
	Kernel: Container Host Kernel
	Compiler: gcc 11.4.0

Ubuntu 20.04 (ARM)
	Kernel: Container Host Kernel
	Compiler: gcc 9.4.0

CentOS Stream 9 (ARM)
	Kernel: Container Host Kernel
	Compiler: gcc 11.4.1

Debian 12 (arm)
	Kernel: Container Host Kernel
	Compiler: gcc 12.2.0

Debian 11 (Buster) (ARM)
	Kernel: Container Host Kernel
	Compiler: gcc 10.2.1

Debian 12 with MUSDK
	Kernel: Container Host Kernel
	Compiler: gcc 12.2.0

To view detailed results, visit:
https://lab.dpdk.org/results/dashboard/patchsets/30060/

UNH-IOL DPDK Community Lab

To manage your email subscriptions, visit: 
https://lab.dpdk.org/results/dashboard/preferences/subscriptions/