From mboxrd@z Thu Jan  1 00:00:00 1970
Return-Path: <test-report-bounces@dpdk.org>
Received: from mails.dpdk.org (mails.dpdk.org [217.70.189.124])
	by inbox.dpdk.org (Postfix) with ESMTP id CC88D44121
	for <public@inbox.dpdk.org>; Sat,  1 Jun 2024 01:15:08 +0200 (CEST)
Received: from mails.dpdk.org (localhost [127.0.0.1])
	by mails.dpdk.org (Postfix) with ESMTP id C5A73402A7;
	Sat,  1 Jun 2024 01:15:08 +0200 (CEST)
Received: from mail-oi1-f227.google.com (mail-oi1-f227.google.com
 [209.85.167.227])
 by mails.dpdk.org (Postfix) with ESMTP id 704A040299
 for <test-report@dpdk.org>; Sat,  1 Jun 2024 01:15:07 +0200 (CEST)
Received: by mail-oi1-f227.google.com with SMTP id
 5614622812f47-3d1c051a9e7so873559b6e.0
 for <test-report@dpdk.org>; Fri, 31 May 2024 16:15:07 -0700 (PDT)
DKIM-Signature: v=1; a=rsa-sha256; c=relaxed/relaxed;
 d=iol.unh.edu; s=unh-iol; t=1717197307; x=1717802107; darn=dpdk.org;
 h=references:in-reply-to:cc:to:from:subject:message-id:date:from:to
 :cc:subject:date:message-id:reply-to;
 bh=elOi/hMJ0FKcX/WliQO49WlPixi0meeAr4st8WyWUNw=;
 b=Eukw7+MFwtfDDoufgIQvOCZ0Z82639FrbTX0QfvXRC2BPqjjdiEYFBdVNUVKJW4w5c
 TeD7gXipdGzIbXhthftbPcjD11TmkCUNPn8GmP7PDcpVLpeMhAlt59ph++egn+ee31Jw
 dB+o0Ix1eNRQQz6Kp7rNVS6ME43NFWSptIi/E=
X-Google-DKIM-Signature: v=1; a=rsa-sha256; c=relaxed/relaxed;
 d=1e100.net; s=20230601; t=1717197307; x=1717802107;
 h=references:in-reply-to:cc:to:from:subject:message-id:date
 :x-gm-message-state:from:to:cc:subject:date:message-id:reply-to;
 bh=elOi/hMJ0FKcX/WliQO49WlPixi0meeAr4st8WyWUNw=;
 b=VXkwmytaClzYFPc3Xqv/BOdVdNWONqtPCftdv7iyxn/ZwnNvFX9XODE7+be5kO+vyd
 dFpAxHfS7uIfUZXDfxftYocj6UHGlLiyF5G/1EhG6RhdgedQaHADYfleLS52IL8sCepB
 hrwPL4lqaJ0RsDRsipH/5K69KXI4hWxrafDHFdIGhwxxfO+ehInosFua1ifl6pU6L7g2
 FjKSpmhhDNIJWqhAfejkgAofQhbi73wcdD458VlVFx6FOG2aX1hKo7G6qgM2ViqUqiuU
 r1GxkC2/ZxkoruHqeilBHuRckLept0L7721XRJpW2KehAvbZrVy06/TeThTPpZ1/XJdW
 BOVQ==
X-Gm-Message-State: AOJu0Yw0NP87V8q+IGaz9qxBhjC7yVjuZy+rXd1vDqMgROgyfGlmDiMn
 A/lh1yUFUvYnDdfhdRBMlq2FQ8vc9f8UqXLVMt0nIu8E3qoInJrmGsEgunKCmdm8Tx2s3ZlLDYs
 d3zfJDN/Lnq/rVwkAJjvzyg70X5fnoIojvIOfOgRpJ0Y9oEoKG42Znaff
X-Google-Smtp-Source: AGHT+IHFJ+ZybXIvaeYaNflwzLH1pbxDVKm/jeyiKQml88TjzfigeCEOBL8dm9swQil0mqJPGO9BiabGh94d
X-Received: by 2002:a05:6808:21a2:b0:3d1:e924:a1f4 with SMTP id
 5614622812f47-3d1e924a9ecmr795036b6e.17.1717197306924; 
 Fri, 31 May 2024 16:15:06 -0700 (PDT)
Received: from postal.iol.unh.edu (postal.iol.unh.edu.
 [2606:4100:3880:1234::84]) by smtp-relay.gmail.com with ESMTPS id
 6a1803df08f44-6ae4a740289sm1135326d6.29.2024.05.31.16.15.06
 (version=TLS1_2 cipher=ECDHE-ECDSA-AES128-GCM-SHA256 bits=128/128);
 Fri, 31 May 2024 16:15:06 -0700 (PDT)
X-Relaying-Domain: iol.unh.edu
Date: Fri, 31 May 2024 16:15:06 -0700 (PDT)
Message-ID: <665a59fa.050a0220.e68fd.a180SMTPIN_ADDED_MISSING@mx.google.com>
Received: from [172.21.0.6] (unknown [172.18.0.240])
 by postal.iol.unh.edu (Postfix) with ESMTP id 900F1605C374;
 Fri, 31 May 2024 19:15:06 -0400 (EDT)
Subject: |SUCCESS| pw140510-140511 [PATCH] [v8,2/2] dts: Change hugepage 'amo
From: dpdklab@iol.unh.edu
To: Test Report <test-report@dpdk.org>
Cc: dpdk-test-reports@iol.unh.edu
In-Reply-To: <20240530193801.11867-3-npratte@iol.unh.edu>
References: <20240530193801.11867-3-npratte@iol.unh.edu>
Content-Type: text/plain
X-BeenThere: test-report@dpdk.org
X-Mailman-Version: 2.1.29
Precedence: list
List-Id: automatic DPDK test reports <test-report.dpdk.org>
List-Unsubscribe: <https://mails.dpdk.org/options/test-report>,
 <mailto:test-report-request@dpdk.org?subject=unsubscribe>
List-Archive: <http://mails.dpdk.org/archives/test-report/>
List-Post: <mailto:test-report@dpdk.org>
List-Help: <mailto:test-report-request@dpdk.org?subject=help>
List-Subscribe: <https://mails.dpdk.org/listinfo/test-report>,
 <mailto:test-report-request@dpdk.org?subject=subscribe>
Errors-To: test-report-bounces@dpdk.org

Test-Label: iol-abi-testing
Test-Status: SUCCESS
http://dpdk.org/patch/140511

_Testing PASS_

Submitter: Nicholas Pratte <npratte@iol.unh.edu>
Date: Thursday, May 30 2024 19:38:00 
DPDK git baseline: Repo:dpdk
  Branch: master
  CommitID:76cef1af8bdaeaf67a5c4ca5df3f221df994dc46

140510-140511 --> testing pass

Test environment and result as below:

+------------------+----------+
|   Environment    | abi_test |
+==================+==========+
| Debian 12        | PASS     |
+------------------+----------+
| CentOS Stream 8  | PASS     |
+------------------+----------+
| openSUSE Leap 15 | PASS     |
+------------------+----------+
| RHEL8            | PASS     |
+------------------+----------+
| Fedora 37        | PASS     |
+------------------+----------+
| Fedora 38        | PASS     |
+------------------+----------+
| CentOS Stream 9  | PASS     |
+------------------+----------+
| Debian Bullseye  | PASS     |
+------------------+----------+
| Ubuntu 22.04     | PASS     |
+------------------+----------+


Debian 12
	Kernel: Container Host Kernel
	Compiler: gcc 10.2.1

CentOS Stream 8
	Kernel: 5.4.0-167-generic
	Compiler: gcc 8.5.0 20210514

openSUSE Leap 15
	Kernel: 5.4.0-167-generic
	Compiler: gcc 7.5.0

RHEL8
	Kernel: 5.4.0-167-generic
	Compiler: gcc 8.5.0 20210514 (Red Hat 8.5.0-20)

Fedora 37
	Kernel: Depends on container host system
	Compiler: gcc 12.3.1

Fedora 38
	Kernel: Depends on container host
	Compiler: clang 16.0.6

CentOS Stream 9
	Kernel: 5.4.0-167-generic
	Compiler: gcc 11.4.1 20230605

Debian Bullseye
	Kernel: 5.4.0-167-generic
	Compiler: gcc 10.2.1-6

Ubuntu 22.04
	Kernel: 5.4.0-167-generic
	Compiler: gcc 11.4.0

To view detailed results, visit:
https://lab.dpdk.org/results/dashboard/patchsets/30061/

UNH-IOL DPDK Community Lab

To manage your email subscriptions, visit: 
https://lab.dpdk.org/results/dashboard/preferences/subscriptions/