From mboxrd@z Thu Jan  1 00:00:00 1970
Return-Path: <test-report-bounces@dpdk.org>
Received: from mails.dpdk.org (mails.dpdk.org [217.70.189.124])
	by inbox.dpdk.org (Postfix) with ESMTP id AB04644121
	for <public@inbox.dpdk.org>; Sat,  1 Jun 2024 01:28:36 +0200 (CEST)
Received: from mails.dpdk.org (localhost [127.0.0.1])
	by mails.dpdk.org (Postfix) with ESMTP id A1421402C4;
	Sat,  1 Jun 2024 01:28:36 +0200 (CEST)
Received: from mail-qv1-f98.google.com (mail-qv1-f98.google.com
 [209.85.219.98]) by mails.dpdk.org (Postfix) with ESMTP id 182CB402A7
 for <test-report@dpdk.org>; Sat,  1 Jun 2024 01:28:35 +0200 (CEST)
Received: by mail-qv1-f98.google.com with SMTP id
 6a1803df08f44-6ab9db33f0dso13836546d6.2
 for <test-report@dpdk.org>; Fri, 31 May 2024 16:28:35 -0700 (PDT)
DKIM-Signature: v=1; a=rsa-sha256; c=relaxed/relaxed;
 d=iol.unh.edu; s=unh-iol; t=1717198114; x=1717802914; darn=dpdk.org;
 h=references:in-reply-to:cc:to:from:subject:message-id:date:from:to
 :cc:subject:date:message-id:reply-to;
 bh=EE8U+QD5Jtoc5IXnv9qhYVfn0zgsuimlmHgSCFCtg9c=;
 b=J81lx5wVgrKWDSkUe98r7jkgUdKHkvqinWfQ6/XyBjAihskAHL9kjutLMDbJeGPn8v
 rU+LQCm0lpRvHZqJc1UxAMlIPrRStHFejOhTRvfEX3RVwPAnw0/gMCo12Yb5XAwOP/CC
 JSefkQ6gDObv67KMlkZ9JrI4cH0fu9UiizOtY=
X-Google-DKIM-Signature: v=1; a=rsa-sha256; c=relaxed/relaxed;
 d=1e100.net; s=20230601; t=1717198114; x=1717802914;
 h=references:in-reply-to:cc:to:from:subject:message-id:date
 :x-gm-message-state:from:to:cc:subject:date:message-id:reply-to;
 bh=EE8U+QD5Jtoc5IXnv9qhYVfn0zgsuimlmHgSCFCtg9c=;
 b=g15bEcDJcdppXIajj6H8SjNZ+YcQFnO/xcahJ+9tk18CfXv5lYRyzqDHoXO9QnA25d
 nmqTCkpuGw5DIAts9sX0dXV9u4ydzcx4DQ5RGQGiN/0DPbfn6j5o5fPqE8c3Hfx0Kruu
 NbaSfpoIsGNsb4KNiBfvJN0EOnVBSFLxXLrImjFELOgjYwvAJq3y8wvacZHepeipY8ii
 B/ZhIUy80MFfnhObTeczvCkLoAspYkj+UCzCWRQ57lArD9yozfGSBw8nSVA48+AzYnKX
 kYA8L2NZKIaRiMBzIvsT9N1er8DqEYYFY68d9g4txpKyTqgb6HAQaBJtb6gctS2JamFd
 sBgw==
X-Gm-Message-State: AOJu0Yx6uwN8DKbwGU+xrAKULYrS+gN4NmB22mWoicAyBUbZXI2rlUnj
 o0Jg6U1dxp8AbDbZEs7goYVP7ObZsGgpQTTuy1L2BHM1qRJu61GIGisp14q3Er3cXBR3e9eKIhm
 ovn2yC4SKwGCz01CzD4pUiwg4kEM81Nb8nZHQkxzb/NjB4nqV5Rk/i955
X-Google-Smtp-Source: AGHT+IHGqmCw1nE/JjhiU7etITzlAppeVOJjj1VWZVSinbKOLau8VyG0sFMWZJToNTurKkMdDfcxspOmh5Ml
X-Received: by 2002:a05:6214:2dc7:b0:6ad:79e7:fe47 with SMTP id
 6a1803df08f44-6aecd6f97efmr34347746d6.53.1717198114584; 
 Fri, 31 May 2024 16:28:34 -0700 (PDT)
Received: from postal.iol.unh.edu (postal.iol.unh.edu.
 [2606:4100:3880:1234::84]) by smtp-relay.gmail.com with ESMTPS id
 6a1803df08f44-6ae4a74d476sm1732126d6.46.2024.05.31.16.28.34
 (version=TLS1_2 cipher=ECDHE-ECDSA-AES128-GCM-SHA256 bits=128/128);
 Fri, 31 May 2024 16:28:34 -0700 (PDT)
X-Relaying-Domain: iol.unh.edu
Date: Fri, 31 May 2024 16:28:34 -0700 (PDT)
Message-ID: <665a5d22.d40a0220.ed2b7.d5d0SMTPIN_ADDED_MISSING@mx.google.com>
Received: from [172.21.0.8] (unknown [172.18.0.240])
 by postal.iol.unh.edu (Postfix) with ESMTP id 4B50A605C373;
 Fri, 31 May 2024 19:28:34 -0400 (EDT)
Subject: |SUCCESS| pw140510-140511 [PATCH] [v8,2/2] dts: Change hugepage 'amo
From: dpdklab@iol.unh.edu
To: Test Report <test-report@dpdk.org>
Cc: dpdk-test-reports@iol.unh.edu
In-Reply-To: <20240530193801.11867-3-npratte@iol.unh.edu>
References: <20240530193801.11867-3-npratte@iol.unh.edu>
Content-Type: text/plain
X-BeenThere: test-report@dpdk.org
X-Mailman-Version: 2.1.29
Precedence: list
List-Id: automatic DPDK test reports <test-report.dpdk.org>
List-Unsubscribe: <https://mails.dpdk.org/options/test-report>,
 <mailto:test-report-request@dpdk.org?subject=unsubscribe>
List-Archive: <http://mails.dpdk.org/archives/test-report/>
List-Post: <mailto:test-report@dpdk.org>
List-Help: <mailto:test-report-request@dpdk.org?subject=help>
List-Subscribe: <https://mails.dpdk.org/listinfo/test-report>,
 <mailto:test-report-request@dpdk.org?subject=subscribe>
Errors-To: test-report-bounces@dpdk.org

Test-Label: iol-unit-arm64-testing
Test-Status: SUCCESS
http://dpdk.org/patch/140511

_Testing PASS_

Submitter: Nicholas Pratte <npratte@iol.unh.edu>
Date: Thursday, May 30 2024 19:38:00 
DPDK git baseline: Repo:dpdk
  Branch: master
  CommitID:76cef1af8bdaeaf67a5c4ca5df3f221df994dc46

140510-140511 --> testing pass

Test environment and result as below:

+-----------------------------+------------------------------+---------------------------+----------------+
|         Environment         | cryptodev_sw_snow3g_autotest | cryptodev_sw_zuc_autotest | dpdk_unit_test |
+=============================+==============================+===========================+================+
| Debian 12 (arm)             | PASS                         | PASS                      | PASS           |
+-----------------------------+------------------------------+---------------------------+----------------+
| 32-bit Ubuntu 20.04.4 (ARM) | SKIPPED                      | SKIPPED                   | PASS           |
+-----------------------------+------------------------------+---------------------------+----------------+
| CentOS Stream 9 (ARM)       | SKIPPED                      | SKIPPED                   | PASS           |
+-----------------------------+------------------------------+---------------------------+----------------+
| Debian 11 (Buster) (ARM)    | SKIPPED                      | SKIPPED                   | PASS           |
+-----------------------------+------------------------------+---------------------------+----------------+


Debian 12 (arm)
	Kernel: Container Host Kernel
	Compiler: gcc 12.2.0

32-bit Ubuntu 20.04.4 (ARM)
	Kernel: 5.4.0-155-generic aarch64
	Compiler: gcc 9.4

CentOS Stream 9 (ARM)
	Kernel: Container Host Kernel
	Compiler: gcc 11.4.1

Debian 11 (Buster) (ARM)
	Kernel: Container Host Kernel
	Compiler: gcc 10.2.1

To view detailed results, visit:
https://lab.dpdk.org/results/dashboard/patchsets/30061/

UNH-IOL DPDK Community Lab

To manage your email subscriptions, visit: 
https://lab.dpdk.org/results/dashboard/preferences/subscriptions/