From mboxrd@z Thu Jan  1 00:00:00 1970
Return-Path: <test-report-bounces@dpdk.org>
Received: from mails.dpdk.org (mails.dpdk.org [217.70.189.124])
	by inbox.dpdk.org (Postfix) with ESMTP id 34BF644122
	for <public@inbox.dpdk.org>; Sat,  1 Jun 2024 02:34:00 +0200 (CEST)
Received: from mails.dpdk.org (localhost [127.0.0.1])
	by mails.dpdk.org (Postfix) with ESMTP id 17F0E402A7;
	Sat,  1 Jun 2024 02:34:00 +0200 (CEST)
Received: from mail-ot1-f97.google.com (mail-ot1-f97.google.com
 [209.85.210.97]) by mails.dpdk.org (Postfix) with ESMTP id 76D8A40299
 for <test-report@dpdk.org>; Sat,  1 Jun 2024 02:33:58 +0200 (CEST)
Received: by mail-ot1-f97.google.com with SMTP id
 46e09a7af769-6f12171523eso1400098a34.1
 for <test-report@dpdk.org>; Fri, 31 May 2024 17:33:58 -0700 (PDT)
DKIM-Signature: v=1; a=rsa-sha256; c=relaxed/relaxed;
 d=iol.unh.edu; s=unh-iol; t=1717202037; x=1717806837; darn=dpdk.org;
 h=references:in-reply-to:cc:to:from:subject:message-id:date:from:to
 :cc:subject:date:message-id:reply-to;
 bh=gUrXB+p5CLjtZGGMwJnqH1tSJ5ArQwrIIjdl4C+MC4A=;
 b=R4Nmqm5ptPi8SZn0iY2jXTrwB4IJcZCLAxiNVdxbIAqXZYNmPGvu/PN1nedk6u2mXQ
 51bk3vDg7P61DDNESQhPhPocj7FcZKUmGtC1uZQ4sR+HDurDqSq2TaE/hIFVmgUt5YiJ
 Jyt01mZiVBHAT89gBKbg4XChXNYNND6e5ajVw=
X-Google-DKIM-Signature: v=1; a=rsa-sha256; c=relaxed/relaxed;
 d=1e100.net; s=20230601; t=1717202037; x=1717806837;
 h=references:in-reply-to:cc:to:from:subject:message-id:date
 :x-gm-message-state:from:to:cc:subject:date:message-id:reply-to;
 bh=gUrXB+p5CLjtZGGMwJnqH1tSJ5ArQwrIIjdl4C+MC4A=;
 b=BEZRvOhSZ4gwxuxRyvOv5A0CTyrDWBK27zv7LAomtwFLiopwmv8pkrTtFa8yT+op4V
 fsrhOiODyS6sR3ytS4DdC/1wskVFSujJVGLt4vLZvggsgUwONmXEF2lMwQnUlk+JflvO
 38ddaAyWZ7I0G/ZVE/0/6X+HPx90cJWrKotOYYXR/GG3juKzr30OtaVjkNGP75d3jUZc
 x+qy3DtyyhCiTaV/9dBBjvSxP0Ahu2ym/qnOrrrls2lPkqJyTNKkuL1uTDNlcma6J4+f
 879izIxTeU2IEeqFq0yHsXOifiPRODYOkGV5CKAxRtpLsfIi665sA6xYY2lv8/ukg1lQ
 Ab1w==
X-Gm-Message-State: AOJu0YxtgR52n2td9FDi6Ek90sf/Bi/ChRwD1LtPDoAhvf/4acTq6AYk
 2fHuhWtSjbWG5Bivfr21eOXq4tR3TKfiS0rEBtk5diltLbxe+8cV/4sF2sivTnr6krF6PKX1zD+
 IMLbzSA/HeSBdFHqaZ5AMXI0I/s5Ds8mb3Fhi9h3O
X-Google-Smtp-Source: AGHT+IHVgJJSooaJGKjjZh9LaC5alnp4J1ULzPG5I8vzQRBjM9M3yBb7FFbT5lNxxwxrtDUJ0rJ1jhq+yIlf
X-Received: by 2002:a05:6808:618c:b0:3d1:d079:8349 with SMTP id
 5614622812f47-3d1e34817abmr3860906b6e.1.1717202037470; 
 Fri, 31 May 2024 17:33:57 -0700 (PDT)
Received: from postal.iol.unh.edu (postal.iol.unh.edu. [132.177.123.84])
 by smtp-relay.gmail.com with ESMTPS id
 6a1803df08f44-6ae4a58ead3sm1210926d6.0.2024.05.31.17.33.57
 (version=TLS1_2 cipher=ECDHE-ECDSA-AES128-GCM-SHA256 bits=128/128);
 Fri, 31 May 2024 17:33:57 -0700 (PDT)
X-Relaying-Domain: iol.unh.edu
Date: Fri, 31 May 2024 17:33:57 -0700 (PDT)
Message-ID: <665a6c75.050a0220.245990.98b5SMTPIN_ADDED_MISSING@mx.google.com>
Received: from [172.21.0.6] (unknown [172.18.0.240])
 by postal.iol.unh.edu (Postfix) with ESMTP id 31E12605C373;
 Fri, 31 May 2024 20:33:57 -0400 (EDT)
Subject: |SUCCESS| pw140510-140511 [PATCH] [v8,2/2] dts: Change hugepage 'amo
From: dpdklab@iol.unh.edu
To: Test Report <test-report@dpdk.org>
Cc: dpdk-test-reports@iol.unh.edu
In-Reply-To: <20240530193801.11867-3-npratte@iol.unh.edu>
References: <20240530193801.11867-3-npratte@iol.unh.edu>
Content-Type: text/plain
X-BeenThere: test-report@dpdk.org
X-Mailman-Version: 2.1.29
Precedence: list
List-Id: automatic DPDK test reports <test-report.dpdk.org>
List-Unsubscribe: <https://mails.dpdk.org/options/test-report>,
 <mailto:test-report-request@dpdk.org?subject=unsubscribe>
List-Archive: <http://mails.dpdk.org/archives/test-report/>
List-Post: <mailto:test-report@dpdk.org>
List-Help: <mailto:test-report-request@dpdk.org?subject=help>
List-Subscribe: <https://mails.dpdk.org/listinfo/test-report>,
 <mailto:test-report-request@dpdk.org?subject=subscribe>
Errors-To: test-report-bounces@dpdk.org

Test-Label: iol-unit-amd64-testing
Test-Status: SUCCESS
http://dpdk.org/patch/140511

_Testing PASS_

Submitter: Nicholas Pratte <npratte@iol.unh.edu>
Date: Thursday, May 30 2024 19:38:00 
DPDK git baseline: Repo:dpdk
  Branch: master
  CommitID:76cef1af8bdaeaf67a5c4ca5df3f221df994dc46

140510-140511 --> testing pass

Test environment and result as below:

+------------------+----------------+
|   Environment    | dpdk_unit_test |
+==================+================+
| CentOS Stream 8  | PASS           |
+------------------+----------------+
| CentOS Stream 9  | PASS           |
+------------------+----------------+
| Debian Bullseye  | PASS           |
+------------------+----------------+
| Debian 12        | PASS           |
+------------------+----------------+
| Fedora 37        | PASS           |
+------------------+----------------+
| Fedora 38        | PASS           |
+------------------+----------------+
| RHEL8            | PASS           |
+------------------+----------------+
| Fedora 39        | PASS           |
+------------------+----------------+
| Ubuntu 22.04     | PASS           |
+------------------+----------------+
| Ubuntu 20.04     | PASS           |
+------------------+----------------+
| openSUSE Leap 15 | PASS           |
+------------------+----------------+


CentOS Stream 8
	Kernel: 5.4.0-167-generic
	Compiler: gcc 8.5.0 20210514

CentOS Stream 9
	Kernel: 5.4.0-167-generic
	Compiler: gcc 11.4.1 20230605

Debian Bullseye
	Kernel: 5.4.0-167-generic
	Compiler: gcc 10.2.1-6

Debian 12
	Kernel: Container Host Kernel
	Compiler: gcc 10.2.1

Fedora 37
	Kernel: Depends on container host system
	Compiler: gcc 12.3.1

Fedora 38
	Kernel: Depends on container host
	Compiler: gcc 13.2.1

RHEL8
	Kernel: 5.4.0-167-generic
	Compiler: gcc 8.5.0 20210514 (Red Hat 8.5.0-20)

Fedora 39
	Kernel: Depends on container host
	Compiler: gcc 13.2.1

Ubuntu 22.04
	Kernel: 5.4.0-167-generic
	Compiler: gcc 11.4.0

Ubuntu 20.04
	Kernel: 5.4.0-167-generic
	Compiler: gcc 9.4.0-1ubuntu1~20.04.1

openSUSE Leap 15
	Kernel: 5.4.0-167-generic
	Compiler: gcc 7.5.0

To view detailed results, visit:
https://lab.dpdk.org/results/dashboard/patchsets/30061/

UNH-IOL DPDK Community Lab

To manage your email subscriptions, visit: 
https://lab.dpdk.org/results/dashboard/preferences/subscriptions/