From mboxrd@z Thu Jan  1 00:00:00 1970
Return-Path: <test-report-bounces@dpdk.org>
Received: from mails.dpdk.org (mails.dpdk.org [217.70.189.124])
	by inbox.dpdk.org (Postfix) with ESMTP id 1CF4044122
	for <public@inbox.dpdk.org>; Sat,  1 Jun 2024 02:47:42 +0200 (CEST)
Received: from mails.dpdk.org (localhost [127.0.0.1])
	by mails.dpdk.org (Postfix) with ESMTP id 17101402A7;
	Sat,  1 Jun 2024 02:47:42 +0200 (CEST)
Received: from mail-qv1-f98.google.com (mail-qv1-f98.google.com
 [209.85.219.98]) by mails.dpdk.org (Postfix) with ESMTP id 3B22140299
 for <test-report@dpdk.org>; Sat,  1 Jun 2024 02:47:40 +0200 (CEST)
Received: by mail-qv1-f98.google.com with SMTP id
 6a1803df08f44-6aedd5167d1so5469796d6.1
 for <test-report@dpdk.org>; Fri, 31 May 2024 17:47:40 -0700 (PDT)
DKIM-Signature: v=1; a=rsa-sha256; c=relaxed/relaxed;
 d=iol.unh.edu; s=unh-iol; t=1717202859; x=1717807659; darn=dpdk.org;
 h=references:in-reply-to:cc:to:from:subject:message-id:date:from:to
 :cc:subject:date:message-id:reply-to;
 bh=KtlXJUinwrrptuFecpAwqdDG0ppyb0jCwX35HKxijiA=;
 b=TQC6XexTvytzs4/+JVzDCfIC/OvxKx0SUdNJoVmDdk6mzpNuy0ZXr7BDasXYcE6QIM
 qo3+1dAsIstwnHOTrhJXTQHaiKJ96YP8aOYIp8rhYSdMXBknTVdap0Cxqno/ktiZDWm0
 RWxtHbkb41QuyW/J5N8ea7RKgkxCm5Os0nT9Q=
X-Google-DKIM-Signature: v=1; a=rsa-sha256; c=relaxed/relaxed;
 d=1e100.net; s=20230601; t=1717202859; x=1717807659;
 h=references:in-reply-to:cc:to:from:subject:message-id:date
 :x-gm-message-state:from:to:cc:subject:date:message-id:reply-to;
 bh=KtlXJUinwrrptuFecpAwqdDG0ppyb0jCwX35HKxijiA=;
 b=uuS+Ah6DoeQeeCY+sJjHARO6XAKeEqlQse1Ium3ALVyZnXjYSuePGmbNcTiwt9MWvn
 DCyg9Wy5EY4zTPm9iRosiUgqFFes979hlkcEZNAQWnHTANK0L1t+e5YfByM7NpJl56ia
 nEMFjhPKvLvwR8hZRwRvVgV/53Ie+E5d5BnMdPeOIDkIrlwLWrDcJVbvhdArZzB1wrJ+
 WpWvhlF9PZMhMCE0fGQX94iwtaC8fgLsh07yyQA6m1tDBl15bRAeWRI/op7TYpb12ihg
 WXQLYgoEMmZZ8cgScau3PnEX3Uw88jPX57xS50Tm0RpymuYa9UkkoYGkc8uxQl9EQSxy
 YoSg==
X-Gm-Message-State: AOJu0YwoC1HJ+oFolFfSbtdXu8YDTCMKhQIQ5Av2dHvbtbpj/e9tNBzd
 xagx0tPP+LlNRWPSUJu6BLDU0nLj9RTcBfY6jl+MT6N6Jf95dPKAmvjawntzEwg4lJih4+ZZ9BG
 B6TBC+/UQJygh1/nFSfl9r+HZuigqG+6oLWYz2PhIUC5O7SS/NqUsounl
X-Google-Smtp-Source: AGHT+IFS4UOlKFxmN01jsWFgKxprpzsKRZpu2BMOW3F4Ibd/vo8LbzadomDL4kLiYSBRqogXoRStOX1xBvOT
X-Received: by 2002:a05:6214:4697:b0:6af:268b:6baf with SMTP id
 6a1803df08f44-6af268b6d65mr11402576d6.52.1717202859664; 
 Fri, 31 May 2024 17:47:39 -0700 (PDT)
Received: from postal.iol.unh.edu (postal.iol.unh.edu.
 [2606:4100:3880:1234::84]) by smtp-relay.gmail.com with ESMTPS id
 6a1803df08f44-6ae4b3f94d3sm1109246d6.57.2024.05.31.17.47.39
 (version=TLS1_2 cipher=ECDHE-ECDSA-AES128-GCM-SHA256 bits=128/128);
 Fri, 31 May 2024 17:47:39 -0700 (PDT)
X-Relaying-Domain: iol.unh.edu
Date: Fri, 31 May 2024 17:47:39 -0700 (PDT)
Message-ID: <665a6fab.050a0220.1d3e72.836dSMTPIN_ADDED_MISSING@mx.google.com>
Received: from [172.21.0.6] (unknown [172.18.0.240])
 by postal.iol.unh.edu (Postfix) with ESMTP id 39170605C373;
 Fri, 31 May 2024 20:47:39 -0400 (EDT)
Subject: |SUCCESS| pw140489-140490 [PATCH] [v3,2/2] dts: clean up config type
From: dpdklab@iol.unh.edu
To: Test Report <test-report@dpdk.org>
Cc: dpdk-test-reports@iol.unh.edu
In-Reply-To: <20240530151951.388179-3-luca.vizzarro@arm.com>
References: <20240530151951.388179-3-luca.vizzarro@arm.com>
Content-Type: text/plain
X-BeenThere: test-report@dpdk.org
X-Mailman-Version: 2.1.29
Precedence: list
List-Id: automatic DPDK test reports <test-report.dpdk.org>
List-Unsubscribe: <https://mails.dpdk.org/options/test-report>,
 <mailto:test-report-request@dpdk.org?subject=unsubscribe>
List-Archive: <http://mails.dpdk.org/archives/test-report/>
List-Post: <mailto:test-report@dpdk.org>
List-Help: <mailto:test-report-request@dpdk.org?subject=help>
List-Subscribe: <https://mails.dpdk.org/listinfo/test-report>,
 <mailto:test-report-request@dpdk.org?subject=subscribe>
Errors-To: test-report-bounces@dpdk.org

Test-Label: iol-abi-testing
Test-Status: SUCCESS
http://dpdk.org/patch/140490

_Testing PASS_

Submitter: Luca Vizzarro <luca.vizzarro@arm.com>
Date: Thursday, May 30 2024 15:19:51 
DPDK git baseline: Repo:dpdk
  Branch: master
  CommitID:76cef1af8bdaeaf67a5c4ca5df3f221df994dc46

140489-140490 --> testing pass

Test environment and result as below:

+------------------+----------+
|   Environment    | abi_test |
+==================+==========+
| Debian Bullseye  | PASS     |
+------------------+----------+
| CentOS Stream 8  | PASS     |
+------------------+----------+
| Fedora 39        | PASS     |
+------------------+----------+
| Ubuntu 24.04     | PASS     |
+------------------+----------+
| Ubuntu 22.04     | PASS     |
+------------------+----------+
| Fedora 38        | PASS     |
+------------------+----------+
| openSUSE Leap 15 | PASS     |
+------------------+----------+
| Debian 12        | PASS     |
+------------------+----------+
| Fedora 37        | PASS     |
+------------------+----------+


Debian Bullseye
	Kernel: 5.4.0-167-generic
	Compiler: gcc 10.2.1-6

CentOS Stream 8
	Kernel: 5.4.0-167-generic
	Compiler: gcc 8.5.0 20210514

Fedora 39
	Kernel: Depends on container host
	Compiler: gcc 13.2.1

Ubuntu 24.04
	Kernel: 5.4.0-167-generic
	Compiler: gcc 13.2.0

Ubuntu 22.04
	Kernel: 5.4.0-167-generic
	Compiler: gcc 11.4.0

Fedora 38
	Kernel: Depends on container host
	Compiler: clang 16.0.6

openSUSE Leap 15
	Kernel: 5.4.0-167-generic
	Compiler: gcc 7.5.0

Debian 12
	Kernel: Container Host Kernel
	Compiler: gcc 10.2.1

Fedora 37
	Kernel: Depends on container host system
	Compiler: gcc 12.3.1

To view detailed results, visit:
https://lab.dpdk.org/results/dashboard/patchsets/30053/

UNH-IOL DPDK Community Lab

To manage your email subscriptions, visit: 
https://lab.dpdk.org/results/dashboard/preferences/subscriptions/