From mboxrd@z Thu Jan  1 00:00:00 1970
Return-Path: <test-report-bounces@dpdk.org>
Received: from mails.dpdk.org (mails.dpdk.org [217.70.189.124])
	by inbox.dpdk.org (Postfix) with ESMTP id A542A44122
	for <public@inbox.dpdk.org>; Sat,  1 Jun 2024 02:57:46 +0200 (CEST)
Received: from mails.dpdk.org (localhost [127.0.0.1])
	by mails.dpdk.org (Postfix) with ESMTP id 979BE402A7;
	Sat,  1 Jun 2024 02:57:46 +0200 (CEST)
Received: from mail-oi1-f225.google.com (mail-oi1-f225.google.com
 [209.85.167.225])
 by mails.dpdk.org (Postfix) with ESMTP id 3214640299
 for <test-report@dpdk.org>; Sat,  1 Jun 2024 02:57:45 +0200 (CEST)
Received: by mail-oi1-f225.google.com with SMTP id
 5614622812f47-3d1bb1c3b74so1485919b6e.2
 for <test-report@dpdk.org>; Fri, 31 May 2024 17:57:45 -0700 (PDT)
DKIM-Signature: v=1; a=rsa-sha256; c=relaxed/relaxed;
 d=iol.unh.edu; s=unh-iol; t=1717203464; x=1717808264; darn=dpdk.org;
 h=references:in-reply-to:cc:to:from:subject:message-id:date:from:to
 :cc:subject:date:message-id:reply-to;
 bh=P4a7/tznkhELshkwv4mQcZw+Bmhw9tRRhXmBzt5L4wE=;
 b=C2DG++mXqKXzQhPUlTFVjsewPZ8EZ7XHydOT17VZPuAi69sCzLxmxrqZWkVsIJ+Oob
 Ez/QJmFpA4VUe+kAGYl+XXq787b6H8BwA01Syy/PtGFHNcFmyrG7yA4XgKt26k7YHqWX
 IlP0E8gxhuFOCi5Y7cfOCtTDIm7Id0R7gVxn4=
X-Google-DKIM-Signature: v=1; a=rsa-sha256; c=relaxed/relaxed;
 d=1e100.net; s=20230601; t=1717203464; x=1717808264;
 h=references:in-reply-to:cc:to:from:subject:message-id:date
 :x-gm-message-state:from:to:cc:subject:date:message-id:reply-to;
 bh=P4a7/tznkhELshkwv4mQcZw+Bmhw9tRRhXmBzt5L4wE=;
 b=BDWTn0C5H+B9lnnjJ/V21VgBY9cltAM05iUrAH/GzuLKfnFk2Yt7YatfPwlE4nGOxf
 t9J4n5DaJLRKyNSK1bh2qMW5pce5xDScyK6T5uWn5k8MOZW/wlXY8ohci4n7TKA5NiIK
 MJ3x84tRqJ3MZoiDAJ8DEMIpFpZItEFA95Zw4OyqurxeczC3sPmriVIvcSe0osYmzLDj
 qul2dtp0bBM4eonWgHq4Dz+hZ+LAqTB07Xb5+KIbJhRUEc2h7pgg8b6IeqANJPAE1yEL
 uDzNM9h1ix+QvYX1fFsY9P30MUUofgwYliFF4RvlryDdS4JrCZ7Z6SkZfGhxWsZ0CWc7
 dSrw==
X-Gm-Message-State: AOJu0YzxS7WYizlIxmA0SmjaylcOLflodhun3mgZhACRPoGLcao9X2AO
 /WDhErANvUYgTizySyKKQFH+dYDVuPKqJ4aJ6SxRPu6fSLsRLYStMT2svktftVfGFj3bAgHhdXG
 gbSxE0MfREdlRCu+2yWyr1icMg64kuBseREiwMvbIQhztmVO+Ize87lqz
X-Google-Smtp-Source: AGHT+IGPlGVEW3WI4ILocUSNIGMEor1t/5WATmRqNWEFhDHq3m7LXDepVBCVQVrApprPDUUlwZOVNCJkfqle
X-Received: by 2002:a05:6808:6d9:b0:3d1:d2e4:a4e1 with SMTP id
 5614622812f47-3d1e35cec62mr3056312b6e.58.1717203464468; 
 Fri, 31 May 2024 17:57:44 -0700 (PDT)
Received: from postal.iol.unh.edu (postal.iol.unh.edu.
 [2606:4100:3880:1234::84]) by smtp-relay.gmail.com with ESMTPS id
 6a1803df08f44-6ae4b3f94d3sm1113266d6.57.2024.05.31.17.57.44
 (version=TLS1_2 cipher=ECDHE-ECDSA-AES128-GCM-SHA256 bits=128/128);
 Fri, 31 May 2024 17:57:44 -0700 (PDT)
X-Relaying-Domain: iol.unh.edu
Date: Fri, 31 May 2024 17:57:44 -0700 (PDT)
Message-ID: <665a7208.050a0220.1d3e72.83f3SMTPIN_ADDED_MISSING@mx.google.com>
Received: from [172.21.0.6] (unknown [172.18.0.240])
 by postal.iol.unh.edu (Postfix) with ESMTP id 23F5C605C373;
 Fri, 31 May 2024 20:57:44 -0400 (EDT)
Subject: |SUCCESS| pw140504 [PATCH] [v5] eal: verify mmu type for DPDK suppor
From: dpdklab@iol.unh.edu
To: Test Report <test-report@dpdk.org>
Cc: dpdk-test-reports@iol.unh.edu
In-Reply-To: <20240530164448.148044-1-drc@linux.ibm.com>
References: <20240530164448.148044-1-drc@linux.ibm.com>
Content-Type: text/plain
X-BeenThere: test-report@dpdk.org
X-Mailman-Version: 2.1.29
Precedence: list
List-Id: automatic DPDK test reports <test-report.dpdk.org>
List-Unsubscribe: <https://mails.dpdk.org/options/test-report>,
 <mailto:test-report-request@dpdk.org?subject=unsubscribe>
List-Archive: <http://mails.dpdk.org/archives/test-report/>
List-Post: <mailto:test-report@dpdk.org>
List-Help: <mailto:test-report-request@dpdk.org?subject=help>
List-Subscribe: <https://mails.dpdk.org/listinfo/test-report>,
 <mailto:test-report-request@dpdk.org?subject=subscribe>
Errors-To: test-report-bounces@dpdk.org

Test-Label: iol-compile-amd64-testing
Test-Status: SUCCESS
http://dpdk.org/patch/140504

_Testing PASS_

Submitter: David Christensen <drc@linux.ibm.com>
Date: Thursday, May 30 2024 16:44:47 
DPDK git baseline: Repo:dpdk
  Branch: master
  CommitID:76cef1af8bdaeaf67a5c4ca5df3f221df994dc46

140504 --> testing pass

Test environment and result as below:

+---------------------+-------------------+--------------------+----------------------+
|     Environment     | dpdk_msvc_compile | dpdk_meson_compile | dpdk_mingw64_compile |
+=====================+===================+====================+======================+
| Windows Server 2022 | PASS              | PASS               | PASS                 |
+---------------------+-------------------+--------------------+----------------------+
| FreeBSD 13.3        | SKIPPED           | PASS               | SKIPPED              |
+---------------------+-------------------+--------------------+----------------------+
| Windows Server 2019 | SKIPPED           | PASS               | PASS                 |
+---------------------+-------------------+--------------------+----------------------+
| FreeBSD 14.0        | SKIPPED           | PASS               | SKIPPED              |
+---------------------+-------------------+--------------------+----------------------+


Windows Server 2022
	Kernel: 10.0.20348.2031
	Compiler: clang 15.0.7, gcc 8.1.0 (MinGW), and MSVC VS 17.9

FreeBSD 13.3
	Kernel: 13.3-RELEASE-p1
	Compiler: clang 17.0.6

Windows Server 2019
	Kernel: 10.0.17763
	Compiler: clang 14.0 and gcc 8.1.0 (MinGW)

FreeBSD 14.0
	Kernel: 14.0
	Compiler: clang 16.0.6

To view detailed results, visit:
https://lab.dpdk.org/results/dashboard/patchsets/30057/

UNH-IOL DPDK Community Lab

To manage your email subscriptions, visit: 
https://lab.dpdk.org/results/dashboard/preferences/subscriptions/