From mboxrd@z Thu Jan  1 00:00:00 1970
Return-Path: <test-report-bounces@dpdk.org>
Received: from mails.dpdk.org (mails.dpdk.org [217.70.189.124])
	by inbox.dpdk.org (Postfix) with ESMTP id 6B30B44122
	for <public@inbox.dpdk.org>; Sat,  1 Jun 2024 03:14:55 +0200 (CEST)
Received: from mails.dpdk.org (localhost [127.0.0.1])
	by mails.dpdk.org (Postfix) with ESMTP id 5FA17402A7;
	Sat,  1 Jun 2024 03:14:55 +0200 (CEST)
Received: from mail-vs1-f100.google.com (mail-vs1-f100.google.com
 [209.85.217.100])
 by mails.dpdk.org (Postfix) with ESMTP id 598A540299
 for <test-report@dpdk.org>; Sat,  1 Jun 2024 03:14:54 +0200 (CEST)
Received: by mail-vs1-f100.google.com with SMTP id
 ada2fe7eead31-48ba9459824so759523137.0
 for <test-report@dpdk.org>; Fri, 31 May 2024 18:14:54 -0700 (PDT)
DKIM-Signature: v=1; a=rsa-sha256; c=relaxed/relaxed;
 d=iol.unh.edu; s=unh-iol; t=1717204493; x=1717809293; darn=dpdk.org;
 h=references:in-reply-to:cc:to:from:subject:message-id:date:from:to
 :cc:subject:date:message-id:reply-to;
 bh=PWlmmRNHYKp1m0lLQlYi35XOgu16MdKVQjsZy8JB6+A=;
 b=efCMlz83JMc5rn6hVlj9xdOtka0I5yJLoH+QEclpFsppeQvuEKO1qVTvmAbXym+iW/
 jCmmWqnxrFjOiOny9hI2hqFcmTPqd6j0JUglE8KPmWZA805vKWESvtB/KOQ8Pk11xPee
 s4nqZZmAQ7fb6bSd4c9t1C3lMVxZQCTd2rG60=
X-Google-DKIM-Signature: v=1; a=rsa-sha256; c=relaxed/relaxed;
 d=1e100.net; s=20230601; t=1717204493; x=1717809293;
 h=references:in-reply-to:cc:to:from:subject:message-id:date
 :x-gm-message-state:from:to:cc:subject:date:message-id:reply-to;
 bh=PWlmmRNHYKp1m0lLQlYi35XOgu16MdKVQjsZy8JB6+A=;
 b=Mgm3BKe4dgp7PhzLQnr34rYfU+HIrdywSmxlKWThDiUehhBEEYA8RVKibsVYfvgQBv
 r2HL9Cy4Zfpv2HbpWIJlu1Wcrb/IjQdn2S0kzwJSUucCtnXNM+N0bME22sveH6Wl6J5z
 3dNDUNJn5oFS8k2mqQFMXPgOU84xRiBeuG0TyWo95R79JPBmcZ5yDZvUHf3nt4UYkJLr
 Q4Y74klF0Whydr+PrSJYsyVcfgkHhcfbqJVDoI32XzDRWOnP/K0mTbVB/m8o0mu6zFh7
 POI6mn39q1xdb3wplmKYaJ+qfreuQNfx2fhQhMdYRE9BJP7fy27MaBBHnubl/Ijvcwy+
 HibQ==
X-Gm-Message-State: AOJu0Yxn4VKIdKrx1voWu2E0ThkXej1mnuRXJJmZWQs8y4e34Kcwr/n5
 Q5vMD8ACEXstFkRm5PR/ND7BlwiwBhMqKgW9moQ55Ees209GHqnV+BKemSaezLRVSR7mXyO++5v
 fXuZmTrlu+C7KHrJyOBVjXcviBnPI/rcnFewhuStR
X-Google-Smtp-Source: AGHT+IE1DC0Mfg9jAACCFvCAcTfbiOqCfJzTJFVrsvEX3/J+EeDmPPReoi17MEHK04qT6fCx1cWN36tpvseb
X-Received: by 2002:a67:fa4b:0:b0:48b:aaaf:fb3e with SMTP id
 ada2fe7eead31-48bc21a917emr3573219137.25.1717204492293; 
 Fri, 31 May 2024 18:14:52 -0700 (PDT)
Received: from postal.iol.unh.edu (postal.iol.unh.edu. [132.177.123.84])
 by smtp-relay.gmail.com with ESMTPS id
 a1e0cc1a2514c-80adf10557csm92753241.3.2024.05.31.18.14.52
 (version=TLS1_2 cipher=ECDHE-ECDSA-AES128-GCM-SHA256 bits=128/128);
 Fri, 31 May 2024 18:14:52 -0700 (PDT)
X-Relaying-Domain: iol.unh.edu
Date: Fri, 31 May 2024 18:14:52 -0700 (PDT)
Message-ID: <665a760c.b00a0220.1771a7.677bSMTPIN_ADDED_MISSING@mx.google.com>
Received: from [172.21.0.7] (unknown [172.18.0.240])
 by postal.iol.unh.edu (Postfix) with ESMTP id E5531605C373;
 Fri, 31 May 2024 21:14:51 -0400 (EDT)
Subject: |SUCCESS| pw140489-140490 [PATCH] [v3,2/2] dts: clean up config type
From: dpdklab@iol.unh.edu
To: Test Report <test-report@dpdk.org>
Cc: dpdk-test-reports@iol.unh.edu
In-Reply-To: <20240530151951.388179-3-luca.vizzarro@arm.com>
References: <20240530151951.388179-3-luca.vizzarro@arm.com>
Content-Type: text/plain
X-BeenThere: test-report@dpdk.org
X-Mailman-Version: 2.1.29
Precedence: list
List-Id: automatic DPDK test reports <test-report.dpdk.org>
List-Unsubscribe: <https://mails.dpdk.org/options/test-report>,
 <mailto:test-report-request@dpdk.org?subject=unsubscribe>
List-Archive: <http://mails.dpdk.org/archives/test-report/>
List-Post: <mailto:test-report@dpdk.org>
List-Help: <mailto:test-report-request@dpdk.org?subject=help>
List-Subscribe: <https://mails.dpdk.org/listinfo/test-report>,
 <mailto:test-report-request@dpdk.org?subject=subscribe>
Errors-To: test-report-bounces@dpdk.org

Test-Label: iol-unit-amd64-testing
Test-Status: SUCCESS
http://dpdk.org/patch/140490

_Testing PASS_

Submitter: Luca Vizzarro <luca.vizzarro@arm.com>
Date: Thursday, May 30 2024 15:19:51 
DPDK git baseline: Repo:dpdk
  Branch: master
  CommitID:76cef1af8bdaeaf67a5c4ca5df3f221df994dc46

140489-140490 --> testing pass

Test environment and result as below:

+------------------+----------------+
|   Environment    | dpdk_unit_test |
+==================+================+
| CentOS Stream 8  | PASS           |
+------------------+----------------+
| CentOS Stream 9  | PASS           |
+------------------+----------------+
| Debian Bullseye  | PASS           |
+------------------+----------------+
| Debian 12        | PASS           |
+------------------+----------------+
| Fedora 37        | PASS           |
+------------------+----------------+
| Fedora 38        | PASS           |
+------------------+----------------+
| Fedora 39        | PASS           |
+------------------+----------------+
| Ubuntu 24.04     | PASS           |
+------------------+----------------+
| Ubuntu 22.04     | PASS           |
+------------------+----------------+
| RHEL8            | PASS           |
+------------------+----------------+
| openSUSE Leap 15 | PASS           |
+------------------+----------------+
| Ubuntu 20.04     | PASS           |
+------------------+----------------+


CentOS Stream 8
	Kernel: 5.4.0-167-generic
	Compiler: gcc 8.5.0 20210514

CentOS Stream 9
	Kernel: 5.4.0-167-generic
	Compiler: gcc 11.4.1 20230605

Debian Bullseye
	Kernel: 5.4.0-167-generic
	Compiler: gcc 10.2.1-6

Debian 12
	Kernel: Container Host Kernel
	Compiler: gcc 10.2.1

Fedora 37
	Kernel: Depends on container host system
	Compiler: gcc 12.3.1

Fedora 38
	Kernel: Depends on container host
	Compiler: gcc 13.2.1

Fedora 39
	Kernel: Depends on container host
	Compiler: gcc 13.2.1

Ubuntu 24.04
	Kernel: 5.4.0-167-generic
	Compiler: gcc 13.2.0

Ubuntu 22.04
	Kernel: 5.4.0-167-generic
	Compiler: gcc 11.4.0

RHEL8
	Kernel: 5.4.0-167-generic
	Compiler: gcc 8.5.0 20210514 (Red Hat 8.5.0-20)

openSUSE Leap 15
	Kernel: 5.4.0-167-generic
	Compiler: gcc 7.5.0

Ubuntu 20.04
	Kernel: 5.4.0-167-generic
	Compiler: gcc 9.4.0-1ubuntu1~20.04.1

To view detailed results, visit:
https://lab.dpdk.org/results/dashboard/patchsets/30053/

UNH-IOL DPDK Community Lab

To manage your email subscriptions, visit: 
https://lab.dpdk.org/results/dashboard/preferences/subscriptions/