From mboxrd@z Thu Jan  1 00:00:00 1970
Return-Path: <test-report-bounces@dpdk.org>
Received: from mails.dpdk.org (mails.dpdk.org [217.70.189.124])
	by inbox.dpdk.org (Postfix) with ESMTP id 2068F44126
	for <public@inbox.dpdk.org>; Sat,  1 Jun 2024 06:18:26 +0200 (CEST)
Received: from mails.dpdk.org (localhost [127.0.0.1])
	by mails.dpdk.org (Postfix) with ESMTP id 162CC427D8;
	Sat,  1 Jun 2024 06:18:26 +0200 (CEST)
Received: from mail-io1-f100.google.com (mail-io1-f100.google.com
 [209.85.166.100])
 by mails.dpdk.org (Postfix) with ESMTP id 212C140299
 for <test-report@dpdk.org>; Sat,  1 Jun 2024 06:18:25 +0200 (CEST)
Received: by mail-io1-f100.google.com with SMTP id
 ca18e2360f4ac-7e201db9f47so112802039f.3
 for <test-report@dpdk.org>; Fri, 31 May 2024 21:18:25 -0700 (PDT)
DKIM-Signature: v=1; a=rsa-sha256; c=relaxed/relaxed;
 d=iol.unh.edu; s=unh-iol; t=1717215504; x=1717820304; darn=dpdk.org;
 h=references:in-reply-to:cc:to:from:subject:message-id:date:from:to
 :cc:subject:date:message-id:reply-to;
 bh=e8W/qHnAIfU63WdnSowEOIAPzKfgtl8O++x+KSR007I=;
 b=Aj4v6BRdzUpPwMlwhDzflEaV5yt3mJ6AfXtLI0hoh/8VJtGesij3xg6AYcw0UxDVMK
 Xre6Sed2l+iBh1ouoo0TfxUEv7tBb8JWjRGHNd7RFY6YJkTx6jxVwQCZm2vS8dISc0HD
 elzi5YwqLaR34JuitQBBrILG1yCk/Q2wAXAQs=
X-Google-DKIM-Signature: v=1; a=rsa-sha256; c=relaxed/relaxed;
 d=1e100.net; s=20230601; t=1717215504; x=1717820304;
 h=references:in-reply-to:cc:to:from:subject:message-id:date
 :x-gm-message-state:from:to:cc:subject:date:message-id:reply-to;
 bh=e8W/qHnAIfU63WdnSowEOIAPzKfgtl8O++x+KSR007I=;
 b=eBVrgVCkTN3eGBqH8TOD+oX/o7LHVvlS7X+7kRXFGQnjW1xahvLhnQbRsYNirojHVo
 6KofgFvWVReKgRmb5GCM5Ps7XaF6xDUz6TfxzMqg4QfO8PcVOnxhtJ6cO897X66Loix3
 OMyYi79YTRybpQ56z2hz/S95Nn0s+Ws9aKpgyVOP8M9u4Aqos6y927MM7lP+bCWPpAzu
 flIXHg7C80xmSagLr4+0c0pe9XjwRSKFnxn2ntAS9nIqQaOE1Z2tZOLA1YrWlXmM6Omn
 o1tZoLdeIuNHs2D08Xi+6kq9Ptm2XBokfHFtCQadbFpBaa214LMLimdrk7c7nXA9l0UV
 qQ1A==
X-Gm-Message-State: AOJu0Yxygi4V+Aki2j3UAkjivFv7u9/4469Je9S4ko7cJzcLdO721j8v
 oV3Sn3O12ooe4rf9P22Naq2fIth/dVQqLdKVZ97EWC525AcjvOyGdjtZDbRpCRRNHnWS+sBM7Cp
 HJPO1cJTPaCvgFWYsBHNAp6il11jTMYEczUxx5uJGCQdxNvKclxPBpOW+
X-Google-Smtp-Source: AGHT+IGhOLFkPQ2Zdys+ws+78XdyhZTyIt7aCucVjJP0DyAJHsJF4pANyuLrinwYENZkndfg6wja93VfTrqP
X-Received: by 2002:a05:6602:164a:b0:7ea:ff9a:842f with SMTP id
 ca18e2360f4ac-7eaffea8d8bmr424895039f.12.1717215504547; 
 Fri, 31 May 2024 21:18:24 -0700 (PDT)
Received: from postal.iol.unh.edu (postal.iol.unh.edu.
 [2606:4100:3880:1234::84]) by smtp-relay.gmail.com with ESMTPS id
 ca18e2360f4ac-7eafe5dce80sm13684339f.18.2024.05.31.21.18.24
 (version=TLS1_2 cipher=ECDHE-ECDSA-AES128-GCM-SHA256 bits=128/128);
 Fri, 31 May 2024 21:18:24 -0700 (PDT)
X-Relaying-Domain: iol.unh.edu
Date: Fri, 31 May 2024 21:18:24 -0700 (PDT)
Message-ID: <665aa110.050a0220.7a30e.9999SMTPIN_ADDED_MISSING@mx.google.com>
Received: from [172.21.0.6] (unknown [172.18.0.240])
 by postal.iol.unh.edu (Postfix) with ESMTP id CD776605C373;
 Sat,  1 Jun 2024 00:18:23 -0400 (EDT)
Subject: |SUCCESS| pw140505-140506 [PATCH] [2/2] eal/riscv: add support for z
From: dpdklab@iol.unh.edu
To: Test Report <test-report@dpdk.org>
Cc: dpdk-test-reports@iol.unh.edu
In-Reply-To: <20240530171948.19763-3-daniel.gregory@bytedance.com>
References: <20240530171948.19763-3-daniel.gregory@bytedance.com>
Content-Type: text/plain
X-BeenThere: test-report@dpdk.org
X-Mailman-Version: 2.1.29
Precedence: list
List-Id: automatic DPDK test reports <test-report.dpdk.org>
List-Unsubscribe: <https://mails.dpdk.org/options/test-report>,
 <mailto:test-report-request@dpdk.org?subject=unsubscribe>
List-Archive: <http://mails.dpdk.org/archives/test-report/>
List-Post: <mailto:test-report@dpdk.org>
List-Help: <mailto:test-report-request@dpdk.org?subject=help>
List-Subscribe: <https://mails.dpdk.org/listinfo/test-report>,
 <mailto:test-report-request@dpdk.org?subject=subscribe>
Errors-To: test-report-bounces@dpdk.org

Test-Label: iol-unit-arm64-testing
Test-Status: SUCCESS
http://dpdk.org/patch/140506

_Testing PASS_

Submitter: Daniel Gregory <daniel.gregory@bytedance.com>
Date: Thursday, May 30 2024 17:19:48 
DPDK git baseline: Repo:dpdk
  Branch: master
  CommitID:76cef1af8bdaeaf67a5c4ca5df3f221df994dc46

140505-140506 --> testing pass

Test environment and result as below:

+-----------------------------+----------------+------------------------------+--------------+---------------------------+
|         Environment         | dpdk_unit_test | cryptodev_sw_snow3g_autotest | lpm_autotest | cryptodev_sw_zuc_autotest |
+=============================+================+==============================+==============+===========================+
| CentOS Stream 9 (ARM)       | PASS           | SKIPPED                      | SKIPPED      | SKIPPED                   |
+-----------------------------+----------------+------------------------------+--------------+---------------------------+
| 32-bit Ubuntu 20.04.4 (ARM) | PASS           | SKIPPED                      | SKIPPED      | SKIPPED                   |
+-----------------------------+----------------+------------------------------+--------------+---------------------------+
| Debian 12 (arm)             | PASS           | PASS                         | SKIPPED      | PASS                      |
+-----------------------------+----------------+------------------------------+--------------+---------------------------+
| Debian 11 (Buster) (ARM)    | PASS           | SKIPPED                      | SKIPPED      | SKIPPED                   |
+-----------------------------+----------------+------------------------------+--------------+---------------------------+
| Fedora 37 (ARM)             | PASS           | SKIPPED                      | SKIPPED      | SKIPPED                   |
+-----------------------------+----------------+------------------------------+--------------+---------------------------+
| Fedora 39 (ARM)             | PASS           | SKIPPED                      | SKIPPED      | SKIPPED                   |
+-----------------------------+----------------+------------------------------+--------------+---------------------------+
| Fedora 39 (ARM Clang)       | PASS           | SKIPPED                      | SKIPPED      | SKIPPED                   |
+-----------------------------+----------------+------------------------------+--------------+---------------------------+
| Ubuntu 24.04 (ARM)          | PASS           | SKIPPED                      | SKIPPED      | SKIPPED                   |
+-----------------------------+----------------+------------------------------+--------------+---------------------------+
| Ubuntu 22.04 (ARM)          | PASS           | SKIPPED                      | SKIPPED      | SKIPPED                   |
+-----------------------------+----------------+------------------------------+--------------+---------------------------+
| Fedora 38 (ARM Clang)       | PASS           | SKIPPED                      | SKIPPED      | SKIPPED                   |
+-----------------------------+----------------+------------------------------+--------------+---------------------------+
| Ubuntu 20.04 ARM SVE        | SKIPPED        | SKIPPED                      | PASS         | SKIPPED                   |
+-----------------------------+----------------+------------------------------+--------------+---------------------------+


CentOS Stream 9 (ARM)
	Kernel: Container Host Kernel
	Compiler: gcc 11.4.1

32-bit Ubuntu 20.04.4 (ARM)
	Kernel: 5.4.0-155-generic aarch64
	Compiler: gcc 9.4

Debian 12 (arm)
	Kernel: Container Host Kernel
	Compiler: gcc 12.2.0

Debian 11 (Buster) (ARM)
	Kernel: Container Host Kernel
	Compiler: gcc 10.2.1

Fedora 37 (ARM)
	Kernel: Depends on container host
	Compiler: gcc 12.3.1

Fedora 39 (ARM)
	Kernel: Depends on container host
	Compiler: gcc 13.2.1

Fedora 39 (ARM Clang)
	Kernel: Depends on container host
	Compiler: clang 17.0.6

Ubuntu 24.04 (ARM)
	Kernel: 5.4.0-167-generic
	Compiler: gcc 13.2.0

Ubuntu 22.04 (ARM)
	Kernel: Container Host Kernel
	Compiler: gcc 11.4.0

Fedora 38 (ARM Clang)
	Kernel: Depends on container host
	Compiler: clang 16.0.6

Ubuntu 20.04 ARM SVE
	Kernel: 5.4.0-167-generic
	Compiler: gcc (Ubuntu 10.5.0-1ubuntu1~20.04) 10.5.0

To view detailed results, visit:
https://lab.dpdk.org/results/dashboard/patchsets/30058/

UNH-IOL DPDK Community Lab

To manage your email subscriptions, visit: 
https://lab.dpdk.org/results/dashboard/preferences/subscriptions/