From mboxrd@z Thu Jan  1 00:00:00 1970
Return-Path: <test-report-bounces@dpdk.org>
Received: from mails.dpdk.org (mails.dpdk.org [217.70.189.124])
	by inbox.dpdk.org (Postfix) with ESMTP id 7078944126
	for <public@inbox.dpdk.org>; Sat,  1 Jun 2024 06:48:45 +0200 (CEST)
Received: from mails.dpdk.org (localhost [127.0.0.1])
	by mails.dpdk.org (Postfix) with ESMTP id 69E6E402AB;
	Sat,  1 Jun 2024 06:48:45 +0200 (CEST)
Received: from mail-pj1-f97.google.com (mail-pj1-f97.google.com
 [209.85.216.97]) by mails.dpdk.org (Postfix) with ESMTP id CF40E40299
 for <test-report@dpdk.org>; Sat,  1 Jun 2024 06:48:43 +0200 (CEST)
Received: by mail-pj1-f97.google.com with SMTP id
 98e67ed59e1d1-2c034b016e6so2188072a91.2
 for <test-report@dpdk.org>; Fri, 31 May 2024 21:48:43 -0700 (PDT)
DKIM-Signature: v=1; a=rsa-sha256; c=relaxed/relaxed;
 d=iol.unh.edu; s=unh-iol; t=1717217323; x=1717822123; darn=dpdk.org;
 h=references:in-reply-to:cc:to:from:subject:message-id:date:from:to
 :cc:subject:date:message-id:reply-to;
 bh=Sgh0Wfxhp78TLjQ/K6xMVbfemMrW5/KxWmdjjQ+sELw=;
 b=KGmAc63gT0eIgrHmBHrAWSvZx2L8hzj+Ffg7UTsv6DlNGOKAhvJJ5HAFtpRVXg7Dn2
 p7hXMhGVEuvKMAHvNsa74oZ28uhbBY3uJKiGdSF+IwT4wdq5yWiH6MzRvScXqLP3yiq/
 faXD7FzOSePOsbm9a6DboNWXycjvhhFkJag8c=
X-Google-DKIM-Signature: v=1; a=rsa-sha256; c=relaxed/relaxed;
 d=1e100.net; s=20230601; t=1717217323; x=1717822123;
 h=references:in-reply-to:cc:to:from:subject:message-id:date
 :x-gm-message-state:from:to:cc:subject:date:message-id:reply-to;
 bh=Sgh0Wfxhp78TLjQ/K6xMVbfemMrW5/KxWmdjjQ+sELw=;
 b=riLoul1cGpF2bRd0nh2giGfcHgiXNf4LVKkrplKRDz3nuEOhmCNSsQuathxKJ4PbNi
 gI5i78+oqG36Y2rrYQRV9H+8PABvpU1ozaWpbopiYgDqXYMI1cIMhwZHQ4gSIPV8K47y
 /DvRA2sKaoh7srLwQxw25vEvJ2/Y0mkDDqXnB+nDEQoy99HFJXzsjrxKJeUgH5OAqvyI
 LFpPTVAfRoyFMWJk6RmojySlHu080sIGEWV7wYp1EVi8jMfmvihg9QnO5xlToctbjgj7
 2i2Gfa0zG6brT9jCvaBUx7IMSEgCM849jxq42Q3/Kuw9A5eRc2wH0h4gS9z+dvRC9Rn6
 Uo0A==
X-Gm-Message-State: AOJu0YwadRZU4yY+AmYyMfQTFuGUu+++ZC2znT/VzsBJUIDZ6hDC0ANE
 ynWlajHmyFR0Tb1djGi6NNwL3thjjD9PR3M2BFf7d+rvwr+e65e+skkJSl6kEhDCFLrhFjNNWI0
 HUiYwrjniZ5k2rMvRyjs7ePx+NhdAQiW8lvZSLfWN
X-Google-Smtp-Source: AGHT+IEgrWbdQBQ6H7EiunpJaszwnp0p1751tDjwAUXXLPqB0HmN9MpdJPYN5e8XcJ92mjS+1f+oiaLovft/
X-Received: by 2002:a17:90b:1051:b0:2bf:d6da:ce62 with SMTP id
 98e67ed59e1d1-2c1dc5cd585mr3299770a91.43.1717217322970; 
 Fri, 31 May 2024 21:48:42 -0700 (PDT)
Received: from postal.iol.unh.edu (postal.iol.unh.edu. [132.177.123.84])
 by smtp-relay.gmail.com with ESMTPS id
 98e67ed59e1d1-2c1a77bb54asm323249a91.16.2024.05.31.21.48.42
 (version=TLS1_2 cipher=ECDHE-ECDSA-AES128-GCM-SHA256 bits=128/128);
 Fri, 31 May 2024 21:48:42 -0700 (PDT)
X-Relaying-Domain: iol.unh.edu
Date: Fri, 31 May 2024 21:48:42 -0700 (PDT)
Message-ID: <665aa82a.170a0220.2d54a.6ebaSMTPIN_ADDED_MISSING@mx.google.com>
Received: from [172.21.0.7] (unknown [172.18.0.240])
 by postal.iol.unh.edu (Postfix) with ESMTP id 26716605C373;
 Sat,  1 Jun 2024 00:48:42 -0400 (EDT)
Subject: |SUCCESS| pw140489-140490 [PATCH] [v3,2/2] dts: clean up config type
From: dpdklab@iol.unh.edu
To: Test Report <test-report@dpdk.org>
Cc: dpdk-test-reports@iol.unh.edu
In-Reply-To: <20240530151951.388179-3-luca.vizzarro@arm.com>
References: <20240530151951.388179-3-luca.vizzarro@arm.com>
Content-Type: text/plain
X-BeenThere: test-report@dpdk.org
X-Mailman-Version: 2.1.29
Precedence: list
List-Id: automatic DPDK test reports <test-report.dpdk.org>
List-Unsubscribe: <https://mails.dpdk.org/options/test-report>,
 <mailto:test-report-request@dpdk.org?subject=unsubscribe>
List-Archive: <http://mails.dpdk.org/archives/test-report/>
List-Post: <mailto:test-report@dpdk.org>
List-Help: <mailto:test-report-request@dpdk.org?subject=help>
List-Subscribe: <https://mails.dpdk.org/listinfo/test-report>,
 <mailto:test-report-request@dpdk.org?subject=subscribe>
Errors-To: test-report-bounces@dpdk.org

Test-Label: iol-unit-amd64-testing
Test-Status: SUCCESS
http://dpdk.org/patch/140490

_Testing PASS_

Submitter: Luca Vizzarro <luca.vizzarro@arm.com>
Date: Thursday, May 30 2024 15:19:51 
DPDK git baseline: Repo:dpdk
  Branch: master
  CommitID:76cef1af8bdaeaf67a5c4ca5df3f221df994dc46

140489-140490 --> testing pass

Test environment and result as below:

+---------------------+----------------+
|     Environment     | dpdk_unit_test |
+=====================+================+
| CentOS Stream 8     | PASS           |
+---------------------+----------------+
| CentOS Stream 9     | PASS           |
+---------------------+----------------+
| Debian Bullseye     | PASS           |
+---------------------+----------------+
| Debian 12           | PASS           |
+---------------------+----------------+
| Fedora 37           | PASS           |
+---------------------+----------------+
| Fedora 38           | PASS           |
+---------------------+----------------+
| Fedora 39           | PASS           |
+---------------------+----------------+
| Ubuntu 24.04        | PASS           |
+---------------------+----------------+
| Ubuntu 22.04        | PASS           |
+---------------------+----------------+
| RHEL8               | PASS           |
+---------------------+----------------+
| openSUSE Leap 15    | PASS           |
+---------------------+----------------+
| Ubuntu 20.04        | PASS           |
+---------------------+----------------+
| Windows Server 2019 | PASS           |
+---------------------+----------------+


CentOS Stream 8
	Kernel: 5.4.0-167-generic
	Compiler: gcc 8.5.0 20210514

CentOS Stream 9
	Kernel: 5.4.0-167-generic
	Compiler: gcc 11.4.1 20230605

Debian Bullseye
	Kernel: 5.4.0-167-generic
	Compiler: gcc 10.2.1-6

Debian 12
	Kernel: Container Host Kernel
	Compiler: gcc 10.2.1

Fedora 37
	Kernel: Depends on container host system
	Compiler: gcc 12.3.1

Fedora 38
	Kernel: Depends on container host
	Compiler: gcc 13.2.1

Fedora 39
	Kernel: Depends on container host
	Compiler: gcc 13.2.1

Ubuntu 24.04
	Kernel: 5.4.0-167-generic
	Compiler: gcc 13.2.0

Ubuntu 22.04
	Kernel: 5.4.0-167-generic
	Compiler: gcc 11.4.0

RHEL8
	Kernel: 5.4.0-167-generic
	Compiler: gcc 8.5.0 20210514 (Red Hat 8.5.0-20)

openSUSE Leap 15
	Kernel: 5.4.0-167-generic
	Compiler: gcc 7.5.0

Ubuntu 20.04
	Kernel: 5.4.0-167-generic
	Compiler: gcc 9.4.0-1ubuntu1~20.04.1

Windows Server 2019
	Kernel: 10.0.17763
	Compiler: clang 14.0 and gcc 8.1.0 (MinGW)

To view detailed results, visit:
https://lab.dpdk.org/results/dashboard/patchsets/30053/

UNH-IOL DPDK Community Lab

To manage your email subscriptions, visit: 
https://lab.dpdk.org/results/dashboard/preferences/subscriptions/