From mboxrd@z Thu Jan  1 00:00:00 1970
Return-Path: <test-report-bounces@dpdk.org>
Received: from mails.dpdk.org (mails.dpdk.org [217.70.189.124])
	by inbox.dpdk.org (Postfix) with ESMTP id E688444126
	for <public@inbox.dpdk.org>; Sat,  1 Jun 2024 07:21:55 +0200 (CEST)
Received: from mails.dpdk.org (localhost [127.0.0.1])
	by mails.dpdk.org (Postfix) with ESMTP id E28B8402AB;
	Sat,  1 Jun 2024 07:21:55 +0200 (CEST)
Received: from mail-io1-f97.google.com (mail-io1-f97.google.com
 [209.85.166.97]) by mails.dpdk.org (Postfix) with ESMTP id ABE0340299
 for <test-report@dpdk.org>; Sat,  1 Jun 2024 07:21:54 +0200 (CEST)
Received: by mail-io1-f97.google.com with SMTP id
 ca18e2360f4ac-7e252b2cfd8so116628339f.0
 for <test-report@dpdk.org>; Fri, 31 May 2024 22:21:54 -0700 (PDT)
DKIM-Signature: v=1; a=rsa-sha256; c=relaxed/relaxed;
 d=iol.unh.edu; s=unh-iol; t=1717219314; x=1717824114; darn=dpdk.org;
 h=references:in-reply-to:cc:to:from:subject:message-id:date:from:to
 :cc:subject:date:message-id:reply-to;
 bh=gxiDBPDt8unZyRS2+sJkJeGWhK+dqYgET0+2S0oxpvQ=;
 b=TolU7ErhnWj0VORBG7h3ni+sZNkT75mW+NQt3EGRa564Ee/imKkIT38trF+Q/SV2t8
 ua3Eko4Tsjz34oEcWX+ezutXh0OeHDivSRAAKge4KScYgD6SWiJTajfmtRBsJW5L0FEf
 lueYKPHi1htHtGtncA78bXKWc+h4KTJ31Qa/4=
X-Google-DKIM-Signature: v=1; a=rsa-sha256; c=relaxed/relaxed;
 d=1e100.net; s=20230601; t=1717219314; x=1717824114;
 h=references:in-reply-to:cc:to:from:subject:message-id:date
 :x-gm-message-state:from:to:cc:subject:date:message-id:reply-to;
 bh=gxiDBPDt8unZyRS2+sJkJeGWhK+dqYgET0+2S0oxpvQ=;
 b=c2lOw2HGDKmsjnU/X8Jz3NU0H/fGepgeetyzIuQ3smAmtxTxoaim3ZsUJGVb/nJD41
 9Ni+6aWE+PqYoPVzcXTXML+wd5sHX+Nj0ySVq2/WRYVfFI/njah9rFkO52ru1oLkR1Pj
 EP9g3a6QLDhaoCddXveT5XCYpc59JOBtFiTVFT7st/yxezIiM/vIXjEy8v9A1jjVE0k5
 /2cOefn2ZHjQfWeEUPQSxMh6PXY5FgSuD87tnEdk88D3MXz8NIOphnSb9cKOfGzhCRIl
 BEvR/RYXoTLpAeLBmMv4qalY5qEZbt33w2bwavmZadNwgYl/KbSjLlCOnzpb7Y+VyX1k
 QVlA==
X-Gm-Message-State: AOJu0YxwYa9Ju3vLADCTQZAMbZy5+pVj1U5PoAOrV3x6FX9SyQfpg3O9
 WaqdnLeylDkXcseQJqo8tspIMJ/dwHPGcF/s2MmDpU0E52XDpRFG8oC9nC2ZNUoQe2yFXO9MVxB
 YhiVDuBEHtlqeJxM8X+LLuP67xZC26zKxYnmoqbA6
X-Google-Smtp-Source: AGHT+IF0jXjZFEHLMmS078JZbypVRqaCNttkhbhqFakXsJ5aAt6l/fegzgAcL3NxpmrcUht9ClYTC1k3Pqf6
X-Received: by 2002:a05:6602:340b:b0:7e7:4c86:61d0 with SMTP id
 ca18e2360f4ac-7eaffe8cddamr484946439f.7.1717219314108; 
 Fri, 31 May 2024 22:21:54 -0700 (PDT)
Received: from postal.iol.unh.edu (postal.iol.unh.edu. [132.177.123.84])
 by smtp-relay.gmail.com with ESMTPS id
 8926c6da1cb9f-4b4890343easm136048173.49.2024.05.31.22.21.54
 (version=TLS1_2 cipher=ECDHE-ECDSA-AES128-GCM-SHA256 bits=128/128);
 Fri, 31 May 2024 22:21:54 -0700 (PDT)
X-Relaying-Domain: iol.unh.edu
Date: Fri, 31 May 2024 22:21:54 -0700 (PDT)
Message-ID: <665aaff2.020a0220.1b545.9c5bSMTPIN_ADDED_MISSING@mx.google.com>
Received: from [172.21.0.7] (unknown [172.18.0.240])
 by postal.iol.unh.edu (Postfix) with ESMTP id 926D6605C373;
 Sat,  1 Jun 2024 01:21:52 -0400 (EDT)
Subject: |SUCCESS| pw140480-140483 [PATCH] [v1,17/17] net/ntnic: add NIM modu
From: dpdklab@iol.unh.edu
To: Test Report <test-report@dpdk.org>
Cc: dpdk-test-reports@iol.unh.edu
In-Reply-To: <20240530144929.4127931-17-sil-plv@napatech.com>
References: <20240530144929.4127931-17-sil-plv@napatech.com>
Content-Type: text/plain
X-BeenThere: test-report@dpdk.org
X-Mailman-Version: 2.1.29
Precedence: list
List-Id: automatic DPDK test reports <test-report.dpdk.org>
List-Unsubscribe: <https://mails.dpdk.org/options/test-report>,
 <mailto:test-report-request@dpdk.org?subject=unsubscribe>
List-Archive: <http://mails.dpdk.org/archives/test-report/>
List-Post: <mailto:test-report@dpdk.org>
List-Help: <mailto:test-report-request@dpdk.org?subject=help>
List-Subscribe: <https://mails.dpdk.org/listinfo/test-report>,
 <mailto:test-report-request@dpdk.org?subject=subscribe>
Errors-To: test-report-bounces@dpdk.org

Test-Label: iol-abi-testing
Test-Status: SUCCESS
http://dpdk.org/patch/140483

_Testing PASS_

Submitter: Serhii Iliushyk <sil-plv@napatech.com>
Date: Thursday, May 30 2024 14:49:14 
DPDK git baseline: Repo:dpdk
  Branch: master
  CommitID:2dbb63594a9a985e2c8639b57f9fcd1468b9de97

140480-140483 --> testing pass

Test environment and result as below:

+------------------+----------+
|   Environment    | abi_test |
+==================+==========+
| Fedora 37        | PASS     |
+------------------+----------+
| CentOS Stream 8  | PASS     |
+------------------+----------+
| Debian 12        | PASS     |
+------------------+----------+
| Fedora 38        | PASS     |
+------------------+----------+
| Debian Bullseye  | PASS     |
+------------------+----------+
| Fedora 39        | PASS     |
+------------------+----------+
| CentOS Stream 9  | PASS     |
+------------------+----------+
| Ubuntu 24.04     | PASS     |
+------------------+----------+
| openSUSE Leap 15 | PASS     |
+------------------+----------+
| RHEL8            | PASS     |
+------------------+----------+
| Ubuntu 22.04     | PASS     |
+------------------+----------+


Fedora 37
	Kernel: Depends on container host system
	Compiler: gcc 12.3.1

CentOS Stream 8
	Kernel: 5.4.0-167-generic
	Compiler: gcc 8.5.0 20210514

Debian 12
	Kernel: Container Host Kernel
	Compiler: gcc 10.2.1

Fedora 38
	Kernel: Depends on container host
	Compiler: clang 16.0.6

Debian Bullseye
	Kernel: 5.4.0-167-generic
	Compiler: gcc 10.2.1-6

Fedora 39
	Kernel: Depends on container host
	Compiler: clang 17.0.6

CentOS Stream 9
	Kernel: 5.4.0-167-generic
	Compiler: gcc 11.4.1 20230605

Ubuntu 24.04
	Kernel: 5.4.0-167-generic
	Compiler: gcc 13.2.0

openSUSE Leap 15
	Kernel: 5.4.0-167-generic
	Compiler: gcc 7.5.0

RHEL8
	Kernel: 5.4.0-167-generic
	Compiler: gcc 8.5.0 20210514 (Red Hat 8.5.0-20)

Ubuntu 22.04
	Kernel: 5.4.0-167-generic
	Compiler: gcc 11.4.0

To view detailed results, visit:
https://lab.dpdk.org/results/dashboard/patchsets/30052/

UNH-IOL DPDK Community Lab

To manage your email subscriptions, visit: 
https://lab.dpdk.org/results/dashboard/preferences/subscriptions/