From mboxrd@z Thu Jan  1 00:00:00 1970
Return-Path: <test-report-bounces@dpdk.org>
Received: from mails.dpdk.org (mails.dpdk.org [217.70.189.124])
	by inbox.dpdk.org (Postfix) with ESMTP id 1BA6C44126
	for <public@inbox.dpdk.org>; Sat,  1 Jun 2024 07:53:13 +0200 (CEST)
Received: from mails.dpdk.org (localhost [127.0.0.1])
	by mails.dpdk.org (Postfix) with ESMTP id 16A40402AB;
	Sat,  1 Jun 2024 07:53:13 +0200 (CEST)
Received: from mail-il1-f227.google.com (mail-il1-f227.google.com
 [209.85.166.227])
 by mails.dpdk.org (Postfix) with ESMTP id 1E9FB40299
 for <test-report@dpdk.org>; Sat,  1 Jun 2024 07:53:11 +0200 (CEST)
Received: by mail-il1-f227.google.com with SMTP id
 e9e14a558f8ab-3737b70a74aso9614245ab.0
 for <test-report@dpdk.org>; Fri, 31 May 2024 22:53:11 -0700 (PDT)
DKIM-Signature: v=1; a=rsa-sha256; c=relaxed/relaxed;
 d=iol.unh.edu; s=unh-iol; t=1717221190; x=1717825990; darn=dpdk.org;
 h=references:in-reply-to:cc:to:from:subject:message-id:date:from:to
 :cc:subject:date:message-id:reply-to;
 bh=A5OQpdFgT4VMtDOQpb6bHDSB7G5vSY8/M6GA8r49MfQ=;
 b=Me3CHhXRPZl+ZBa6AOCSGrGrnL8w97GvO//6fZsKkWGiztJE/q4Au6/IN5yqIqKioC
 17syfYPiJld1FmDpU4WxlMjQxvLzMHAifSgVtZFgqRcGP8oVS9fRKLbjVNJTitjOvMhs
 nzEglE/TGYEk2kUuLXmLVqtM/S99+VzuDObwM=
X-Google-DKIM-Signature: v=1; a=rsa-sha256; c=relaxed/relaxed;
 d=1e100.net; s=20230601; t=1717221190; x=1717825990;
 h=references:in-reply-to:cc:to:from:subject:message-id:date
 :x-gm-message-state:from:to:cc:subject:date:message-id:reply-to;
 bh=A5OQpdFgT4VMtDOQpb6bHDSB7G5vSY8/M6GA8r49MfQ=;
 b=hrhP1DRqVnYdDDNzCSp4UTQrso9Rccjbc+gTsLHlqbR0L184Y4vzE6Ux1uzcYGNRRt
 8rHXj3Jpz2sR046j9pn0R750430U86UvuTMV1kL1GOyYgwc0ByIupBgbUCSveBxRgSOI
 JXxSrxTse7ofSMPUXkf+K12YExDOBfFiI3ZFgYMR4H+u5oUyaw7fTm0hM08A107pitjP
 s65m2JaSFZMN5X7zyBE7lQePf6YsTkyIvQbejY9Ew+g3Eqy8nNoxgEUByySSgNKo11tb
 yefga7PKFzwC/eORs3hT2/Ztp64IqJpqxzsU69dug21eC7G2c+7KCj3g+CeJ2CrypbSB
 VF8w==
X-Gm-Message-State: AOJu0YzkTNErg+5nimKGldDoeKCPgcEN46DS7OnG1VeBGrF8aJkcD/+7
 Nwx+aWR5aBaCTNxt0TymNgSA0LBxsazSb06FdlIV5V3tegPbP6Y0oj02pB3IGb163iqaDm2L0fF
 g08Th+GB0EBCTYzWsvbnVejjx8QsKme2sdYlyHm+W
X-Google-Smtp-Source: AGHT+IHwDj3UQwRf4d+RoxNeoYMBCMioUPQlbNQ9QQDLVZJwpX0aUx2+OGLuqiZZaw7JPhoxG1/JhAB9QPRP
X-Received: by 2002:a05:6e02:b29:b0:374:566f:33e6 with SMTP id
 e9e14a558f8ab-3747e26abd3mr53465585ab.10.1717221190570; 
 Fri, 31 May 2024 22:53:10 -0700 (PDT)
Received: from postal.iol.unh.edu (postal.iol.unh.edu. [132.177.123.84])
 by smtp-relay.gmail.com with ESMTPS id
 8926c6da1cb9f-4b48bb87966sm132631173.66.2024.05.31.22.53.10
 (version=TLS1_2 cipher=ECDHE-ECDSA-AES128-GCM-SHA256 bits=128/128);
 Fri, 31 May 2024 22:53:10 -0700 (PDT)
X-Relaying-Domain: iol.unh.edu
Date: Fri, 31 May 2024 22:53:10 -0700 (PDT)
Message-ID: <665ab746.050a0220.8b3dd.b065SMTPIN_ADDED_MISSING@mx.google.com>
Received: from [172.21.0.7] (unknown [172.18.0.240])
 by postal.iol.unh.edu (Postfix) with ESMTP id 17CED605C373;
 Sat,  1 Jun 2024 01:53:10 -0400 (EDT)
Subject: |SUCCESS| pw140505-140506 [PATCH] [2/2] eal/riscv: add support for z
From: dpdklab@iol.unh.edu
To: Test Report <test-report@dpdk.org>
Cc: dpdk-test-reports@iol.unh.edu
In-Reply-To: <20240530171948.19763-3-daniel.gregory@bytedance.com>
References: <20240530171948.19763-3-daniel.gregory@bytedance.com>
Content-Type: text/plain
X-BeenThere: test-report@dpdk.org
X-Mailman-Version: 2.1.29
Precedence: list
List-Id: automatic DPDK test reports <test-report.dpdk.org>
List-Unsubscribe: <https://mails.dpdk.org/options/test-report>,
 <mailto:test-report-request@dpdk.org?subject=unsubscribe>
List-Archive: <http://mails.dpdk.org/archives/test-report/>
List-Post: <mailto:test-report@dpdk.org>
List-Help: <mailto:test-report-request@dpdk.org?subject=help>
List-Subscribe: <https://mails.dpdk.org/listinfo/test-report>,
 <mailto:test-report-request@dpdk.org?subject=subscribe>
Errors-To: test-report-bounces@dpdk.org

Test-Label: iol-compile-arm64-testing
Test-Status: SUCCESS
http://dpdk.org/patch/140506

_Testing PASS_

Submitter: Daniel Gregory <daniel.gregory@bytedance.com>
Date: Thursday, May 30 2024 17:19:48 
DPDK git baseline: Repo:dpdk
  Branch: master
  CommitID:76cef1af8bdaeaf67a5c4ca5df3f221df994dc46

140505-140506 --> testing pass

Test environment and result as below:

+----------------------------------------+--------------------+
|              Environment               | dpdk_meson_compile |
+========================================+====================+
| Ubuntu 20.04 ARM SVE                   | PASS               |
+----------------------------------------+--------------------+
| Fedora 37 (ARM)                        | PASS               |
+----------------------------------------+--------------------+
| Fedora 38 (ARM)                        | PASS               |
+----------------------------------------+--------------------+
| Ubuntu 20.04 aarch32 GCC Cross Compile | PASS               |
+----------------------------------------+--------------------+
| Ubuntu 20.04 (ARM)                     | PASS               |
+----------------------------------------+--------------------+
| Debian 12 with MUSDK                   | PASS               |
+----------------------------------------+--------------------+
| Ubuntu 20.04 ARM GCC Cross Compile     | PASS               |
+----------------------------------------+--------------------+
| Ubuntu 20.04 ARM Clang Cross Compile   | PASS               |
+----------------------------------------+--------------------+
| Fedora 39 (ARM Clang)                  | PASS               |
+----------------------------------------+--------------------+
| Debian 11 (Buster) (ARM)               | PASS               |
+----------------------------------------+--------------------+
| Fedora 39 (ARM)                        | PASS               |
+----------------------------------------+--------------------+
| Ubuntu 24.04 (ARM)                     | PASS               |
+----------------------------------------+--------------------+
| Fedora 38 (ARM Clang)                  | PASS               |
+----------------------------------------+--------------------+
| Ubuntu 22.04 (ARM)                     | PASS               |
+----------------------------------------+--------------------+


Ubuntu 20.04 ARM SVE
	Kernel: 5.4.0-167-generic
	Compiler: gcc (Ubuntu 10.5.0-1ubuntu1~20.04) 10.5.0

Fedora 37 (ARM)
	Kernel: Depends on container host
	Compiler: gcc 12.3.1

Fedora 38 (ARM)
	Kernel: Depends on container host
	Compiler: gcc 13.2.1

Ubuntu 20.04 aarch32 GCC Cross Compile
	Kernel: 5.4.0-167-generic
	Compiler: gcc 9.4.0

Ubuntu 20.04 (ARM)
	Kernel: Container Host Kernel
	Compiler: gcc 9.4.0

Debian 12 with MUSDK
	Kernel: Container Host Kernel
	Compiler: gcc 12.2.0

Ubuntu 20.04 ARM GCC Cross Compile
	Kernel: 5.4.0-167-generic
	Compiler: aarch64-linux-gnu-gcc (Ubuntu 9.4.0-1ubuntu1~20.04.2) 9.4.0

Ubuntu 20.04 ARM Clang Cross Compile
	Kernel: 5.4.0-72-generic
	Compiler: clang 10.0.0-4ubuntu1

Fedora 39 (ARM Clang)
	Kernel: Depends on container host
	Compiler: clang 17.0.6

Debian 11 (Buster) (ARM)
	Kernel: Container Host Kernel
	Compiler: gcc 10.2.1

Fedora 39 (ARM)
	Kernel: Depends on container host
	Compiler: gcc 13.2.1

Ubuntu 24.04 (ARM)
	Kernel: 5.4.0-167-generic
	Compiler: gcc 13.2.0

Fedora 38 (ARM Clang)
	Kernel: Depends on container host
	Compiler: clang 16.0.6

Ubuntu 22.04 (ARM)
	Kernel: Container Host Kernel
	Compiler: gcc 11.4.0

To view detailed results, visit:
https://lab.dpdk.org/results/dashboard/patchsets/30058/

UNH-IOL DPDK Community Lab

To manage your email subscriptions, visit: 
https://lab.dpdk.org/results/dashboard/preferences/subscriptions/