From mboxrd@z Thu Jan  1 00:00:00 1970
Return-Path: <test-report-bounces@dpdk.org>
Received: from mails.dpdk.org (mails.dpdk.org [217.70.189.124])
	by inbox.dpdk.org (Postfix) with ESMTP id 49C9744126
	for <public@inbox.dpdk.org>; Sat,  1 Jun 2024 07:53:34 +0200 (CEST)
Received: from mails.dpdk.org (localhost [127.0.0.1])
	by mails.dpdk.org (Postfix) with ESMTP id 449A5427D8;
	Sat,  1 Jun 2024 07:53:34 +0200 (CEST)
Received: from mail-il1-f227.google.com (mail-il1-f227.google.com
 [209.85.166.227])
 by mails.dpdk.org (Postfix) with ESMTP id 9B921402AB
 for <test-report@dpdk.org>; Sat,  1 Jun 2024 07:53:32 +0200 (CEST)
Received: by mail-il1-f227.google.com with SMTP id
 e9e14a558f8ab-3748ca2a21eso5413575ab.0
 for <test-report@dpdk.org>; Fri, 31 May 2024 22:53:32 -0700 (PDT)
DKIM-Signature: v=1; a=rsa-sha256; c=relaxed/relaxed;
 d=iol.unh.edu; s=unh-iol; t=1717221212; x=1717826012; darn=dpdk.org;
 h=references:in-reply-to:cc:to:from:subject:message-id:date:from:to
 :cc:subject:date:message-id:reply-to;
 bh=gSyw7vegxbysGm8UHtKCdsA4Dd73o8aKpiCCD1+Kd7U=;
 b=fm2H95NsCA+jnXsLKvrRSb05lIA3oOyYBaXKtjlTmW0Hfk40XO6h8lzUs35f/Qspha
 FM9xUS2yXQ4PNChvod7CwDKnCc6oQUYkezpEinqqfLiLh7OjlCw/j+bet8dU6R58MOg8
 CGp6CUDgGs32NvTXYMMoHNKW1o2evGBMF0O40=
X-Google-DKIM-Signature: v=1; a=rsa-sha256; c=relaxed/relaxed;
 d=1e100.net; s=20230601; t=1717221212; x=1717826012;
 h=references:in-reply-to:cc:to:from:subject:message-id:date
 :x-gm-message-state:from:to:cc:subject:date:message-id:reply-to;
 bh=gSyw7vegxbysGm8UHtKCdsA4Dd73o8aKpiCCD1+Kd7U=;
 b=RqeRQNx7knoFXgQRrVA1qBxK1UP3V4eS47XpnEPYfHKwcDjekUCaVXUV5/J0/tLVtI
 gTFTnhIcNncz8bYpmDPk3A6WYOvimMfd/HWUeo98nEYlHHRqC4PWbnJrVozAkAu/rCLy
 lFOzXLmjUNHdx97jEAPr3WgsvdWFXowq+ZxsD24vXX1FvGicDjkyTFjrQKgOpjXjjOE5
 /XmKadE7Fi11NSDhKUAuEZtCJijemlKnpw04/n4FHP/vR07PHXvS/oe9kwWXvH/I5sZm
 jNyvro21BmDvTTFxY5bsfu2UINK8b8MRRiui+/mfyNe7tCU8jPMrh+YO8XsqI/WX1FNB
 EAJg==
X-Gm-Message-State: AOJu0YwA9XeICJuMC65Jb0RFM/V0DPg148BbWOO1bwdJdJ1RUptAXbKG
 8JTn8E3IvwPgdouNzU2j+jPu0ECZ8EVdQKyL5RzLN7cZDolzrDw763E1mCxBcPyaFfnnf6J+cjD
 eUVUMe+RYCn/s2vi2yY0N6w5TrC1TBEM3AWGRfe7FV2NVuOGIRB9Dp/sI
X-Google-Smtp-Source: AGHT+IE7gj8Qn9e73yxnLOGTD3nl+byKhiL5dfKHv48A/WL6hH/12JcEezBgnQVG33lpGsnGU8NmZkLf7Kz2
X-Received: by 2002:a05:6e02:1aa3:b0:374:88dc:2434 with SMTP id
 e9e14a558f8ab-3748b981295mr50502925ab.2.1717221212068; 
 Fri, 31 May 2024 22:53:32 -0700 (PDT)
Received: from postal.iol.unh.edu (postal.iol.unh.edu.
 [2606:4100:3880:1234::84]) by smtp-relay.gmail.com with ESMTPS id
 e9e14a558f8ab-3748a1f0976sm1064025ab.24.2024.05.31.22.53.31
 (version=TLS1_2 cipher=ECDHE-ECDSA-AES128-GCM-SHA256 bits=128/128);
 Fri, 31 May 2024 22:53:32 -0700 (PDT)
X-Relaying-Domain: iol.unh.edu
Date: Fri, 31 May 2024 22:53:32 -0700 (PDT)
Message-ID: <665ab75c.050a0220.16191a.78cfSMTPIN_ADDED_MISSING@mx.google.com>
Received: from [172.21.0.7] (unknown [172.18.0.240])
 by postal.iol.unh.edu (Postfix) with ESMTP id 7BC50605C373;
 Sat,  1 Jun 2024 01:53:31 -0400 (EDT)
Subject: |SUCCESS| pw140433-140437 [PATCH] [v13,6/6] test: add unit test for 
From: dpdklab@iol.unh.edu
To: Test Report <test-report@dpdk.org>
Cc: dpdk-test-reports@iol.unh.edu
In-Reply-To: <20240530094042.1960212-7-paul.szczepanek@arm.com>
References: <20240530094042.1960212-7-paul.szczepanek@arm.com>
Content-Type: text/plain
X-BeenThere: test-report@dpdk.org
X-Mailman-Version: 2.1.29
Precedence: list
List-Id: automatic DPDK test reports <test-report.dpdk.org>
List-Unsubscribe: <https://mails.dpdk.org/options/test-report>,
 <mailto:test-report-request@dpdk.org?subject=unsubscribe>
List-Archive: <http://mails.dpdk.org/archives/test-report/>
List-Post: <mailto:test-report@dpdk.org>
List-Help: <mailto:test-report-request@dpdk.org?subject=help>
List-Subscribe: <https://mails.dpdk.org/listinfo/test-report>,
 <mailto:test-report-request@dpdk.org?subject=subscribe>
Errors-To: test-report-bounces@dpdk.org

Test-Label: iol-abi-testing
Test-Status: SUCCESS
http://dpdk.org/patch/140437

_Testing PASS_

Submitter: Paul Szczepanek <paul.szczepanek@arm.com>
Date: Thursday, May 30 2024 09:40:42 
DPDK git baseline: Repo:dpdk
  Branch: master
  CommitID:76cef1af8bdaeaf67a5c4ca5df3f221df994dc46

140433-140437 --> testing pass

Test environment and result as below:

+------------------+----------+
|   Environment    | abi_test |
+==================+==========+
| Fedora 38        | PASS     |
+------------------+----------+
| Fedora 39        | PASS     |
+------------------+----------+
| RHEL8            | PASS     |
+------------------+----------+
| CentOS Stream 8  | PASS     |
+------------------+----------+
| Debian Bullseye  | PASS     |
+------------------+----------+
| CentOS Stream 9  | PASS     |
+------------------+----------+
| Ubuntu 24.04     | PASS     |
+------------------+----------+
| openSUSE Leap 15 | PASS     |
+------------------+----------+
| Debian 12        | PASS     |
+------------------+----------+
| Fedora 37        | PASS     |
+------------------+----------+
| Ubuntu 22.04     | PASS     |
+------------------+----------+


Fedora 38
	Kernel: Depends on container host
	Compiler: clang 16.0.6

Fedora 39
	Kernel: Depends on container host
	Compiler: clang 17.0.6

RHEL8
	Kernel: 5.4.0-167-generic
	Compiler: gcc 8.5.0 20210514 (Red Hat 8.5.0-20)

CentOS Stream 8
	Kernel: 5.4.0-167-generic
	Compiler: gcc 8.5.0 20210514

Debian Bullseye
	Kernel: 5.4.0-167-generic
	Compiler: gcc 10.2.1-6

CentOS Stream 9
	Kernel: 5.4.0-167-generic
	Compiler: gcc 11.4.1 20230605

Ubuntu 24.04
	Kernel: 5.4.0-167-generic
	Compiler: gcc 13.2.0

openSUSE Leap 15
	Kernel: 5.4.0-167-generic
	Compiler: gcc 7.5.0

Debian 12
	Kernel: Container Host Kernel
	Compiler: gcc 10.2.1

Fedora 37
	Kernel: Depends on container host system
	Compiler: gcc 12.3.1

Ubuntu 22.04
	Kernel: 5.4.0-167-generic
	Compiler: gcc 11.4.0

To view detailed results, visit:
https://lab.dpdk.org/results/dashboard/patchsets/30048/

UNH-IOL DPDK Community Lab

To manage your email subscriptions, visit: 
https://lab.dpdk.org/results/dashboard/preferences/subscriptions/